BEGIN:VCALENDAR
VERSION:2.0
PRODID:-//St. John&#039;s Episcopal Church - ECPv6.15.14//NONSGML v1.0//EN
CALSCALE:GREGORIAN
METHOD:PUBLISH
X-WR-CALNAME:St. John&#039;s Episcopal Church
X-ORIGINAL-URL:https://stjohnscalendar.com
X-WR-CALDESC:Events for St. John&#039;s Episcopal Church
REFRESH-INTERVAL;VALUE=DURATION:PT1H
X-Robots-Tag:noindex
X-PUBLISHED-TTL:PT1H
BEGIN:VTIMEZONE
TZID:America/New_York
BEGIN:DAYLIGHT
TZOFFSETFROM:-0500
TZOFFSETTO:-0400
TZNAME:EDT
DTSTART:20240310T070000
END:DAYLIGHT
BEGIN:STANDARD
TZOFFSETFROM:-0400
TZOFFSETTO:-0500
TZNAME:EST
DTSTART:20241103T060000
END:STANDARD
BEGIN:DAYLIGHT
TZOFFSETFROM:-0500
TZOFFSETTO:-0400
TZNAME:EDT
DTSTART:20250309T070000
END:DAYLIGHT
BEGIN:STANDARD
TZOFFSETFROM:-0400
TZOFFSETTO:-0500
TZNAME:EST
DTSTART:20251102T060000
END:STANDARD
BEGIN:DAYLIGHT
TZOFFSETFROM:-0500
TZOFFSETTO:-0400
TZNAME:EDT
DTSTART:20260308T070000
END:DAYLIGHT
BEGIN:STANDARD
TZOFFSETFROM:-0400
TZOFFSETTO:-0500
TZNAME:EST
DTSTART:20261101T060000
END:STANDARD
END:VTIMEZONE
BEGIN:VEVENT
DTSTART;TZID=America/New_York:20250914T113000
DTEND;TZID=America/New_York:20250914T121500
DTSTAMP:20260424T221415
CREATED:20250811T162112Z
LAST-MODIFIED:20250811T162112Z
UID:10025206-1757849400-1757852100@stjohnscalendar.com
SUMMARY:Youth Sunday School
DESCRIPTION:High schoolers are invited to join us in the Youth Room\, 11:30 AM – 12:30 PM on Sundays. \nHigh school Sunday programing this year revolves around loving God with our whole heart\, soul\, mind\, and strength. Students will rotate through four themes each month with the Wellness Compass\, the Prayer Book\, Global Philanthropy Leaders (and other special topics)\, and a movement-based class. Students will also have the option to use the time for personal reflection or preparation on any or all Sundays. \nWe hope you join us for this Sacred Space on Sundays. \nAny questions\, please contact Tyree Jordan.
URL:https://stjohnscalendar.com/event/youth-sunday-school/2025-09-14/
LOCATION:Youth Room (Downstairs)
CATEGORIES:Youth
ORGANIZER;CN="Tyree Jordan":MAILTO:tyree@saint-john.org.
END:VEVENT
BEGIN:VEVENT
DTSTART;TZID=America/New_York:20250907T113000
DTEND;TZID=America/New_York:20250907T121500
DTSTAMP:20260424T221415
CREATED:20250811T162112Z
LAST-MODIFIED:20250811T162112Z
UID:10025205-1757244600-1757247300@stjohnscalendar.com
SUMMARY:Youth Sunday School
DESCRIPTION:High schoolers are invited to join us in the Youth Room\, 11:30 AM – 12:30 PM on Sundays. \nHigh school Sunday programing this year revolves around loving God with our whole heart\, soul\, mind\, and strength. Students will rotate through four themes each month with the Wellness Compass\, the Prayer Book\, Global Philanthropy Leaders (and other special topics)\, and a movement-based class. Students will also have the option to use the time for personal reflection or preparation on any or all Sundays. \nWe hope you join us for this Sacred Space on Sundays. \nAny questions\, please contact Tyree Jordan.
URL:https://stjohnscalendar.com/event/youth-sunday-school/2025-09-07/
LOCATION:Youth Room (Downstairs)
CATEGORIES:Youth
ORGANIZER;CN="Tyree Jordan":MAILTO:tyree@saint-john.org.
END:VEVENT
BEGIN:VEVENT
DTSTART;TZID=America/New_York:20250427T113000
DTEND;TZID=America/New_York:20250427T123000
DTSTAMP:20260424T221415
CREATED:20241217T211120Z
LAST-MODIFIED:20250307T163033Z
UID:10019639-1745753400-1745757000@stjohnscalendar.com
SUMMARY:Middle School Sunday School
DESCRIPTION:Middle-schoolers (6-8 grade) are invited to join us from 11:30 AM–12:30 PM for weekly Christian formation in the Youth Room on the lower level.  \nMiddle school students will become StoryMakers to express their questions\, discoveries\, and creativity as they explore the deep theological truths and faith in God. They will walk through the Signs of Grace—baptism and Communion—which contain the tangible means they can hang on to when all seems lost\, and the Lord’s Prayer\, which assures us we have been given the title of heirs—adopted into God’s kingdom and claimed as his own. \nFamilies are asked to complete Sunday School registration form online for the year using the link below. Any questions\, please contact Tyree Jordan\, Director of Youth & Families. \nClick here to register.
URL:https://stjohnscalendar.com/event/middle-school-sunday-school-2/2025-04-27/
LOCATION:Youth Room (Downstairs)
CATEGORIES:Youth
ORGANIZER;CN="Tyree Jordan":MAILTO:tyree@saint-john.org.
END:VEVENT
END:VCALENDAR