BEGIN:VCALENDAR
VERSION:2.0
PRODID:-//St. John&#039;s Episcopal Church - ECPv6.15.14//NONSGML v1.0//EN
CALSCALE:GREGORIAN
METHOD:PUBLISH
X-WR-CALNAME:St. John&#039;s Episcopal Church
X-ORIGINAL-URL:https://stjohnscalendar.com
X-WR-CALDESC:Events for St. John&#039;s Episcopal Church
REFRESH-INTERVAL;VALUE=DURATION:PT1H
X-Robots-Tag:noindex
X-PUBLISHED-TTL:PT1H
BEGIN:VTIMEZONE
TZID:America/New_York
BEGIN:DAYLIGHT
TZOFFSETFROM:-0500
TZOFFSETTO:-0400
TZNAME:EDT
DTSTART:20250309T070000
END:DAYLIGHT
BEGIN:STANDARD
TZOFFSETFROM:-0400
TZOFFSETTO:-0500
TZNAME:EST
DTSTART:20251102T060000
END:STANDARD
BEGIN:DAYLIGHT
TZOFFSETFROM:-0500
TZOFFSETTO:-0400
TZNAME:EDT
DTSTART:20260308T070000
END:DAYLIGHT
BEGIN:STANDARD
TZOFFSETFROM:-0400
TZOFFSETTO:-0500
TZNAME:EST
DTSTART:20261101T060000
END:STANDARD
BEGIN:DAYLIGHT
TZOFFSETFROM:-0500
TZOFFSETTO:-0400
TZNAME:EDT
DTSTART:20270314T070000
END:DAYLIGHT
BEGIN:STANDARD
TZOFFSETFROM:-0400
TZOFFSETTO:-0500
TZNAME:EST
DTSTART:20271107T060000
END:STANDARD
END:VTIMEZONE
BEGIN:VEVENT
DTSTART;TZID=America/New_York:20260207T110000
DTEND;TZID=America/New_York:20260207T133000
DTSTAMP:20260420T002751
CREATED:20260130T202655Z
LAST-MODIFIED:20260203T161255Z
UID:10029640-1770462000-1770471000@stjohnscalendar.com
SUMMARY:The Ordination of Jason Flack and Melanie Salsgiver
DESCRIPTION:The Diocese of Florida\, Grace Mission\, Holy Comforter\, and St. John’s joyfully invite you to the Service of Ordination\, where The Right Reverend William H. Stokes\, Bishop Assisting\, will ordain Jason Flack and Melanie Salsgiver. All are warmly welcome to attend the service and the reception that follows. \nIf you cannot attend in person\, please watch the livestream below on our YouTube Channel.
URL:https://stjohnscalendar.com/event/ordinationservice2026/
LOCATION:Sanctuary & Alfriend Hall
CATEGORIES:Special Occasions,Worship
ATTACH;FMTTYPE=image/jpeg:https://stjohnscalendar.com/wp-content/uploads/2026/01/Ordination-2026_small.jpg
END:VEVENT
END:VCALENDAR