BEGIN:VCALENDAR
VERSION:2.0
PRODID:-//St. John&#039;s Episcopal Church - ECPv6.15.14//NONSGML v1.0//EN
CALSCALE:GREGORIAN
METHOD:PUBLISH
X-WR-CALNAME:St. John&#039;s Episcopal Church
X-ORIGINAL-URL:https://stjohnscalendar.com
X-WR-CALDESC:Events for St. John&#039;s Episcopal Church
REFRESH-INTERVAL;VALUE=DURATION:PT1H
X-Robots-Tag:noindex
X-PUBLISHED-TTL:PT1H
BEGIN:VTIMEZONE
TZID:America/New_York
BEGIN:DAYLIGHT
TZOFFSETFROM:-0500
TZOFFSETTO:-0400
TZNAME:EDT
DTSTART:20240310T070000
END:DAYLIGHT
BEGIN:STANDARD
TZOFFSETFROM:-0400
TZOFFSETTO:-0500
TZNAME:EST
DTSTART:20241103T060000
END:STANDARD
BEGIN:DAYLIGHT
TZOFFSETFROM:-0500
TZOFFSETTO:-0400
TZNAME:EDT
DTSTART:20250309T070000
END:DAYLIGHT
BEGIN:STANDARD
TZOFFSETFROM:-0400
TZOFFSETTO:-0500
TZNAME:EST
DTSTART:20251102T060000
END:STANDARD
BEGIN:DAYLIGHT
TZOFFSETFROM:-0500
TZOFFSETTO:-0400
TZNAME:EDT
DTSTART:20260308T070000
END:DAYLIGHT
BEGIN:STANDARD
TZOFFSETFROM:-0400
TZOFFSETTO:-0500
TZNAME:EST
DTSTART:20261101T060000
END:STANDARD
END:VTIMEZONE
BEGIN:VEVENT
DTSTART;TZID=America/New_York:20250527T120000
DTEND;TZID=America/New_York:20250527T123000
DTSTAMP:20260424T194807
CREATED:20250413T130242Z
LAST-MODIFIED:20250414T153839Z
UID:10022073-1748347200-1748349000@stjohnscalendar.com
SUMMARY:Tower Bell Tuesdays
DESCRIPTION:On Tuesdays in May\, members of the St. John’s Tower Bell Guild will be performing bell concerts and providing tours of our historic bell tower. Come enjoy the beautiful sounds of St. John’s 14 hand-rung bells while eating lunch in the garden. Outdoor seating is available in Eve’s Garden\, or one of St. John’s many other outdoor garden spaces. \nBells will be played from noon-12:30 p.m. Informal tours will follow. Simply make your way to the choir loft following each Tuesday’s concert.
URL:https://stjohnscalendar.com/event/tower-bell-tuesdays-2/2025-05-27/
LOCATION:Eve’s Garden
CATEGORIES:Music,Parish Life
ATTACH;FMTTYPE=image/png:https://stjohnscalendar.com/wp-content/uploads/2025/04/Tower-Bell-Tuesdays-OptiSigns-1.png
ORGANIZER;CN="Betsy Calhoun":MAILTO:betsy@saint-john.org
END:VEVENT
BEGIN:VEVENT
DTSTART;TZID=America/New_York:20250520T120000
DTEND;TZID=America/New_York:20250520T123000
DTSTAMP:20260424T194807
CREATED:20250413T130242Z
LAST-MODIFIED:20250414T153839Z
UID:10022072-1747742400-1747744200@stjohnscalendar.com
SUMMARY:Tower Bell Tuesdays
DESCRIPTION:On Tuesdays in May\, members of the St. John’s Tower Bell Guild will be performing bell concerts and providing tours of our historic bell tower. Come enjoy the beautiful sounds of St. John’s 14 hand-rung bells while eating lunch in the garden. Outdoor seating is available in Eve’s Garden\, or one of St. John’s many other outdoor garden spaces. \nBells will be played from noon-12:30 p.m. Informal tours will follow. Simply make your way to the choir loft following each Tuesday’s concert.
URL:https://stjohnscalendar.com/event/tower-bell-tuesdays-2/2025-05-20/
LOCATION:Eve’s Garden
CATEGORIES:Music,Parish Life
ATTACH;FMTTYPE=image/png:https://stjohnscalendar.com/wp-content/uploads/2025/04/Tower-Bell-Tuesdays-OptiSigns-1.png
ORGANIZER;CN="Betsy Calhoun":MAILTO:betsy@saint-john.org
END:VEVENT
BEGIN:VEVENT
DTSTART;TZID=America/New_York:20250513T120000
DTEND;TZID=America/New_York:20250513T123000
DTSTAMP:20260424T194807
CREATED:20250413T130242Z
LAST-MODIFIED:20250414T153839Z
UID:10022071-1747137600-1747139400@stjohnscalendar.com
SUMMARY:Tower Bell Tuesdays
DESCRIPTION:On Tuesdays in May\, members of the St. John’s Tower Bell Guild will be performing bell concerts and providing tours of our historic bell tower. Come enjoy the beautiful sounds of St. John’s 14 hand-rung bells while eating lunch in the garden. Outdoor seating is available in Eve’s Garden\, or one of St. John’s many other outdoor garden spaces. \nBells will be played from noon-12:30 p.m. Informal tours will follow. Simply make your way to the choir loft following each Tuesday’s concert.
URL:https://stjohnscalendar.com/event/tower-bell-tuesdays-2/2025-05-13/
LOCATION:Eve’s Garden
CATEGORIES:Music,Parish Life
ATTACH;FMTTYPE=image/png:https://stjohnscalendar.com/wp-content/uploads/2025/04/Tower-Bell-Tuesdays-OptiSigns-1.png
ORGANIZER;CN="Betsy Calhoun":MAILTO:betsy@saint-john.org
END:VEVENT
BEGIN:VEVENT
DTSTART;TZID=America/New_York:20250506T120000
DTEND;TZID=America/New_York:20250506T123000
DTSTAMP:20260424T194807
CREATED:20250413T130242Z
LAST-MODIFIED:20250414T153839Z
UID:10022070-1746532800-1746534600@stjohnscalendar.com
SUMMARY:Tower Bell Tuesdays
DESCRIPTION:On Tuesdays in May\, members of the St. John’s Tower Bell Guild will be performing bell concerts and providing tours of our historic bell tower. Come enjoy the beautiful sounds of St. John’s 14 hand-rung bells while eating lunch in the garden. Outdoor seating is available in Eve’s Garden\, or one of St. John’s many other outdoor garden spaces. \nBells will be played from noon-12:30 p.m. Informal tours will follow. Simply make your way to the choir loft following each Tuesday’s concert.
URL:https://stjohnscalendar.com/event/tower-bell-tuesdays-2/2025-05-06/
LOCATION:Eve’s Garden
CATEGORIES:Music,Parish Life
ATTACH;FMTTYPE=image/png:https://stjohnscalendar.com/wp-content/uploads/2025/04/Tower-Bell-Tuesdays-OptiSigns-1.png
ORGANIZER;CN="Betsy Calhoun":MAILTO:betsy@saint-john.org
END:VEVENT
END:VCALENDAR