BEGIN:VCALENDAR
VERSION:2.0
PRODID:-//St. John&#039;s Episcopal Church - ECPv6.15.14//NONSGML v1.0//EN
CALSCALE:GREGORIAN
METHOD:PUBLISH
X-WR-CALNAME:St. John&#039;s Episcopal Church
X-ORIGINAL-URL:https://stjohnscalendar.com
X-WR-CALDESC:Events for St. John&#039;s Episcopal Church
REFRESH-INTERVAL;VALUE=DURATION:PT1H
X-Robots-Tag:noindex
X-PUBLISHED-TTL:PT1H
BEGIN:VTIMEZONE
TZID:America/New_York
BEGIN:DAYLIGHT
TZOFFSETFROM:-0500
TZOFFSETTO:-0400
TZNAME:EDT
DTSTART:20250309T070000
END:DAYLIGHT
BEGIN:STANDARD
TZOFFSETFROM:-0400
TZOFFSETTO:-0500
TZNAME:EST
DTSTART:20251102T060000
END:STANDARD
BEGIN:DAYLIGHT
TZOFFSETFROM:-0500
TZOFFSETTO:-0400
TZNAME:EDT
DTSTART:20260308T070000
END:DAYLIGHT
BEGIN:STANDARD
TZOFFSETFROM:-0400
TZOFFSETTO:-0500
TZNAME:EST
DTSTART:20261101T060000
END:STANDARD
BEGIN:DAYLIGHT
TZOFFSETFROM:-0500
TZOFFSETTO:-0400
TZNAME:EDT
DTSTART:20270314T070000
END:DAYLIGHT
BEGIN:STANDARD
TZOFFSETFROM:-0400
TZOFFSETTO:-0500
TZNAME:EST
DTSTART:20271107T060000
END:STANDARD
END:VTIMEZONE
BEGIN:VEVENT
DTSTART;TZID=America/New_York:20260426T160000
DTEND;TZID=America/New_York:20260426T170000
DTSTAMP:20260424T163617
CREATED:20250701T150317Z
LAST-MODIFIED:20260408T152952Z
UID:10024277-1777219200-1777222800@stjohnscalendar.com
SUMMARY:Club 45: Calling all 4th & 5th graders!
DESCRIPTION:Join us for the last Club 45 of the school year and let’s celebrate spring! We’ll arrange flowers and celebrate a great year together. Bring your friends! \nClub 45 is a monthly gathering for 4th and 5th graders. We meet on the 4th or 5th Sunday of the month to learn about God’s love for us and our neighbors! The theme varies monthly. \nCheck out the full 2025-26 Schedule below: \n\nApril 26: Celebrating Spring
URL:https://stjohnscalendar.com/event/club45april26/
LOCATION:Eve’s Garden
CATEGORIES:Children
ATTACH;FMTTYPE=image/png:https://stjohnscalendar.com/wp-content/uploads/2025/07/April-26_2.png
ORGANIZER;CN="Tyree Jordan":MAILTO:tyree@saint-john.org.
END:VEVENT
BEGIN:VEVENT
DTSTART;TZID=America/New_York:20260428T120000
DTEND;TZID=America/New_York:20260428T123000
DTSTAMP:20260424T163617
CREATED:20250709T172853Z
LAST-MODIFIED:20260409T163545Z
UID:10024438-1777377600-1777379400@stjohnscalendar.com
SUMMARY:Tower Bell Tuesdays
DESCRIPTION:On Tuesdays in April\, members of the St. John’s Tower Bell Guild will be performing bell concerts and providing tours of our historic bell tower. Come enjoy the beautiful sounds of St. John’s 14 hand-rung bells while eating lunch in the garden. Outdoor seating is available in Eve’s Garden\, or one of St. John’s many other outdoor garden spaces. \nBells will be played from noon-12:30 p.m. Informal tours will follow. Simply make your way to the choir loft following each Tuesday’s concert.
URL:https://stjohnscalendar.com/event/tower-bell-tuesdays-4/2026-04-28/
LOCATION:Eve’s Garden
CATEGORIES:Music,Parish Life
ATTACH;FMTTYPE=image/png:https://stjohnscalendar.com/wp-content/uploads/2025/07/Tower-Bell-Tuesdays-OptiSigns-2.png
END:VEVENT
END:VCALENDAR