BEGIN:VCALENDAR
VERSION:2.0
PRODID:-//St. John&#039;s Episcopal Church - ECPv6.15.14//NONSGML v1.0//EN
CALSCALE:GREGORIAN
METHOD:PUBLISH
X-WR-CALNAME:St. John&#039;s Episcopal Church
X-ORIGINAL-URL:https://stjohnscalendar.com
X-WR-CALDESC:Events for St. John&#039;s Episcopal Church
REFRESH-INTERVAL;VALUE=DURATION:PT1H
X-Robots-Tag:noindex
X-PUBLISHED-TTL:PT1H
BEGIN:VTIMEZONE
TZID:America/New_York
BEGIN:DAYLIGHT
TZOFFSETFROM:-0500
TZOFFSETTO:-0400
TZNAME:EDT
DTSTART:20240310T070000
END:DAYLIGHT
BEGIN:STANDARD
TZOFFSETFROM:-0400
TZOFFSETTO:-0500
TZNAME:EST
DTSTART:20241103T060000
END:STANDARD
BEGIN:DAYLIGHT
TZOFFSETFROM:-0500
TZOFFSETTO:-0400
TZNAME:EDT
DTSTART:20250309T070000
END:DAYLIGHT
BEGIN:STANDARD
TZOFFSETFROM:-0400
TZOFFSETTO:-0500
TZNAME:EST
DTSTART:20251102T060000
END:STANDARD
BEGIN:DAYLIGHT
TZOFFSETFROM:-0500
TZOFFSETTO:-0400
TZNAME:EDT
DTSTART:20260308T070000
END:DAYLIGHT
BEGIN:STANDARD
TZOFFSETFROM:-0400
TZOFFSETTO:-0500
TZNAME:EST
DTSTART:20261101T060000
END:STANDARD
END:VTIMEZONE
BEGIN:VEVENT
DTSTART;TZID=America/New_York:20251113T114500
DTEND;TZID=America/New_York:20251113T131500
DTSTAMP:20260425T080835
CREATED:20250923T164926Z
LAST-MODIFIED:20250923T164926Z
UID:10027258-1763034300-1763039700@stjohnscalendar.com
SUMMARY:Small Group for People with Aging Parents
DESCRIPTION:This meeting will be held in the Conference Room on the 2nd Floor (formerly known as Mother Leslie’s office).
URL:https://stjohnscalendar.com/event/small-group-for-people-with-aging-parents/2025-11-13/
LOCATION:Conference Room
END:VEVENT
BEGIN:VEVENT
DTSTART;TZID=America/New_York:20251106T114500
DTEND;TZID=America/New_York:20251106T131500
DTSTAMP:20260425T080835
CREATED:20250923T164926Z
LAST-MODIFIED:20250923T164926Z
UID:10027257-1762429500-1762434900@stjohnscalendar.com
SUMMARY:Small Group for People with Aging Parents
DESCRIPTION:This meeting will be held in the Conference Room on the 2nd Floor (formerly known as Mother Leslie’s office).
URL:https://stjohnscalendar.com/event/small-group-for-people-with-aging-parents/2025-11-06/
LOCATION:Conference Room
END:VEVENT
BEGIN:VEVENT
DTSTART;TZID=America/New_York:20251030T114500
DTEND;TZID=America/New_York:20251030T131500
DTSTAMP:20260425T080835
CREATED:20250923T164926Z
LAST-MODIFIED:20250923T164926Z
UID:10027256-1761824700-1761830100@stjohnscalendar.com
SUMMARY:Small Group for People with Aging Parents
DESCRIPTION:This meeting will be held in the Conference Room on the 2nd Floor (formerly known as Mother Leslie’s office).
URL:https://stjohnscalendar.com/event/small-group-for-people-with-aging-parents/2025-10-30/
LOCATION:Conference Room
END:VEVENT
BEGIN:VEVENT
DTSTART;TZID=America/New_York:20251023T114500
DTEND;TZID=America/New_York:20251023T131500
DTSTAMP:20260425T080835
CREATED:20250923T164926Z
LAST-MODIFIED:20250923T164926Z
UID:10027255-1761219900-1761225300@stjohnscalendar.com
SUMMARY:Small Group for People with Aging Parents
DESCRIPTION:This meeting will be held in the Conference Room on the 2nd Floor (formerly known as Mother Leslie’s office).
URL:https://stjohnscalendar.com/event/small-group-for-people-with-aging-parents/2025-10-23/
LOCATION:Conference Room
END:VEVENT
BEGIN:VEVENT
DTSTART;TZID=America/New_York:20251016T114500
DTEND;TZID=America/New_York:20251016T131500
DTSTAMP:20260425T080835
CREATED:20250923T164926Z
LAST-MODIFIED:20250923T164926Z
UID:10027254-1760615100-1760620500@stjohnscalendar.com
SUMMARY:Small Group for People with Aging Parents
DESCRIPTION:This meeting will be held in the Conference Room on the 2nd Floor (formerly known as Mother Leslie’s office).
URL:https://stjohnscalendar.com/event/small-group-for-people-with-aging-parents/2025-10-16/
LOCATION:Conference Room
END:VEVENT
BEGIN:VEVENT
DTSTART;TZID=America/New_York:20251009T114500
DTEND;TZID=America/New_York:20251009T131500
DTSTAMP:20260425T080835
CREATED:20250923T164926Z
LAST-MODIFIED:20250923T164926Z
UID:10027253-1760010300-1760015700@stjohnscalendar.com
SUMMARY:Small Group for People with Aging Parents
DESCRIPTION:This meeting will be held in the Conference Room on the 2nd Floor (formerly known as Mother Leslie’s office).
URL:https://stjohnscalendar.com/event/small-group-for-people-with-aging-parents/2025-10-09/
LOCATION:Conference Room
END:VEVENT
BEGIN:VEVENT
DTSTART;TZID=America/New_York:20251002T114500
DTEND;TZID=America/New_York:20251002T131500
DTSTAMP:20260425T080835
CREATED:20250923T164926Z
LAST-MODIFIED:20250923T164926Z
UID:10027252-1759405500-1759410900@stjohnscalendar.com
SUMMARY:Small Group for People with Aging Parents
DESCRIPTION:This meeting will be held in the Conference Room on the 2nd Floor (formerly known as Mother Leslie’s office).
URL:https://stjohnscalendar.com/event/small-group-for-people-with-aging-parents/2025-10-02/
LOCATION:Conference Room
END:VEVENT
BEGIN:VEVENT
DTSTART;TZID=America/New_York:20250925T114500
DTEND;TZID=America/New_York:20250925T131500
DTSTAMP:20260425T080835
CREATED:20250923T164926Z
LAST-MODIFIED:20250923T164926Z
UID:10027251-1758800700-1758806100@stjohnscalendar.com
SUMMARY:Small Group for People with Aging Parents
DESCRIPTION:This meeting will be held in the Conference Room on the 2nd Floor (formerly known as Mother Leslie’s office).
URL:https://stjohnscalendar.com/event/small-group-for-people-with-aging-parents/2025-09-25/
LOCATION:Conference Room
END:VEVENT
END:VCALENDAR