BEGIN:VCALENDAR
VERSION:2.0
PRODID:-//St. John&#039;s Episcopal Church - ECPv6.15.14//NONSGML v1.0//EN
CALSCALE:GREGORIAN
METHOD:PUBLISH
X-WR-CALNAME:St. John&#039;s Episcopal Church
X-ORIGINAL-URL:https://stjohnscalendar.com
X-WR-CALDESC:Events for St. John&#039;s Episcopal Church
REFRESH-INTERVAL;VALUE=DURATION:PT1H
X-Robots-Tag:noindex
X-PUBLISHED-TTL:PT1H
BEGIN:VTIMEZONE
TZID:America/New_York
BEGIN:DAYLIGHT
TZOFFSETFROM:-0500
TZOFFSETTO:-0400
TZNAME:EDT
DTSTART:20240310T070000
END:DAYLIGHT
BEGIN:STANDARD
TZOFFSETFROM:-0400
TZOFFSETTO:-0500
TZNAME:EST
DTSTART:20241103T060000
END:STANDARD
BEGIN:DAYLIGHT
TZOFFSETFROM:-0500
TZOFFSETTO:-0400
TZNAME:EDT
DTSTART:20250309T070000
END:DAYLIGHT
BEGIN:STANDARD
TZOFFSETFROM:-0400
TZOFFSETTO:-0500
TZNAME:EST
DTSTART:20251102T060000
END:STANDARD
BEGIN:DAYLIGHT
TZOFFSETFROM:-0500
TZOFFSETTO:-0400
TZNAME:EDT
DTSTART:20260308T070000
END:DAYLIGHT
BEGIN:STANDARD
TZOFFSETFROM:-0400
TZOFFSETTO:-0500
TZNAME:EST
DTSTART:20261101T060000
END:STANDARD
BEGIN:DAYLIGHT
TZOFFSETFROM:-0500
TZOFFSETTO:-0400
TZNAME:EDT
DTSTART:20270314T070000
END:DAYLIGHT
BEGIN:STANDARD
TZOFFSETFROM:-0400
TZOFFSETTO:-0500
TZNAME:EST
DTSTART:20271107T060000
END:STANDARD
END:VTIMEZONE
BEGIN:VEVENT
DTSTART;TZID=America/New_York:20260424T160000
DTEND;TZID=America/New_York:20260424T180000
DTSTAMP:20260424T225058
CREATED:20251123T135146Z
LAST-MODIFIED:20251123T135146Z
UID:10028020-1777046400-1777053600@stjohnscalendar.com
SUMMARY:Piano Lessons
DESCRIPTION:Adam Ravain teaches piano lessons on Friday evenings until 6:00.
URL:https://stjohnscalendar.com/event/piano-lessons-2/2026-04-24/
LOCATION:Chapel and Choir Room
END:VEVENT
BEGIN:VEVENT
DTSTART;TZID=America/New_York:20260417T160000
DTEND;TZID=America/New_York:20260417T180000
DTSTAMP:20260424T225058
CREATED:20251123T135146Z
LAST-MODIFIED:20251123T135146Z
UID:10028019-1776441600-1776448800@stjohnscalendar.com
SUMMARY:Piano Lessons
DESCRIPTION:Adam Ravain teaches piano lessons on Friday evenings until 6:00.
URL:https://stjohnscalendar.com/event/piano-lessons-2/2026-04-17/
LOCATION:Chapel and Choir Room
END:VEVENT
BEGIN:VEVENT
DTSTART;TZID=America/New_York:20260410T160000
DTEND;TZID=America/New_York:20260410T180000
DTSTAMP:20260424T225058
CREATED:20251123T135146Z
LAST-MODIFIED:20251123T135146Z
UID:10028018-1775836800-1775844000@stjohnscalendar.com
SUMMARY:Piano Lessons
DESCRIPTION:Adam Ravain teaches piano lessons on Friday evenings until 6:00.
URL:https://stjohnscalendar.com/event/piano-lessons-2/2026-04-10/
LOCATION:Chapel and Choir Room
END:VEVENT
BEGIN:VEVENT
DTSTART;TZID=America/New_York:20260403T160000
DTEND;TZID=America/New_York:20260403T180000
DTSTAMP:20260424T225058
CREATED:20251123T135146Z
LAST-MODIFIED:20251123T135146Z
UID:10028017-1775232000-1775239200@stjohnscalendar.com
SUMMARY:Piano Lessons
DESCRIPTION:Adam Ravain teaches piano lessons on Friday evenings until 6:00.
URL:https://stjohnscalendar.com/event/piano-lessons-2/2026-04-03/
LOCATION:Chapel and Choir Room
END:VEVENT
BEGIN:VEVENT
DTSTART;TZID=America/New_York:20260327T160000
DTEND;TZID=America/New_York:20260327T180000
DTSTAMP:20260424T225058
CREATED:20251123T135146Z
LAST-MODIFIED:20251123T135146Z
UID:10028016-1774627200-1774634400@stjohnscalendar.com
SUMMARY:Piano Lessons
DESCRIPTION:Adam Ravain teaches piano lessons on Friday evenings until 6:00.
URL:https://stjohnscalendar.com/event/piano-lessons-2/2026-03-27/
LOCATION:Chapel and Choir Room
END:VEVENT
BEGIN:VEVENT
DTSTART;TZID=America/New_York:20260320T160000
DTEND;TZID=America/New_York:20260320T180000
DTSTAMP:20260424T225058
CREATED:20251123T135146Z
LAST-MODIFIED:20251123T135146Z
UID:10028015-1774022400-1774029600@stjohnscalendar.com
SUMMARY:Piano Lessons
DESCRIPTION:Adam Ravain teaches piano lessons on Friday evenings until 6:00.
URL:https://stjohnscalendar.com/event/piano-lessons-2/2026-03-20/
LOCATION:Chapel and Choir Room
END:VEVENT
BEGIN:VEVENT
DTSTART;TZID=America/New_York:20260313T160000
DTEND;TZID=America/New_York:20260313T180000
DTSTAMP:20260424T225058
CREATED:20251123T135146Z
LAST-MODIFIED:20251123T135146Z
UID:10028014-1773417600-1773424800@stjohnscalendar.com
SUMMARY:Piano Lessons
DESCRIPTION:Adam Ravain teaches piano lessons on Friday evenings until 6:00.
URL:https://stjohnscalendar.com/event/piano-lessons-2/2026-03-13/
LOCATION:Chapel and Choir Room
END:VEVENT
BEGIN:VEVENT
DTSTART;TZID=America/New_York:20260306T160000
DTEND;TZID=America/New_York:20260306T180000
DTSTAMP:20260424T225058
CREATED:20251123T135146Z
LAST-MODIFIED:20251123T135146Z
UID:10028013-1772812800-1772820000@stjohnscalendar.com
SUMMARY:Piano Lessons
DESCRIPTION:Adam Ravain teaches piano lessons on Friday evenings until 6:00.
URL:https://stjohnscalendar.com/event/piano-lessons-2/2026-03-06/
LOCATION:Chapel and Choir Room
END:VEVENT
BEGIN:VEVENT
DTSTART;TZID=America/New_York:20260227T160000
DTEND;TZID=America/New_York:20260227T180000
DTSTAMP:20260424T225058
CREATED:20251123T135146Z
LAST-MODIFIED:20251123T135146Z
UID:10028012-1772208000-1772215200@stjohnscalendar.com
SUMMARY:Piano Lessons
DESCRIPTION:Adam Ravain teaches piano lessons on Friday evenings until 6:00.
URL:https://stjohnscalendar.com/event/piano-lessons-2/2026-02-27/
LOCATION:Chapel and Choir Room
END:VEVENT
BEGIN:VEVENT
DTSTART;TZID=America/New_York:20260220T160000
DTEND;TZID=America/New_York:20260220T180000
DTSTAMP:20260424T225058
CREATED:20251123T135146Z
LAST-MODIFIED:20251123T135146Z
UID:10028011-1771603200-1771610400@stjohnscalendar.com
SUMMARY:Piano Lessons
DESCRIPTION:Adam Ravain teaches piano lessons on Friday evenings until 6:00.
URL:https://stjohnscalendar.com/event/piano-lessons-2/2026-02-20/
LOCATION:Chapel and Choir Room
END:VEVENT
BEGIN:VEVENT
DTSTART;TZID=America/New_York:20260213T160000
DTEND;TZID=America/New_York:20260213T180000
DTSTAMP:20260424T225058
CREATED:20251123T135146Z
LAST-MODIFIED:20251123T135146Z
UID:10028010-1770998400-1771005600@stjohnscalendar.com
SUMMARY:Piano Lessons
DESCRIPTION:Adam Ravain teaches piano lessons on Friday evenings until 6:00.
URL:https://stjohnscalendar.com/event/piano-lessons-2/2026-02-13/
LOCATION:Chapel and Choir Room
END:VEVENT
BEGIN:VEVENT
DTSTART;TZID=America/New_York:20260206T160000
DTEND;TZID=America/New_York:20260206T180000
DTSTAMP:20260424T225058
CREATED:20251123T135146Z
LAST-MODIFIED:20251123T135146Z
UID:10028009-1770393600-1770400800@stjohnscalendar.com
SUMMARY:Piano Lessons
DESCRIPTION:Adam Ravain teaches piano lessons on Friday evenings until 6:00.
URL:https://stjohnscalendar.com/event/piano-lessons-2/2026-02-06/
LOCATION:Chapel and Choir Room
END:VEVENT
BEGIN:VEVENT
DTSTART;TZID=America/New_York:20260130T160000
DTEND;TZID=America/New_York:20260130T180000
DTSTAMP:20260424T225058
CREATED:20251123T135146Z
LAST-MODIFIED:20251123T135146Z
UID:10028008-1769788800-1769796000@stjohnscalendar.com
SUMMARY:Piano Lessons
DESCRIPTION:Adam Ravain teaches piano lessons on Friday evenings until 6:00.
URL:https://stjohnscalendar.com/event/piano-lessons-2/2026-01-30/
LOCATION:Chapel and Choir Room
END:VEVENT
BEGIN:VEVENT
DTSTART;TZID=America/New_York:20260123T160000
DTEND;TZID=America/New_York:20260123T180000
DTSTAMP:20260424T225058
CREATED:20251123T135146Z
LAST-MODIFIED:20251123T135146Z
UID:10028007-1769184000-1769191200@stjohnscalendar.com
SUMMARY:Piano Lessons
DESCRIPTION:Adam Ravain teaches piano lessons on Friday evenings until 6:00.
URL:https://stjohnscalendar.com/event/piano-lessons-2/2026-01-23/
LOCATION:Chapel and Choir Room
END:VEVENT
BEGIN:VEVENT
DTSTART;TZID=America/New_York:20260116T160000
DTEND;TZID=America/New_York:20260116T180000
DTSTAMP:20260424T225058
CREATED:20251123T135146Z
LAST-MODIFIED:20251123T135146Z
UID:10028006-1768579200-1768586400@stjohnscalendar.com
SUMMARY:Piano Lessons
DESCRIPTION:Adam Ravain teaches piano lessons on Friday evenings until 6:00.
URL:https://stjohnscalendar.com/event/piano-lessons-2/2026-01-16/
LOCATION:Chapel and Choir Room
END:VEVENT
BEGIN:VEVENT
DTSTART;TZID=America/New_York:20260109T160000
DTEND;TZID=America/New_York:20260109T180000
DTSTAMP:20260424T225058
CREATED:20251123T135146Z
LAST-MODIFIED:20251123T135146Z
UID:10028005-1767974400-1767981600@stjohnscalendar.com
SUMMARY:Piano Lessons
DESCRIPTION:Adam Ravain teaches piano lessons on Friday evenings until 6:00.
URL:https://stjohnscalendar.com/event/piano-lessons-2/2026-01-09/
LOCATION:Chapel and Choir Room
END:VEVENT
BEGIN:VEVENT
DTSTART;TZID=America/New_York:20260102T160000
DTEND;TZID=America/New_York:20260102T180000
DTSTAMP:20260424T225058
CREATED:20251123T135146Z
LAST-MODIFIED:20251123T135146Z
UID:10028004-1767369600-1767376800@stjohnscalendar.com
SUMMARY:Piano Lessons
DESCRIPTION:Adam Ravain teaches piano lessons on Friday evenings until 6:00.
URL:https://stjohnscalendar.com/event/piano-lessons-2/2026-01-02/
LOCATION:Chapel and Choir Room
END:VEVENT
BEGIN:VEVENT
DTSTART;TZID=America/New_York:20251226T160000
DTEND;TZID=America/New_York:20251226T180000
DTSTAMP:20260424T225058
CREATED:20251123T135146Z
LAST-MODIFIED:20251123T135146Z
UID:10028003-1766764800-1766772000@stjohnscalendar.com
SUMMARY:Piano Lessons
DESCRIPTION:Adam Ravain teaches piano lessons on Friday evenings until 6:00.
URL:https://stjohnscalendar.com/event/piano-lessons-2/2025-12-26/
LOCATION:Chapel and Choir Room
END:VEVENT
BEGIN:VEVENT
DTSTART;TZID=America/New_York:20251219T160000
DTEND;TZID=America/New_York:20251219T180000
DTSTAMP:20260424T225058
CREATED:20251123T135146Z
LAST-MODIFIED:20251123T135146Z
UID:10028002-1766160000-1766167200@stjohnscalendar.com
SUMMARY:Piano Lessons
DESCRIPTION:Adam Ravain teaches piano lessons on Friday evenings until 6:00.
URL:https://stjohnscalendar.com/event/piano-lessons-2/2025-12-19/
LOCATION:Chapel and Choir Room
END:VEVENT
BEGIN:VEVENT
DTSTART;TZID=America/New_York:20251212T160000
DTEND;TZID=America/New_York:20251212T180000
DTSTAMP:20260424T225058
CREATED:20251123T135146Z
LAST-MODIFIED:20251123T135146Z
UID:10028001-1765555200-1765562400@stjohnscalendar.com
SUMMARY:Piano Lessons
DESCRIPTION:Adam Ravain teaches piano lessons on Friday evenings until 6:00.
URL:https://stjohnscalendar.com/event/piano-lessons-2/2025-12-12/
LOCATION:Chapel and Choir Room
END:VEVENT
BEGIN:VEVENT
DTSTART;TZID=America/New_York:20251205T160000
DTEND;TZID=America/New_York:20251205T180000
DTSTAMP:20260424T225058
CREATED:20251123T135146Z
LAST-MODIFIED:20251123T135146Z
UID:10028000-1764950400-1764957600@stjohnscalendar.com
SUMMARY:Piano Lessons
DESCRIPTION:Adam Ravain teaches piano lessons on Friday evenings until 6:00.
URL:https://stjohnscalendar.com/event/piano-lessons-2/2025-12-05/
LOCATION:Chapel and Choir Room
END:VEVENT
BEGIN:VEVENT
DTSTART;TZID=America/New_York:20251128T160000
DTEND;TZID=America/New_York:20251128T180000
DTSTAMP:20260424T225058
CREATED:20251123T135146Z
LAST-MODIFIED:20251123T135146Z
UID:10027999-1764345600-1764352800@stjohnscalendar.com
SUMMARY:Piano Lessons
DESCRIPTION:Adam Ravain teaches piano lessons on Friday evenings until 6:00.
URL:https://stjohnscalendar.com/event/piano-lessons-2/2025-11-28/
LOCATION:Chapel and Choir Room
END:VEVENT
END:VCALENDAR