BEGIN:VCALENDAR
VERSION:2.0
PRODID:-//St. John&#039;s Episcopal Church - ECPv6.15.14//NONSGML v1.0//EN
CALSCALE:GREGORIAN
METHOD:PUBLISH
X-WR-CALNAME:St. John&#039;s Episcopal Church
X-ORIGINAL-URL:https://stjohnscalendar.com
X-WR-CALDESC:Events for St. John&#039;s Episcopal Church
REFRESH-INTERVAL;VALUE=DURATION:PT1H
X-Robots-Tag:noindex
X-PUBLISHED-TTL:PT1H
BEGIN:VTIMEZONE
TZID:America/New_York
BEGIN:DAYLIGHT
TZOFFSETFROM:-0500
TZOFFSETTO:-0400
TZNAME:EDT
DTSTART:20240310T070000
END:DAYLIGHT
BEGIN:STANDARD
TZOFFSETFROM:-0400
TZOFFSETTO:-0500
TZNAME:EST
DTSTART:20241103T060000
END:STANDARD
BEGIN:DAYLIGHT
TZOFFSETFROM:-0500
TZOFFSETTO:-0400
TZNAME:EDT
DTSTART:20250309T070000
END:DAYLIGHT
BEGIN:STANDARD
TZOFFSETFROM:-0400
TZOFFSETTO:-0500
TZNAME:EST
DTSTART:20251102T060000
END:STANDARD
BEGIN:DAYLIGHT
TZOFFSETFROM:-0500
TZOFFSETTO:-0400
TZNAME:EDT
DTSTART:20260308T070000
END:DAYLIGHT
BEGIN:STANDARD
TZOFFSETFROM:-0400
TZOFFSETTO:-0500
TZNAME:EST
DTSTART:20261101T060000
END:STANDARD
BEGIN:DAYLIGHT
TZOFFSETFROM:-0500
TZOFFSETTO:-0400
TZNAME:EDT
DTSTART:20270314T070000
END:DAYLIGHT
BEGIN:STANDARD
TZOFFSETFROM:-0400
TZOFFSETTO:-0500
TZNAME:EST
DTSTART:20271107T060000
END:STANDARD
END:VTIMEZONE
BEGIN:VEVENT
DTSTART;TZID=America/New_York:20260325T120000
DTEND;TZID=America/New_York:20260325T130000
DTSTAMP:20260424T170848
CREATED:20250807T105913Z
LAST-MODIFIED:20250807T105913Z
UID:10025087-1774440000-1774443600@stjohnscalendar.com
SUMMARY:LHS Foundation Board Mtg.
DESCRIPTION:
URL:https://stjohnscalendar.com/event/lhs-foundation-board-mtg/2026-03-25/
LOCATION:Bishop’s Common
END:VEVENT
BEGIN:VEVENT
DTSTART;TZID=America/New_York:20260301T170000
DTEND;TZID=America/New_York:20260301T180000
DTSTAMP:20260424T170848
CREATED:20260219T150156Z
LAST-MODIFIED:20260219T150212Z
UID:10029680-1772384400-1772388000@stjohnscalendar.com
SUMMARY:Youth Mission to Ecuador Info Meeting
DESCRIPTION:Learn all about our upcoming mission to Ecuador in July! On Sunday\, March 1\, we’re going to hold an interest and informational meeting about the trip. We’ll go over the details\, travel\, and cost. You don’t want to miss out! Come along and hear all about it. \n\nWHEN: St. John’s youth will return to Quito\, Ecuador  – Wednesday\, July 8 to Saturday\, July 18\, 2026! \nWHO: This trip is open to rising 9th through 12th graders. \n\n\n\nWHAT: We will know more about our specific work areas as our time in Quito approaches\, but typically it is a mix of children’s programs\, improving the physical church building\, a day or two of service in nearby homes of church parishioners\, and worship with friends at the church. The itinerary is developed in partnership with Caroline and John Allen\, and our ministry partners in Quito.
URL:https://stjohnscalendar.com/event/youth-mission-to-ecuador-info-meeting-2/
LOCATION:Bishop’s Common
CATEGORIES:Youth
ORGANIZER;CN="Tyree Jordan":MAILTO:tyree@saint-john.org.
END:VEVENT
BEGIN:VEVENT
DTSTART;TZID=America/New_York:20260218T120000
DTEND;TZID=America/New_York:20260218T130000
DTSTAMP:20260424T170848
CREATED:20250807T105913Z
LAST-MODIFIED:20250807T105913Z
UID:10025086-1771416000-1771419600@stjohnscalendar.com
SUMMARY:LHS Foundation Board Mtg.
DESCRIPTION:
URL:https://stjohnscalendar.com/event/lhs-foundation-board-mtg/2026-02-18/
LOCATION:Bishop’s Common
END:VEVENT
BEGIN:VEVENT
DTSTART;TZID=America/New_York:20260121T120000
DTEND;TZID=America/New_York:20260121T130000
DTSTAMP:20260424T170848
CREATED:20250807T105913Z
LAST-MODIFIED:20250807T105913Z
UID:10025085-1768996800-1769000400@stjohnscalendar.com
SUMMARY:LHS Foundation Board Mtg.
DESCRIPTION:
URL:https://stjohnscalendar.com/event/lhs-foundation-board-mtg/2026-01-21/
LOCATION:Bishop’s Common
END:VEVENT
BEGIN:VEVENT
DTSTART;TZID=America/New_York:20260118T170000
DTEND;TZID=America/New_York:20260118T183000
DTSTAMP:20260424T170848
CREATED:20260107T192124Z
LAST-MODIFIED:20260118T202027Z
UID:10029304-1768755600-1768761000@stjohnscalendar.com
SUMMARY:Cancelled! Youth Mission to Ecuador Info Meeting
DESCRIPTION:TODAY’S MEETING IS CANCELLED! \nWe are holding a planning meeting for everyone who has already signed up to journey to Ecuador this summer (July 8-18) and for those who would like to learn more on Sunday\, Jan. 18\, 5-6:30 p.m. in Bishop’s Common. Come along and see what this mission is all about! \nThis trip is open to rising 9th through 12th graders. Our itinerary is set in partnership with Caroline and John Allen and typically includes a mix of children’s programs\, service work at the church and in the homes of parishioners\, and lots of relationship-building and worship with friends new and old at our partnering church. \nWe will know more about our specific work areas as our time in Quito approaches\, but typically it is a mix of children’s programs\, improving the physical church building\, a day or two of service in nearby homes of church parishioners\, and worship with friends at the church. The itinerary is developed in partnership with Caroline and John Allen\, and our ministry partners in Quito.
URL:https://stjohnscalendar.com/event/youth-mission-to-ecuador-info-meeting/
LOCATION:Bishop’s Common
CATEGORIES:Youth
ORGANIZER;CN="Tyree Jordan":MAILTO:tyree@saint-john.org.
END:VEVENT
BEGIN:VEVENT
DTSTART;TZID=America/New_York:20251119T120000
DTEND;TZID=America/New_York:20251119T130000
DTSTAMP:20260424T170848
CREATED:20250807T105913Z
LAST-MODIFIED:20250807T105913Z
UID:10025084-1763553600-1763557200@stjohnscalendar.com
SUMMARY:LHS Foundation Board Mtg.
DESCRIPTION:
URL:https://stjohnscalendar.com/event/lhs-foundation-board-mtg/2025-11-19/
LOCATION:Bishop’s Common
END:VEVENT
BEGIN:VEVENT
DTSTART;TZID=America/New_York:20251025T100000
DTEND;TZID=America/New_York:20251025T120000
DTSTAMP:20260424T170848
CREATED:20250916T161418Z
LAST-MODIFIED:20251013T151948Z
UID:10026747-1761386400-1761393600@stjohnscalendar.com
SUMMARY:Community Ofrenda Workshop
DESCRIPTION:In Mexican culture\, ofrendas are constructed to honor and remember the departed on November 1st and 2nd. St. John’s will hold a Community Ofrenda Workshop on Saturday\, October 25 at 10:00 AM in Bishop’s Common in preparation for All Saints and All Souls Day. All are welcome to attend. Participants are asked to bring a photo of a departed loved one (no larger than 5×7 please) and a small memento to place in Carter Chapel following a brief educational presentation. \nPlease contact Heather Jordan with any questions: heatherleila3@gmail.com. \nClick here to RSVP for the workshop!
URL:https://stjohnscalendar.com/event/ofrenda2025/
LOCATION:Bishop’s Common
CATEGORIES:Adult Education,Children,FP - Events,Front Porch,Membership,Ministry Gatherings,Youth
ATTACH;FMTTYPE=image/png:https://stjohnscalendar.com/wp-content/uploads/2025/09/OFrenda-Workshop-1920-x-1080-px-1.png
END:VEVENT
BEGIN:VEVENT
DTSTART;TZID=America/New_York:20251018T090000
DTEND;TZID=America/New_York:20251018T110000
DTSTAMP:20260424T170848
CREATED:20251001T171049Z
LAST-MODIFIED:20251001T171049Z
UID:10027274-1760778000-1760785200@stjohnscalendar.com
SUMMARY:MASH (Munchkins & Spiritual Harmony)
DESCRIPTION:Munchkins & Spiritual Harmony is back! Join us Saturday\, October 18 at 9:00 a.m. in Bishop’s Common for coffee\, conversation\, and connection. \nWe’ll settle into our familiar rhythm—sharing laughs\, stories\, and reflections on faith and parenting in the delightful chaos of early childhood. The nursery will be open\, so little ones are welcome too. \nWhether you’re just escaping the morning rush\, still in your pajamas with a cup of coffee\, or ready for some grown-up conversation\, come as you are. Don’t forget your calendars—we’ll get a few playdates on the books while we’re at it! \nWe’re grateful for this community and can’t wait to gather again.
URL:https://stjohnscalendar.com/event/mashoct2025/
LOCATION:Bishop’s Common
CATEGORIES:Children,Ministry Gatherings,Parish Life
ATTACH;FMTTYPE=image/png:https://stjohnscalendar.com/wp-content/uploads/2025/10/MASH-Small-Group-1920-x-1080-px.png
END:VEVENT
BEGIN:VEVENT
DTSTART;TZID=America/New_York:20251015T120000
DTEND;TZID=America/New_York:20251015T130000
DTSTAMP:20260424T170848
CREATED:20250807T105913Z
LAST-MODIFIED:20250807T105913Z
UID:10025083-1760529600-1760533200@stjohnscalendar.com
SUMMARY:LHS Foundation Board Mtg.
DESCRIPTION:
URL:https://stjohnscalendar.com/event/lhs-foundation-board-mtg/2025-10-15/
LOCATION:Bishop’s Common
END:VEVENT
BEGIN:VEVENT
DTSTART;TZID=America/New_York:20251011T100000
DTEND;TZID=America/New_York:20251011T120000
DTSTAMP:20260424T170848
CREATED:20250916T130324Z
LAST-MODIFIED:20250923T195626Z
UID:10026485-1760176800-1760184000@stjohnscalendar.com
SUMMARY:Angel Crafts Workshop for St. John’s Market
DESCRIPTION:Love to craft? Join us on Saturday\, October 11\, from 10 AM–12 PM in Bishop’s Common for a fun St. John’s Market Craft Workshop! Together\, we’ll create beautiful vintage lace angel ornaments to be sold at this year’s St. John’s Market. The workshop is free\, open to all ages\, and includes light snacks and beverages. Come enjoy fellowship\, creativity\, and a chance to support the Market in a hands-on way. \nRSVP today!
URL:https://stjohnscalendar.com/event/angelcrafts2025/
LOCATION:Bishop’s Common
CATEGORIES:Membership,Parish Life
ATTACH;FMTTYPE=image/png:https://stjohnscalendar.com/wp-content/uploads/2025/09/Angel-Crafts-2025-1920-x-1080-px.png
END:VEVENT
BEGIN:VEVENT
DTSTART;TZID=America/New_York:20250917T120000
DTEND;TZID=America/New_York:20250917T130000
DTSTAMP:20260424T170848
CREATED:20250807T105913Z
LAST-MODIFIED:20250807T105913Z
UID:10025082-1758110400-1758114000@stjohnscalendar.com
SUMMARY:LHS Foundation Board Mtg.
DESCRIPTION:
URL:https://stjohnscalendar.com/event/lhs-foundation-board-mtg/2025-09-17/
LOCATION:Bishop’s Common
END:VEVENT
BEGIN:VEVENT
DTSTART;TZID=America/New_York:20250427T113000
DTEND;TZID=America/New_York:20250427T123000
DTSTAMP:20260424T170848
CREATED:20250328T153810Z
LAST-MODIFIED:20250415T202136Z
UID:10022028-1745753400-1745757000@stjohnscalendar.com
SUMMARY:Youth Confirmation Classes
DESCRIPTION:Youth Confirmation classes are open to students in 9th grade and above. This year’s series of classes will be led by David Grimes and Monique Ellsworth. Make sure you mark your calendar for Confirmation Sunday (May 4\, 2025)\, when our bishop will visit St. John’s to share in youth confirmation\, and confirmation\, reception\, and reaffirmation for adult candidates.
URL:https://stjohnscalendar.com/event/youth-confirmation-classes/2025-04-27/
LOCATION:Bishop’s Common
CATEGORIES:Youth
ORGANIZER;CN="Tyree Jordan":MAILTO:tyree@saint-john.org.
END:VEVENT
END:VCALENDAR