BEGIN:VCALENDAR
VERSION:2.0
PRODID:-//St. John&#039;s Episcopal Church - ECPv6.15.14//NONSGML v1.0//EN
CALSCALE:GREGORIAN
METHOD:PUBLISH
X-WR-CALNAME:St. John&#039;s Episcopal Church
X-ORIGINAL-URL:https://stjohnscalendar.com
X-WR-CALDESC:Events for St. John&#039;s Episcopal Church
REFRESH-INTERVAL;VALUE=DURATION:PT1H
X-Robots-Tag:noindex
X-PUBLISHED-TTL:PT1H
BEGIN:VTIMEZONE
TZID:America/New_York
BEGIN:DAYLIGHT
TZOFFSETFROM:-0500
TZOFFSETTO:-0400
TZNAME:EDT
DTSTART:20240310T070000
END:DAYLIGHT
BEGIN:STANDARD
TZOFFSETFROM:-0400
TZOFFSETTO:-0500
TZNAME:EST
DTSTART:20241103T060000
END:STANDARD
BEGIN:DAYLIGHT
TZOFFSETFROM:-0500
TZOFFSETTO:-0400
TZNAME:EDT
DTSTART:20250309T070000
END:DAYLIGHT
BEGIN:STANDARD
TZOFFSETFROM:-0400
TZOFFSETTO:-0500
TZNAME:EST
DTSTART:20251102T060000
END:STANDARD
BEGIN:DAYLIGHT
TZOFFSETFROM:-0500
TZOFFSETTO:-0400
TZNAME:EDT
DTSTART:20260308T070000
END:DAYLIGHT
BEGIN:STANDARD
TZOFFSETFROM:-0400
TZOFFSETTO:-0500
TZNAME:EST
DTSTART:20261101T060000
END:STANDARD
BEGIN:DAYLIGHT
TZOFFSETFROM:-0500
TZOFFSETTO:-0400
TZNAME:EDT
DTSTART:20270314T070000
END:DAYLIGHT
BEGIN:STANDARD
TZOFFSETFROM:-0400
TZOFFSETTO:-0500
TZNAME:EST
DTSTART:20271107T060000
END:STANDARD
END:VTIMEZONE
BEGIN:VEVENT
DTSTART;TZID=America/New_York:20260421T123000
DTEND;TZID=America/New_York:20260421T133000
DTSTAMP:20260424T175144
CREATED:20250828T153306Z
LAST-MODIFIED:20250908T205630Z
UID:10026154-1776774600-1776778200@stjohnscalendar.com
SUMMARY:Bible Study
DESCRIPTION:
URL:https://stjohnscalendar.com/event/bible-study/2026-04-21/
LOCATION:Press Room
END:VEVENT
BEGIN:VEVENT
DTSTART;TZID=America/New_York:20260414T123000
DTEND;TZID=America/New_York:20260414T133000
DTSTAMP:20260424T175144
CREATED:20250828T153306Z
LAST-MODIFIED:20250908T205630Z
UID:10026153-1776169800-1776173400@stjohnscalendar.com
SUMMARY:Bible Study
DESCRIPTION:
URL:https://stjohnscalendar.com/event/bible-study/2026-04-14/
LOCATION:Press Room
END:VEVENT
BEGIN:VEVENT
DTSTART;TZID=America/New_York:20260407T123000
DTEND;TZID=America/New_York:20260407T133000
DTSTAMP:20260424T175144
CREATED:20250828T153306Z
LAST-MODIFIED:20250908T205630Z
UID:10026152-1775565000-1775568600@stjohnscalendar.com
SUMMARY:Bible Study
DESCRIPTION:
URL:https://stjohnscalendar.com/event/bible-study/2026-04-07/
LOCATION:Press Room
END:VEVENT
BEGIN:VEVENT
DTSTART;TZID=America/New_York:20260331T123000
DTEND;TZID=America/New_York:20260331T133000
DTSTAMP:20260424T175144
CREATED:20250828T153306Z
LAST-MODIFIED:20250908T205630Z
UID:10026151-1774960200-1774963800@stjohnscalendar.com
SUMMARY:Bible Study
DESCRIPTION:
URL:https://stjohnscalendar.com/event/bible-study/2026-03-31/
LOCATION:Press Room
END:VEVENT
BEGIN:VEVENT
DTSTART;TZID=America/New_York:20260324T123000
DTEND;TZID=America/New_York:20260324T133000
DTSTAMP:20260424T175144
CREATED:20250828T153306Z
LAST-MODIFIED:20250908T205630Z
UID:10026150-1774355400-1774359000@stjohnscalendar.com
SUMMARY:Bible Study
DESCRIPTION:
URL:https://stjohnscalendar.com/event/bible-study/2026-03-24/
LOCATION:Press Room
END:VEVENT
BEGIN:VEVENT
DTSTART;TZID=America/New_York:20260317T123000
DTEND;TZID=America/New_York:20260317T133000
DTSTAMP:20260424T175144
CREATED:20250828T153306Z
LAST-MODIFIED:20250908T205630Z
UID:10026149-1773750600-1773754200@stjohnscalendar.com
SUMMARY:Bible Study
DESCRIPTION:
URL:https://stjohnscalendar.com/event/bible-study/2026-03-17/
LOCATION:Press Room
END:VEVENT
BEGIN:VEVENT
DTSTART;TZID=America/New_York:20260310T123000
DTEND;TZID=America/New_York:20260310T133000
DTSTAMP:20260424T175144
CREATED:20250828T153306Z
LAST-MODIFIED:20250908T205630Z
UID:10026148-1773145800-1773149400@stjohnscalendar.com
SUMMARY:Bible Study
DESCRIPTION:
URL:https://stjohnscalendar.com/event/bible-study/2026-03-10/
LOCATION:Press Room
END:VEVENT
BEGIN:VEVENT
DTSTART;TZID=America/New_York:20260303T123000
DTEND;TZID=America/New_York:20260303T133000
DTSTAMP:20260424T175144
CREATED:20250828T153306Z
LAST-MODIFIED:20250908T205630Z
UID:10026147-1772541000-1772544600@stjohnscalendar.com
SUMMARY:Bible Study
DESCRIPTION:
URL:https://stjohnscalendar.com/event/bible-study/2026-03-03/
LOCATION:Press Room
END:VEVENT
BEGIN:VEVENT
DTSTART;TZID=America/New_York:20260224T123000
DTEND;TZID=America/New_York:20260224T133000
DTSTAMP:20260424T175144
CREATED:20250828T153306Z
LAST-MODIFIED:20250908T205630Z
UID:10026146-1771936200-1771939800@stjohnscalendar.com
SUMMARY:Bible Study
DESCRIPTION:
URL:https://stjohnscalendar.com/event/bible-study/2026-02-24/
LOCATION:Press Room
END:VEVENT
BEGIN:VEVENT
DTSTART;TZID=America/New_York:20260217T123000
DTEND;TZID=America/New_York:20260217T133000
DTSTAMP:20260424T175144
CREATED:20250828T153306Z
LAST-MODIFIED:20250908T205630Z
UID:10026145-1771331400-1771335000@stjohnscalendar.com
SUMMARY:Bible Study
DESCRIPTION:
URL:https://stjohnscalendar.com/event/bible-study/2026-02-17/
LOCATION:Press Room
END:VEVENT
BEGIN:VEVENT
DTSTART;TZID=America/New_York:20260210T123000
DTEND;TZID=America/New_York:20260210T133000
DTSTAMP:20260424T175144
CREATED:20250828T153306Z
LAST-MODIFIED:20250908T205630Z
UID:10026144-1770726600-1770730200@stjohnscalendar.com
SUMMARY:Bible Study
DESCRIPTION:
URL:https://stjohnscalendar.com/event/bible-study/2026-02-10/
LOCATION:Press Room
END:VEVENT
BEGIN:VEVENT
DTSTART;TZID=America/New_York:20260203T123000
DTEND;TZID=America/New_York:20260203T133000
DTSTAMP:20260424T175144
CREATED:20250828T153306Z
LAST-MODIFIED:20250908T205630Z
UID:10026143-1770121800-1770125400@stjohnscalendar.com
SUMMARY:Bible Study
DESCRIPTION:
URL:https://stjohnscalendar.com/event/bible-study/2026-02-03/
LOCATION:Press Room
END:VEVENT
BEGIN:VEVENT
DTSTART;TZID=America/New_York:20260127T123000
DTEND;TZID=America/New_York:20260127T133000
DTSTAMP:20260424T175144
CREATED:20250828T153306Z
LAST-MODIFIED:20250908T205630Z
UID:10026142-1769517000-1769520600@stjohnscalendar.com
SUMMARY:Bible Study
DESCRIPTION:
URL:https://stjohnscalendar.com/event/bible-study/2026-01-27/
LOCATION:Press Room
END:VEVENT
BEGIN:VEVENT
DTSTART;TZID=America/New_York:20260120T123000
DTEND;TZID=America/New_York:20260120T133000
DTSTAMP:20260424T175144
CREATED:20250828T153306Z
LAST-MODIFIED:20250908T205630Z
UID:10026141-1768912200-1768915800@stjohnscalendar.com
SUMMARY:Bible Study
DESCRIPTION:
URL:https://stjohnscalendar.com/event/bible-study/2026-01-20/
LOCATION:Press Room
END:VEVENT
BEGIN:VEVENT
DTSTART;TZID=America/New_York:20260113T123000
DTEND;TZID=America/New_York:20260113T133000
DTSTAMP:20260424T175144
CREATED:20250828T153306Z
LAST-MODIFIED:20250908T205630Z
UID:10026140-1768307400-1768311000@stjohnscalendar.com
SUMMARY:Bible Study
DESCRIPTION:
URL:https://stjohnscalendar.com/event/bible-study/2026-01-13/
LOCATION:Press Room
END:VEVENT
BEGIN:VEVENT
DTSTART;TZID=America/New_York:20260106T123000
DTEND;TZID=America/New_York:20260106T133000
DTSTAMP:20260424T175144
CREATED:20250828T153306Z
LAST-MODIFIED:20250908T205630Z
UID:10026139-1767702600-1767706200@stjohnscalendar.com
SUMMARY:Bible Study
DESCRIPTION:
URL:https://stjohnscalendar.com/event/bible-study/2026-01-06/
LOCATION:Press Room
END:VEVENT
BEGIN:VEVENT
DTSTART;TZID=America/New_York:20251223T123000
DTEND;TZID=America/New_York:20251223T133000
DTSTAMP:20260424T175144
CREATED:20250828T153306Z
LAST-MODIFIED:20250908T205630Z
UID:10026137-1766493000-1766496600@stjohnscalendar.com
SUMMARY:Bible Study
DESCRIPTION:
URL:https://stjohnscalendar.com/event/bible-study/2025-12-23/
LOCATION:Press Room
END:VEVENT
BEGIN:VEVENT
DTSTART;TZID=America/New_York:20251216T123000
DTEND;TZID=America/New_York:20251216T133000
DTSTAMP:20260424T175144
CREATED:20250828T153306Z
LAST-MODIFIED:20250908T205630Z
UID:10026136-1765888200-1765891800@stjohnscalendar.com
SUMMARY:Bible Study
DESCRIPTION:
URL:https://stjohnscalendar.com/event/bible-study/2025-12-16/
LOCATION:Press Room
END:VEVENT
BEGIN:VEVENT
DTSTART;TZID=America/New_York:20251209T123000
DTEND;TZID=America/New_York:20251209T133000
DTSTAMP:20260424T175144
CREATED:20250828T153306Z
LAST-MODIFIED:20250908T205630Z
UID:10026135-1765283400-1765287000@stjohnscalendar.com
SUMMARY:Bible Study
DESCRIPTION:
URL:https://stjohnscalendar.com/event/bible-study/2025-12-09/
LOCATION:Press Room
END:VEVENT
BEGIN:VEVENT
DTSTART;TZID=America/New_York:20251202T123000
DTEND;TZID=America/New_York:20251202T133000
DTSTAMP:20260424T175144
CREATED:20250828T153306Z
LAST-MODIFIED:20250908T205630Z
UID:10026134-1764678600-1764682200@stjohnscalendar.com
SUMMARY:Bible Study
DESCRIPTION:
URL:https://stjohnscalendar.com/event/bible-study/2025-12-02/
LOCATION:Press Room
END:VEVENT
BEGIN:VEVENT
DTSTART;TZID=America/New_York:20251125T123000
DTEND;TZID=America/New_York:20251125T133000
DTSTAMP:20260424T175144
CREATED:20250828T153306Z
LAST-MODIFIED:20250908T205630Z
UID:10026133-1764073800-1764077400@stjohnscalendar.com
SUMMARY:Bible Study
DESCRIPTION:
URL:https://stjohnscalendar.com/event/bible-study/2025-11-25/
LOCATION:Press Room
END:VEVENT
BEGIN:VEVENT
DTSTART;TZID=America/New_York:20251118T123000
DTEND;TZID=America/New_York:20251118T133000
DTSTAMP:20260424T175144
CREATED:20250828T153306Z
LAST-MODIFIED:20250908T205630Z
UID:10026132-1763469000-1763472600@stjohnscalendar.com
SUMMARY:Bible Study
DESCRIPTION:
URL:https://stjohnscalendar.com/event/bible-study/2025-11-18/
LOCATION:Press Room
END:VEVENT
BEGIN:VEVENT
DTSTART;TZID=America/New_York:20251111T123000
DTEND;TZID=America/New_York:20251111T133000
DTSTAMP:20260424T175144
CREATED:20250828T153306Z
LAST-MODIFIED:20250908T205630Z
UID:10026131-1762864200-1762867800@stjohnscalendar.com
SUMMARY:Bible Study
DESCRIPTION:
URL:https://stjohnscalendar.com/event/bible-study/2025-11-11/
LOCATION:Press Room
END:VEVENT
BEGIN:VEVENT
DTSTART;TZID=America/New_York:20251104T123000
DTEND;TZID=America/New_York:20251104T133000
DTSTAMP:20260424T175144
CREATED:20250828T153306Z
LAST-MODIFIED:20250908T205630Z
UID:10026130-1762259400-1762263000@stjohnscalendar.com
SUMMARY:Bible Study
DESCRIPTION:
URL:https://stjohnscalendar.com/event/bible-study/2025-11-04/
LOCATION:Press Room
END:VEVENT
BEGIN:VEVENT
DTSTART;TZID=America/New_York:20251028T123000
DTEND;TZID=America/New_York:20251028T133000
DTSTAMP:20260424T175144
CREATED:20250828T153306Z
LAST-MODIFIED:20250908T205630Z
UID:10026129-1761654600-1761658200@stjohnscalendar.com
SUMMARY:Bible Study
DESCRIPTION:
URL:https://stjohnscalendar.com/event/bible-study/2025-10-28/
LOCATION:Press Room
END:VEVENT
BEGIN:VEVENT
DTSTART;TZID=America/New_York:20251021T123000
DTEND;TZID=America/New_York:20251021T133000
DTSTAMP:20260424T175144
CREATED:20250828T153306Z
LAST-MODIFIED:20250908T205630Z
UID:10026128-1761049800-1761053400@stjohnscalendar.com
SUMMARY:Bible Study
DESCRIPTION:
URL:https://stjohnscalendar.com/event/bible-study/2025-10-21/
LOCATION:Press Room
END:VEVENT
BEGIN:VEVENT
DTSTART;TZID=America/New_York:20251014T123000
DTEND;TZID=America/New_York:20251014T133000
DTSTAMP:20260424T175144
CREATED:20250828T153306Z
LAST-MODIFIED:20250908T205630Z
UID:10026127-1760445000-1760448600@stjohnscalendar.com
SUMMARY:Bible Study
DESCRIPTION:
URL:https://stjohnscalendar.com/event/bible-study/2025-10-14/
LOCATION:Press Room
END:VEVENT
BEGIN:VEVENT
DTSTART;TZID=America/New_York:20251007T123000
DTEND;TZID=America/New_York:20251007T133000
DTSTAMP:20260424T175144
CREATED:20250828T153306Z
LAST-MODIFIED:20250908T205630Z
UID:10026126-1759840200-1759843800@stjohnscalendar.com
SUMMARY:Bible Study
DESCRIPTION:
URL:https://stjohnscalendar.com/event/bible-study/2025-10-07/
LOCATION:Press Room
END:VEVENT
BEGIN:VEVENT
DTSTART;TZID=America/New_York:20250930T123000
DTEND;TZID=America/New_York:20250930T133000
DTSTAMP:20260424T175144
CREATED:20250828T153306Z
LAST-MODIFIED:20250908T205630Z
UID:10026125-1759235400-1759239000@stjohnscalendar.com
SUMMARY:Bible Study
DESCRIPTION:
URL:https://stjohnscalendar.com/event/bible-study/2025-09-30/
LOCATION:Press Room
END:VEVENT
BEGIN:VEVENT
DTSTART;TZID=America/New_York:20250923T123000
DTEND;TZID=America/New_York:20250923T133000
DTSTAMP:20260424T175145
CREATED:20250828T153306Z
LAST-MODIFIED:20250908T205630Z
UID:10026124-1758630600-1758634200@stjohnscalendar.com
SUMMARY:Bible Study
DESCRIPTION:
URL:https://stjohnscalendar.com/event/bible-study/2025-09-23/
LOCATION:Press Room
END:VEVENT
END:VCALENDAR