BEGIN:VCALENDAR
VERSION:2.0
PRODID:-//St. John&#039;s Episcopal Church - ECPv6.15.14//NONSGML v1.0//EN
CALSCALE:GREGORIAN
METHOD:PUBLISH
X-WR-CALNAME:St. John&#039;s Episcopal Church
X-ORIGINAL-URL:https://stjohnscalendar.com
X-WR-CALDESC:Events for St. John&#039;s Episcopal Church
REFRESH-INTERVAL;VALUE=DURATION:PT1H
X-Robots-Tag:noindex
X-PUBLISHED-TTL:PT1H
BEGIN:VTIMEZONE
TZID:America/New_York
BEGIN:DAYLIGHT
TZOFFSETFROM:-0500
TZOFFSETTO:-0400
TZNAME:EDT
DTSTART:20240310T070000
END:DAYLIGHT
BEGIN:STANDARD
TZOFFSETFROM:-0400
TZOFFSETTO:-0500
TZNAME:EST
DTSTART:20241103T060000
END:STANDARD
BEGIN:DAYLIGHT
TZOFFSETFROM:-0500
TZOFFSETTO:-0400
TZNAME:EDT
DTSTART:20250309T070000
END:DAYLIGHT
BEGIN:STANDARD
TZOFFSETFROM:-0400
TZOFFSETTO:-0500
TZNAME:EST
DTSTART:20251102T060000
END:STANDARD
BEGIN:DAYLIGHT
TZOFFSETFROM:-0500
TZOFFSETTO:-0400
TZNAME:EDT
DTSTART:20260308T070000
END:DAYLIGHT
BEGIN:STANDARD
TZOFFSETFROM:-0400
TZOFFSETTO:-0500
TZNAME:EST
DTSTART:20261101T060000
END:STANDARD
END:VTIMEZONE
BEGIN:VEVENT
DTSTART;TZID=America/New_York:20250615T111500
DTEND;TZID=America/New_York:20250615T130000
DTSTAMP:20260422T063307
CREATED:20250214T163903Z
LAST-MODIFIED:20250214T163903Z
UID:10021765-1749986100-1749992400@stjohnscalendar.com
SUMMARY:Daughters of the King Training
DESCRIPTION:
URL:https://stjohnscalendar.com/event/daughters-of-the-king-training/2025-06-15/
LOCATION:Press Room
END:VEVENT
BEGIN:VEVENT
DTSTART;TZID=America/New_York:20250615T110000
DTEND;TZID=America/New_York:20250615T113000
DTSTAMP:20260422T063307
CREATED:20250505T112804Z
LAST-MODIFIED:20250505T112804Z
UID:10022569-1749985200-1749987000@stjohnscalendar.com
SUMMARY:Pastoral Care
DESCRIPTION:
URL:https://stjohnscalendar.com/event/pastoral-care-3/2025-06-15/
LOCATION:Carter Chapel\, FL
END:VEVENT
BEGIN:VEVENT
DTSTART;TZID=America/New_York:20250615T090000
DTEND;TZID=America/New_York:20250615T093000
DTSTAMP:20260422T063307
CREATED:20250505T111226Z
LAST-MODIFIED:20250505T113009Z
UID:10022554-1749978000-1749979800@stjohnscalendar.com
SUMMARY:Pastoral Care
DESCRIPTION:
URL:https://stjohnscalendar.com/event/pastoral-care-2/2025-06-15/
LOCATION:Carter Chapel\, FL
END:VEVENT
BEGIN:VEVENT
DTSTART;TZID=America/New_York:20250615T080000
DTEND;TZID=America/New_York:20250615T090000
DTSTAMP:20260422T063307
CREATED:20241217T205803Z
LAST-MODIFIED:20250401T174605Z
UID:10020554-1749974400-1749978000@stjohnscalendar.com
SUMMARY:Holy Eucharist
DESCRIPTION:This traditional Rite I Service of Holy Eucharist meets in the main sanctuary in person.
URL:https://stjohnscalendar.com/event/holy-eucharist-11-2/2025-06-15/
LOCATION:Church
CATEGORIES:Online,Worship
END:VEVENT
BEGIN:VEVENT
DTSTART;TZID=America/New_York:20250614T100000
DTEND;TZID=America/New_York:20250614T113000
DTSTAMP:20260422T063307
CREATED:20250521T153212Z
LAST-MODIFIED:20250602T140424Z
UID:10022924-1749895200-1749900600@stjohnscalendar.com
SUMMARY:May Day History & Practice
DESCRIPTION:On Sat.\, June 14 at 10 AM\, step into the colorful traditions of the Maypole!  \nMany St. John’s parishioners may have danced the Maypole in their youth – or always wanted to learn. Join us for a lively 90-minute workshop that weaves together the rich\, multicultural history of the maypole. Afterwards\, we will learn to dance the Maypole together in Eve’s Garden. All are welcome! \nCLICK HERE TO RSVP.
URL:https://stjohnscalendar.com/event/mayday2025/
LOCATION:Killeen Hall
CATEGORIES:Adult Education,Children,FP - Events,Front Porch,Ministry Gatherings
ATTACH;FMTTYPE=image/png:https://stjohnscalendar.com/wp-content/uploads/2025/05/May-Day-2025-2.png
END:VEVENT
BEGIN:VEVENT
DTSTART;TZID=America/New_York:20250614T090000
DTEND;TZID=America/New_York:20250614T103000
DTSTAMP:20260422T063307
CREATED:20230215T184245Z
LAST-MODIFIED:20260409T163445Z
UID:10011121-1749891600-1749897000@stjohnscalendar.com
SUMMARY:Altar Guild
DESCRIPTION:
URL:https://stjohnscalendar.com/event/altar-guild-4/2025-06-14/
LOCATION:Church
END:VEVENT
BEGIN:VEVENT
DTSTART;TZID=America/New_York:20250613T183000
DTEND;TZID=America/New_York:20250613T200000
DTSTAMP:20260422T063307
CREATED:20250606T120357Z
LAST-MODIFIED:20250606T120357Z
UID:10023208-1749839400-1749844800@stjohnscalendar.com
SUMMARY:Donor/Volunteer Thank You Event
DESCRIPTION:
URL:https://stjohnscalendar.com/event/donor-volunteer-thank-you-event-2/2025-06-13/
LOCATION:Killeen Hall
END:VEVENT
BEGIN:VEVENT
DTSTART;TZID=America/New_York:20250612T183000
DTEND;TZID=America/New_York:20250612T200000
DTSTAMP:20260422T063307
CREATED:20250429T194511Z
LAST-MODIFIED:20250429T195509Z
UID:10022547-1749753000-1749758400@stjohnscalendar.com
SUMMARY:SPUDS Summer Gathering
DESCRIPTION:Join us for a warm and welcoming summer evening with SPUDS—St. John’s Parishioners United for Dining and Spirit! All are invited to gather for light refreshments and good company with fellow St. John’s parishioners at the home of Randy & Cindi Briley (4039 Devlin Ct.\, Tallahassee\, FL 32309). \nNo RSVP needed—just come as you are and bring a bottle of wine or your favorite beverage to share. Let’s enjoy the summer season together! \nEmail Peggy Bielby (peggybielby@aol.com) if you have any questions. \nSPUDS meets quarterly\, typically the second Thursday of March\, June\, September\, and December for fun and fellowship.
URL:https://stjohnscalendar.com/event/spudssummer25/
LOCATION:The Briley Home
CATEGORIES:Parish Life
ATTACH;FMTTYPE=image/png:https://stjohnscalendar.com/wp-content/uploads/2025/04/SPUDS-June-2025.png
ORGANIZER;CN="Peggy Bielby":MAILTO:peggybielby@aol.com
END:VEVENT
BEGIN:VEVENT
DTSTART;TZID=America/New_York:20250610T130000
DTEND;TZID=America/New_York:20250610T140000
DTSTAMP:20260422T063307
CREATED:20250606T134832Z
LAST-MODIFIED:20250606T134832Z
UID:10023210-1749560400-1749564000@stjohnscalendar.com
SUMMARY:Church Insurance
DESCRIPTION:
URL:https://stjohnscalendar.com/event/church-insurance/
LOCATION:Rutledge
END:VEVENT
BEGIN:VEVENT
DTSTART;TZID=America/New_York:20250610T090000
DTEND;TZID=America/New_York:20250610T120000
DTSTAMP:20260422T063307
CREATED:20250609T142154Z
LAST-MODIFIED:20250609T142154Z
UID:10023211-1749546000-1749556800@stjohnscalendar.com
SUMMARY:Organ Practice & Audition
DESCRIPTION:
URL:https://stjohnscalendar.com/event/organ-practice-audition/
LOCATION:Church
END:VEVENT
BEGIN:VEVENT
DTSTART;TZID=America/New_York:20250609T190000
DTEND;TZID=America/New_York:20250609T203000
DTSTAMP:20260422T063307
CREATED:20250916T170534Z
LAST-MODIFIED:20250916T170534Z
UID:10026748-1749495600-1749501000@stjohnscalendar.com
SUMMARY:Centering Prayer
DESCRIPTION:Centering Prayer is a movement beyond words or silent communion with God. Our Centering Prayer group meets weekly to study scripture\, discuss writings by contemplative authors\, and listen to God through Centering Prayer. All are welcome! \nThis event is Zoom Only! Join us using the link below on Monday evenings: \nhttps://us02web.zoom.us/j/455609224?pwd=azdzQ2FydTF2V1p5NndEaGQ0RjliUT09 \nPassword: 1829 \nClick to join the meeting or call-in by phone: (301) 715–8592\nMeeting ID: 455 609 224 \n  \n \nOur weekly classes are presented by The Front Porch: a Spiritual Life Center. The Front Porch welcomes people along all paths who seek to deepen their spiritual lives. We offer contemplative practices\, events\, and classes rooted in Christian spirituality.
URL:https://stjohnscalendar.com/event/centering-prayer-8/
LOCATION:Zoom – link in description
CATEGORIES:Contemplative Spirituality,FP - Classes,Front Porch
ATTACH;FMTTYPE=image/jpeg:https://stjohnscalendar.com/wp-content/uploads/2020/08/centeringprayerbanner.jpg
ORGANIZER;CN="Nancy Bechard":MAILTO:nancylynn0119@comcast.net
END:VEVENT
BEGIN:VEVENT
DTSTART;TZID=America/New_York:20250609T140000
DTEND;TZID=America/New_York:20250609T153000
DTSTAMP:20260422T063307
CREATED:20250604T103349Z
LAST-MODIFIED:20250604T104729Z
UID:10023203-1749477600-1749483000@stjohnscalendar.com
SUMMARY:Cemetery Overview
DESCRIPTION:
URL:https://stjohnscalendar.com/event/cemetery-overview/
LOCATION:Rutledge
END:VEVENT
BEGIN:VEVENT
DTSTART;TZID=America/New_York:20250608T113000
DTEND;TZID=America/New_York:20250608T123000
DTSTAMP:20260422T063307
CREATED:20250521T140546Z
LAST-MODIFIED:20250521T201852Z
UID:10022923-1749382200-1749385800@stjohnscalendar.com
SUMMARY:A Celebration of Ministry for Betsy Calhoun
DESCRIPTION:St. John’s is deeply grateful for the time\, talent\, and unwavering dedication Betsy Calhoun has shared with our music ministry over the past 35 years. Her leadership has been a blessing to generations of worshipers\, and her absence will be deeply felt. \nJoin us on Pentecost Sunday\, June 8\, at 11:30 a.m. in Alfriend Hall as we honor Betsy’s incredible impact and faithful service. Enjoy refreshments and hear heartfelt reflections from those whose lives have been especially touched by her ministry. We hope you’ll be part of this meaningful celebration. \nAs Betsy prepares to retire\, many have asked how they might express their gratitude. In her honor\, we have established a Pipe Organ Maintenance Fund to support the ongoing care of our beloved C.B. Fisk pipe organ—a fitting tribute to her lifelong passion for sacred music. \nWe invite you to make a gift to this fund in celebration of Betsy’s remarkable legacy. Click here to give.
URL:https://stjohnscalendar.com/event/betsycalhouncelebration/
LOCATION:Alfriend Hall
CATEGORIES:Music,Parish Life,Special Occasions
ATTACH;FMTTYPE=image/png:https://stjohnscalendar.com/wp-content/uploads/2025/05/Celebrating-Betsy-Calhoun-2025.png
END:VEVENT
BEGIN:VEVENT
DTSTART;TZID=America/New_York:20250608T111500
DTEND;TZID=America/New_York:20250608T130000
DTSTAMP:20260422T063307
CREATED:20250214T163903Z
LAST-MODIFIED:20250214T163903Z
UID:10021764-1749381300-1749387600@stjohnscalendar.com
SUMMARY:Daughters of the King Training
DESCRIPTION:
URL:https://stjohnscalendar.com/event/daughters-of-the-king-training/2025-06-08/
LOCATION:Press Room
END:VEVENT
BEGIN:VEVENT
DTSTART;TZID=America/New_York:20250608T110000
DTEND;TZID=America/New_York:20250608T113000
DTSTAMP:20260422T063307
CREATED:20250505T112804Z
LAST-MODIFIED:20250505T112804Z
UID:10022568-1749380400-1749382200@stjohnscalendar.com
SUMMARY:Pastoral Care
DESCRIPTION:
URL:https://stjohnscalendar.com/event/pastoral-care-3/2025-06-08/
LOCATION:Carter Chapel\, FL
END:VEVENT
BEGIN:VEVENT
DTSTART;TZID=America/New_York:20250608T090000
DTEND;TZID=America/New_York:20250608T093000
DTSTAMP:20260422T063307
CREATED:20250505T111226Z
LAST-MODIFIED:20250505T113009Z
UID:10022553-1749373200-1749375000@stjohnscalendar.com
SUMMARY:Pastoral Care
DESCRIPTION:
URL:https://stjohnscalendar.com/event/pastoral-care-2/2025-06-08/
LOCATION:Carter Chapel\, FL
END:VEVENT
BEGIN:VEVENT
DTSTART;TZID=America/New_York:20250608T080000
DTEND;TZID=America/New_York:20250608T090000
DTSTAMP:20260422T063307
CREATED:20241217T205803Z
LAST-MODIFIED:20250401T174605Z
UID:10020553-1749369600-1749373200@stjohnscalendar.com
SUMMARY:Holy Eucharist
DESCRIPTION:This traditional Rite I Service of Holy Eucharist meets in the main sanctuary in person.
URL:https://stjohnscalendar.com/event/holy-eucharist-11-2/2025-06-08/
LOCATION:Church
CATEGORIES:Online,Worship
END:VEVENT
BEGIN:VEVENT
DTSTART;TZID=America/New_York:20250607T090000
DTEND;TZID=America/New_York:20250607T103000
DTSTAMP:20260422T063307
CREATED:20230215T184245Z
LAST-MODIFIED:20260409T163445Z
UID:10011120-1749286800-1749292200@stjohnscalendar.com
SUMMARY:Altar Guild
DESCRIPTION:
URL:https://stjohnscalendar.com/event/altar-guild-4/2025-06-07/
LOCATION:Church
END:VEVENT
BEGIN:VEVENT
DTSTART;TZID=America/New_York:20250602T190000
DTEND;TZID=America/New_York:20250602T210000
DTSTAMP:20260422T063307
CREATED:20250404T134935Z
LAST-MODIFIED:20250404T134935Z
UID:10022051-1748890800-1748898000@stjohnscalendar.com
SUMMARY:Community Chorus
DESCRIPTION:
URL:https://stjohnscalendar.com/event/community-chorus-6/
LOCATION:Carter Chapel\, FL
END:VEVENT
BEGIN:VEVENT
DTSTART;TZID=America/New_York:20250601T150000
DTEND;TZID=America/New_York:20250601T170000
DTSTAMP:20260422T063307
CREATED:20240820T193643Z
LAST-MODIFIED:20240820T193643Z
UID:10019535-1748790000-1748797200@stjohnscalendar.com
SUMMARY:Bach Parley Concert
DESCRIPTION:
URL:https://stjohnscalendar.com/event/bach-parley-concert-9/
LOCATION:Church
ORGANIZER;CN="Valerie Arsenault":MAILTO:MusicDirector@tallahasseebachparley.org
END:VEVENT
BEGIN:VEVENT
DTSTART;TZID=America/New_York:20250601T111500
DTEND;TZID=America/New_York:20250601T130000
DTSTAMP:20260422T063307
CREATED:20250214T163903Z
LAST-MODIFIED:20250214T163903Z
UID:10021763-1748776500-1748782800@stjohnscalendar.com
SUMMARY:Daughters of the King Training
DESCRIPTION:
URL:https://stjohnscalendar.com/event/daughters-of-the-king-training/2025-06-01/
LOCATION:Press Room
END:VEVENT
BEGIN:VEVENT
DTSTART;TZID=America/New_York:20250601T110000
DTEND;TZID=America/New_York:20250601T113000
DTSTAMP:20260422T063307
CREATED:20250505T112804Z
LAST-MODIFIED:20250505T112804Z
UID:10022567-1748775600-1748777400@stjohnscalendar.com
SUMMARY:Pastoral Care
DESCRIPTION:
URL:https://stjohnscalendar.com/event/pastoral-care-3/2025-06-01/
LOCATION:Carter Chapel\, FL
END:VEVENT
BEGIN:VEVENT
DTSTART;TZID=America/New_York:20250601T090000
DTEND;TZID=America/New_York:20250601T093000
DTSTAMP:20260422T063307
CREATED:20250505T111226Z
LAST-MODIFIED:20250505T113009Z
UID:10022552-1748768400-1748770200@stjohnscalendar.com
SUMMARY:Pastoral Care
DESCRIPTION:
URL:https://stjohnscalendar.com/event/pastoral-care-2/2025-06-01/
LOCATION:Carter Chapel\, FL
END:VEVENT
BEGIN:VEVENT
DTSTART;TZID=America/New_York:20250601T080000
DTEND;TZID=America/New_York:20250601T090000
DTSTAMP:20260422T063307
CREATED:20241217T205803Z
LAST-MODIFIED:20250401T174605Z
UID:10020552-1748764800-1748768400@stjohnscalendar.com
SUMMARY:Holy Eucharist
DESCRIPTION:This traditional Rite I Service of Holy Eucharist meets in the main sanctuary in person.
URL:https://stjohnscalendar.com/event/holy-eucharist-11-2/2025-06-01/
LOCATION:Church
CATEGORIES:Online,Worship
END:VEVENT
BEGIN:VEVENT
DTSTART;TZID=America/New_York:20250531T150000
DTEND;TZID=America/New_York:20250531T170000
DTSTAMP:20260422T063307
CREATED:20240820T193614Z
LAST-MODIFIED:20240820T193614Z
UID:10019534-1748703600-1748710800@stjohnscalendar.com
SUMMARY:Bach Parley Dress Rehearsal
DESCRIPTION:
URL:https://stjohnscalendar.com/event/bach-parley-dress-rehearsal-8/
LOCATION:Church
ORGANIZER;CN="Valerie Arsenault":MAILTO:MusicDirector@tallahasseebachparley.org
END:VEVENT
BEGIN:VEVENT
DTSTART;TZID=America/New_York:20250531T113000
DTEND;TZID=America/New_York:20250531T150000
DTSTAMP:20260422T063307
CREATED:20240820T193542Z
LAST-MODIFIED:20240820T193542Z
UID:10019533-1748691000-1748703600@stjohnscalendar.com
SUMMARY:Bach Parley Rehearsal
DESCRIPTION:
URL:https://stjohnscalendar.com/event/bach-parley-rehearsal-38/
LOCATION:Church
ORGANIZER;CN="Valerie Arsenault":MAILTO:MusicDirector@tallahasseebachparley.org
END:VEVENT
BEGIN:VEVENT
DTSTART;TZID=America/New_York:20250531T090000
DTEND;TZID=America/New_York:20250531T103000
DTSTAMP:20260422T063307
CREATED:20230215T184245Z
LAST-MODIFIED:20260409T163445Z
UID:10011119-1748682000-1748687400@stjohnscalendar.com
SUMMARY:Altar Guild
DESCRIPTION:
URL:https://stjohnscalendar.com/event/altar-guild-4/2025-05-31/
LOCATION:Church
END:VEVENT
BEGIN:VEVENT
DTSTART;TZID=America/New_York:20250530T120000
DTEND;TZID=America/New_York:20250530T200000
DTSTAMP:20260422T063307
CREATED:20240820T193517Z
LAST-MODIFIED:20240820T193517Z
UID:10019532-1748606400-1748635200@stjohnscalendar.com
SUMMARY:Bach Parley Rehearsal
DESCRIPTION:
URL:https://stjohnscalendar.com/event/bach-parley-rehearsal-37/
LOCATION:Church
ORGANIZER;CN="Valerie Arsenault":MAILTO:MusicDirector@tallahasseebachparley.org
END:VEVENT
BEGIN:VEVENT
DTSTART;TZID=America/New_York:20250529T180000
DTEND;TZID=America/New_York:20250529T213000
DTSTAMP:20260422T063307
CREATED:20240820T193448Z
LAST-MODIFIED:20240820T193448Z
UID:10019531-1748541600-1748554200@stjohnscalendar.com
SUMMARY:Bach Parley Rehearsal
DESCRIPTION:
URL:https://stjohnscalendar.com/event/bach-parley-rehearsal-36/
LOCATION:Church
ORGANIZER;CN="Valerie Arsenault":MAILTO:MusicDirector@tallahasseebachparley.org
END:VEVENT
BEGIN:VEVENT
DTSTART;TZID=America/New_York:20250529T180000
DTEND;TZID=America/New_York:20250529T200000
DTSTAMP:20260422T063307
CREATED:20250317T161451Z
LAST-MODIFIED:20250317T161451Z
UID:10018022-1748541600-1748548800@stjohnscalendar.com
SUMMARY:EfM Thursday Night Class (Education for Ministry)
DESCRIPTION:
URL:https://stjohnscalendar.com/event/efm-thursday-night-4/2025-05-29/
LOCATION:Killeen Hall
CATEGORIES:Adult Education
ATTACH;FMTTYPE=image/png:https://stjohnscalendar.com/wp-content/uploads/2021/04/efm_logo_transparent.png
ORGANIZER;CN="Jim Cledinen":MAILTO:jclendinen@gmail.com
END:VEVENT
END:VCALENDAR