BEGIN:VCALENDAR
VERSION:2.0
PRODID:-//St. John&#039;s Episcopal Church - ECPv6.15.14//NONSGML v1.0//EN
CALSCALE:GREGORIAN
METHOD:PUBLISH
X-WR-CALNAME:St. John&#039;s Episcopal Church
X-ORIGINAL-URL:https://stjohnscalendar.com
X-WR-CALDESC:Events for St. John&#039;s Episcopal Church
REFRESH-INTERVAL;VALUE=DURATION:PT1H
X-Robots-Tag:noindex
X-PUBLISHED-TTL:PT1H
BEGIN:VTIMEZONE
TZID:America/New_York
BEGIN:DAYLIGHT
TZOFFSETFROM:-0500
TZOFFSETTO:-0400
TZNAME:EDT
DTSTART:20250309T070000
END:DAYLIGHT
BEGIN:STANDARD
TZOFFSETFROM:-0400
TZOFFSETTO:-0500
TZNAME:EST
DTSTART:20251102T060000
END:STANDARD
BEGIN:DAYLIGHT
TZOFFSETFROM:-0500
TZOFFSETTO:-0400
TZNAME:EDT
DTSTART:20260308T070000
END:DAYLIGHT
BEGIN:STANDARD
TZOFFSETFROM:-0400
TZOFFSETTO:-0500
TZNAME:EST
DTSTART:20261101T060000
END:STANDARD
BEGIN:DAYLIGHT
TZOFFSETFROM:-0500
TZOFFSETTO:-0400
TZNAME:EDT
DTSTART:20270314T070000
END:DAYLIGHT
BEGIN:STANDARD
TZOFFSETFROM:-0400
TZOFFSETTO:-0500
TZNAME:EST
DTSTART:20271107T060000
END:STANDARD
END:VTIMEZONE
BEGIN:VEVENT
DTSTART;TZID=America/New_York:20260709T130000
DTEND;TZID=America/New_York:20260709T143000
DTSTAMP:20260425T080429
CREATED:20260421T200847Z
LAST-MODIFIED:20260421T200847Z
UID:10029872-1783602000-1783607400@stjohnscalendar.com
SUMMARY:Senior Staff Meeting
DESCRIPTION:
URL:https://stjohnscalendar.com/event/senior-staff-meeting/2026-07-09/
LOCATION:Rector’s Office
END:VEVENT
BEGIN:VEVENT
DTSTART;TZID=America/New_York:20260709T120000
DTEND;TZID=America/New_York:20260709T130000
DTSTAMP:20260425T080429
CREATED:20260408T150917Z
LAST-MODIFIED:20260408T150917Z
UID:10029793-1783598400-1783602000@stjohnscalendar.com
SUMMARY:The Good Book
DESCRIPTION:Community\, conversation\, learning\, prayer: all rooted in God’s Word. Join us for an online Bible study that will help you grow in faith. This weekly class gathers online via Zoom. \nClick here to join: https://us02web.zoom.us/j/87909742913?pwd=ZTNGTGpVV0w2YUJvZjMvWVpHemFEdz09 \nPasscode: 1829 \nClick to join the meeting or call (301) 715–8592\nMeeting ID: 879 0974 2913
URL:https://stjohnscalendar.com/event/the-good-book-6/2026-07-09/
LOCATION:Zoom – link in description
CATEGORIES:Adult Education
END:VEVENT
BEGIN:VEVENT
DTSTART;VALUE=DATE:20260708
DTEND;VALUE=DATE:20260719
DTSTAMP:20260425T080429
CREATED:20250819T151818Z
LAST-MODIFIED:20260408T162441Z
UID:10025313-1783468800-1784419199@stjohnscalendar.com
SUMMARY:2026 Ecuador High School Mission Trip
DESCRIPTION:St. John’s youth will return to Quito\, Ecuador  – Wednesday\, July 8 to Saturday\, July 18\, 2026!* \nNOTE: On Sunday\, January 18 at 5 p.m. in Bishop’s Common\, we’re going to hold an interest and informational meeting about the trip. We’ll go over the details\, travel\, and cost. You don’t want to miss out! Come along and hear all about it. \nWHO: This trip is open to rising 9th through 12th graders. \nWHAT: We will know more about our specific work areas as our time in Quito approaches\, but typically it is a mix of children’s programs\, improving the physical church building\, a day or two of service in nearby homes of church parishioners\, and worship with friends at the church. The itinerary is developed in partnership with Caroline and John Allen\, and our ministry partners in Quito. \nOVERALL COST: The expected overall cost for the trip is $2\,200. However\, our goal is to raise $800 per youth participant through group fundraising at church. This means\, mission team members will be responsible for covering approximately $1\,400. We encourage you to talk with your youth about how they can raise some of the remaining cost themselves (writing letters\, working\, or other fundraisers). Confidential scholarships are available and we are happy to work together to find an amount that is reasonable for your family. We can also help you develop an individual fundraising plan. \nFUNDRAISERS: Our tentative list of fundraisers is available on the information form (see “resources” tab). Team members are expected to be involved each of these events which\, in addition to raising funds\, provide valuable opportunities for team building. \nWHAT’S INCLUDED: Roughly half of the overall cost is airfare. Your participant fee includes travel insurance\, all meals\, lodging\, private in-country transportation\, cultural activities\, and contributions to the ministries we will be partnering with in Quito. \nNEXT STEPS: Submit your non-refundable deposit of $200 and a completed Youth Mission or Chaperone Information Form. Registration will be open until January 12\, 2026 (or until our team is full). \n*Please Note: dates could be adjusted one day on either end as flights are confirmed.* \nREGISTER TODAY!
URL:https://stjohnscalendar.com/event/ecuadoryouthmission26/
LOCATION:Off-site Location\, Quito\, Ecuador
CATEGORIES:Outreach,Special Events,Youth
ORGANIZER;CN="Tyree Jordan":MAILTO:tyree@saint-john.org.
END:VEVENT
BEGIN:VEVENT
DTSTART;TZID=America/New_York:20260707T123000
DTEND;TZID=America/New_York:20260707T133000
DTSTAMP:20260425T080429
CREATED:20250828T153306Z
LAST-MODIFIED:20250908T205630Z
UID:10026165-1783427400-1783431000@stjohnscalendar.com
SUMMARY:Bible Study
DESCRIPTION:
URL:https://stjohnscalendar.com/event/bible-study/2026-07-07/
LOCATION:Press Room
END:VEVENT
BEGIN:VEVENT
DTSTART;TZID=America/New_York:20260707T100000
DTEND;TZID=America/New_York:20260707T110000
DTSTAMP:20260425T080429
CREATED:20260421T193736Z
LAST-MODIFIED:20260421T193736Z
UID:10029847-1783418400-1783422000@stjohnscalendar.com
SUMMARY:Liturgy Meeting
DESCRIPTION:
URL:https://stjohnscalendar.com/event/liturgy-meeting-7/2026-07-07/
LOCATION:Killeen Hall
END:VEVENT
BEGIN:VEVENT
DTSTART;TZID=America/New_York:20260707T093000
DTEND;TZID=America/New_York:20260707T100000
DTSTAMP:20260425T080429
CREATED:20260421T185559Z
LAST-MODIFIED:20260421T185559Z
UID:10029832-1783416600-1783418400@stjohnscalendar.com
SUMMARY:Staff Meeting
DESCRIPTION:
URL:https://stjohnscalendar.com/event/staff-meeting-6/2026-07-07/
LOCATION:Killeen Hall
ORGANIZER;CN="Holly Sinco":MAILTO:holly@saint-john.org
END:VEVENT
BEGIN:VEVENT
DTSTART;TZID=America/New_York:20260706T190000
DTEND;TZID=America/New_York:20260706T203000
DTSTAMP:20260425T080429
CREATED:20260423T132858Z
LAST-MODIFIED:20260423T132858Z
UID:10029906-1783364400-1783369800@stjohnscalendar.com
SUMMARY:Centering Prayer
DESCRIPTION:Centering Prayer is a movement beyond words or silent communion with God. Our Centering Prayer group meets weekly to study scripture\, discuss writings by contemplative authors\, and listen to God through Centering Prayer. All are welcome! \nThis event is Zoom Only! Join us using the link below on Monday evenings: \nhttps://us02web.zoom.us/j/455609224?pwd=azdzQ2FydTF2V1p5NndEaGQ0RjliUT09 \nPassword: 1829 \nClick to join the meeting or call-in by phone: (301) 715–8592\nMeeting ID: 455 609 224 \n  \n \nOur weekly classes are presented by The Front Porch: a Spiritual Life Center. The Front Porch welcomes people along all paths who seek to deepen their spiritual lives. We offer contemplative practices\, events\, and classes rooted in Christian spirituality.
URL:https://stjohnscalendar.com/event/centering-prayer-5/2026-07-06/
LOCATION:Zoom – link in description
CATEGORIES:Contemplative Spirituality,FP - Classes,Front Porch
ORGANIZER;CN="Nancy Bechard":MAILTO:nancylynn0119@comcast.net
END:VEVENT
BEGIN:VEVENT
DTSTART;TZID=America/New_York:20260705T074500
DTEND;TZID=America/New_York:20260705T084500
DTSTAMP:20260425T080429
CREATED:20251106T205730Z
LAST-MODIFIED:20260311T173056Z
UID:10027935-1783237500-1783241100@stjohnscalendar.com
SUMMARY:Holy Eucharist Rite I Worship Service
DESCRIPTION:This traditional\, contemplative Rite I Service of Holy Eucharist meets in the main sanctuary in person.
URL:https://stjohnscalendar.com/event/holy-eucharist-rite-i-worship-service/2026-07-05/
LOCATION:Church
CATEGORIES:Worship
END:VEVENT
BEGIN:VEVENT
DTSTART;TZID=America/New_York:20260702T133000
DTEND;TZID=America/New_York:20260702T140000
DTSTAMP:20260425T080429
CREATED:20260424T211613Z
LAST-MODIFIED:20260424T211613Z
UID:10029959-1782999000-1783000800@stjohnscalendar.com
SUMMARY:Facilities Huddle
DESCRIPTION:
URL:https://stjohnscalendar.com/event/facilities-huddle/2026-07-02/
LOCATION:Rutledge Room\, FL
END:VEVENT
BEGIN:VEVENT
DTSTART;TZID=America/New_York:20260702T130000
DTEND;TZID=America/New_York:20260702T143000
DTSTAMP:20260425T080429
CREATED:20260421T200847Z
LAST-MODIFIED:20260421T200847Z
UID:10029871-1782997200-1783002600@stjohnscalendar.com
SUMMARY:Senior Staff Meeting
DESCRIPTION:
URL:https://stjohnscalendar.com/event/senior-staff-meeting/2026-07-02/
LOCATION:Rector’s Office
END:VEVENT
BEGIN:VEVENT
DTSTART;TZID=America/New_York:20260702T120000
DTEND;TZID=America/New_York:20260702T130000
DTSTAMP:20260425T080429
CREATED:20260408T150917Z
LAST-MODIFIED:20260408T150917Z
UID:10029792-1782993600-1782997200@stjohnscalendar.com
SUMMARY:The Good Book
DESCRIPTION:Community\, conversation\, learning\, prayer: all rooted in God’s Word. Join us for an online Bible study that will help you grow in faith. This weekly class gathers online via Zoom. \nClick here to join: https://us02web.zoom.us/j/87909742913?pwd=ZTNGTGpVV0w2YUJvZjMvWVpHemFEdz09 \nPasscode: 1829 \nClick to join the meeting or call (301) 715–8592\nMeeting ID: 879 0974 2913
URL:https://stjohnscalendar.com/event/the-good-book-6/2026-07-02/
LOCATION:Zoom – link in description
CATEGORIES:Adult Education
END:VEVENT
BEGIN:VEVENT
DTSTART;TZID=America/New_York:20260630T123000
DTEND;TZID=America/New_York:20260630T133000
DTSTAMP:20260425T080429
CREATED:20260421T200642Z
LAST-MODIFIED:20260421T200642Z
UID:10029858-1782822600-1782826200@stjohnscalendar.com
SUMMARY:Pastoral Care Team Meeting
DESCRIPTION:
URL:https://stjohnscalendar.com/event/pastoral-care-team-meeting-8/2026-06-30/
LOCATION:Adult Meeting Room\, FL
ORGANIZER;CN="Deacon Melanie Salsgiver":MAILTO:melanie@saint-john.org
END:VEVENT
BEGIN:VEVENT
DTSTART;TZID=America/New_York:20260630T123000
DTEND;TZID=America/New_York:20260630T133000
DTSTAMP:20260425T080429
CREATED:20250828T153306Z
LAST-MODIFIED:20250908T205630Z
UID:10026164-1782822600-1782826200@stjohnscalendar.com
SUMMARY:Bible Study
DESCRIPTION:
URL:https://stjohnscalendar.com/event/bible-study/2026-06-30/
LOCATION:Press Room
END:VEVENT
BEGIN:VEVENT
DTSTART;TZID=America/New_York:20260630T100000
DTEND;TZID=America/New_York:20260630T110000
DTSTAMP:20260425T080429
CREATED:20260421T193736Z
LAST-MODIFIED:20260421T193736Z
UID:10029846-1782813600-1782817200@stjohnscalendar.com
SUMMARY:Liturgy Meeting
DESCRIPTION:
URL:https://stjohnscalendar.com/event/liturgy-meeting-7/2026-06-30/
LOCATION:Killeen Hall
END:VEVENT
BEGIN:VEVENT
DTSTART;TZID=America/New_York:20260630T093000
DTEND;TZID=America/New_York:20260630T100000
DTSTAMP:20260425T080429
CREATED:20260421T185559Z
LAST-MODIFIED:20260421T185559Z
UID:10029831-1782811800-1782813600@stjohnscalendar.com
SUMMARY:Staff Meeting
DESCRIPTION:
URL:https://stjohnscalendar.com/event/staff-meeting-6/2026-06-30/
LOCATION:Killeen Hall
ORGANIZER;CN="Holly Sinco":MAILTO:holly@saint-john.org
END:VEVENT
BEGIN:VEVENT
DTSTART;TZID=America/New_York:20260629T190000
DTEND;TZID=America/New_York:20260629T203000
DTSTAMP:20260425T080429
CREATED:20260423T132858Z
LAST-MODIFIED:20260423T132858Z
UID:10029905-1782759600-1782765000@stjohnscalendar.com
SUMMARY:Centering Prayer
DESCRIPTION:Centering Prayer is a movement beyond words or silent communion with God. Our Centering Prayer group meets weekly to study scripture\, discuss writings by contemplative authors\, and listen to God through Centering Prayer. All are welcome! \nThis event is Zoom Only! Join us using the link below on Monday evenings: \nhttps://us02web.zoom.us/j/455609224?pwd=azdzQ2FydTF2V1p5NndEaGQ0RjliUT09 \nPassword: 1829 \nClick to join the meeting or call-in by phone: (301) 715–8592\nMeeting ID: 455 609 224 \n  \n \nOur weekly classes are presented by The Front Porch: a Spiritual Life Center. The Front Porch welcomes people along all paths who seek to deepen their spiritual lives. We offer contemplative practices\, events\, and classes rooted in Christian spirituality.
URL:https://stjohnscalendar.com/event/centering-prayer-5/2026-06-29/
LOCATION:Zoom – link in description
CATEGORIES:Contemplative Spirituality,FP - Classes,Front Porch
ORGANIZER;CN="Nancy Bechard":MAILTO:nancylynn0119@comcast.net
END:VEVENT
BEGIN:VEVENT
DTSTART;TZID=America/New_York:20260629T130000
DTEND;TZID=America/New_York:20260629T140000
DTSTAMP:20260425T080429
CREATED:20260223T191803Z
LAST-MODIFIED:20260223T191803Z
UID:10029688-1782738000-1782741600@stjohnscalendar.com
SUMMARY:Nancy Mattimore Small Group Meeting
DESCRIPTION:
URL:https://stjohnscalendar.com/event/nancy-mattimore-small-group-meeting/2026-06-29/
LOCATION:Rutledge Room\, FL
CATEGORIES:Parish Life
END:VEVENT
BEGIN:VEVENT
DTSTART;TZID=America/New_York:20260628T150000
DTEND;TZID=America/New_York:20260628T160000
DTSTAMP:20260425T080429
CREATED:20260408T201953Z
LAST-MODIFIED:20260408T202027Z
UID:10029808-1782658800-1782662400@stjohnscalendar.com
SUMMARY:Walking the Mourner's Path - Spring 2026
DESCRIPTION:When someone in our life dies\, it affects our entire being. St. John’s offers “Walking the Mourner’s Path\,” a six- to eight-week grief support program that is grounded in prayer and reminds us that we are not alone in our grief. If you have lost a loved one and have walked the path of grief over the past year or years\, “Walking the Mourner’s Path” may be what you need. Open to St. John’s members and the community alike\, the program gathers participants for a series of small-group workshops. It’s different than a Sunday morning faith formation program\, but the format allows time for being still together\, sharing stories\, and seeing where God is in our grief and in our hope. The spring 2026 series of workshops will be held on Sunday afternoons from 3:00-4:30 PM in Killeen Hall at St. John’s Episcopal Church. Gatherings begin on Sunday\, April 26\, 2026 and will be held weekly through Sunday\, June 28. (We will not meet on 5/10 or 5/24.) There is a $65 fee* to cover the cost of the workbook.  CLICK HERE TO REGISTER You will receive more information after you register\, but please feel free to contact Melanie Salsgiver with additional questions or for more details. \n\n\n\n*Please note that this cost should not prohibit you from attending. Scholarships are available as needed.
URL:https://stjohnscalendar.com/event/wtmp2026/2026-06-28/
LOCATION:Killeen Hall
CATEGORIES:Adult Education,Ministry Gatherings,Outreach
END:VEVENT
BEGIN:VEVENT
DTSTART;TZID=America/New_York:20260628T074500
DTEND;TZID=America/New_York:20260628T084500
DTSTAMP:20260425T080429
CREATED:20251106T205730Z
LAST-MODIFIED:20260311T173056Z
UID:10027934-1782632700-1782636300@stjohnscalendar.com
SUMMARY:Holy Eucharist Rite I Worship Service
DESCRIPTION:This traditional\, contemplative Rite I Service of Holy Eucharist meets in the main sanctuary in person.
URL:https://stjohnscalendar.com/event/holy-eucharist-rite-i-worship-service/2026-06-28/
LOCATION:Church
CATEGORIES:Worship
END:VEVENT
BEGIN:VEVENT
DTSTART;TZID=America/New_York:20260625T133000
DTEND;TZID=America/New_York:20260625T140000
DTSTAMP:20260425T080429
CREATED:20260424T211613Z
LAST-MODIFIED:20260424T211613Z
UID:10029958-1782394200-1782396000@stjohnscalendar.com
SUMMARY:Facilities Huddle
DESCRIPTION:
URL:https://stjohnscalendar.com/event/facilities-huddle/2026-06-25/
LOCATION:Rutledge Room\, FL
END:VEVENT
BEGIN:VEVENT
DTSTART;TZID=America/New_York:20260625T130000
DTEND;TZID=America/New_York:20260625T143000
DTSTAMP:20260425T080429
CREATED:20260421T200847Z
LAST-MODIFIED:20260421T200847Z
UID:10029870-1782392400-1782397800@stjohnscalendar.com
SUMMARY:Senior Staff Meeting
DESCRIPTION:
URL:https://stjohnscalendar.com/event/senior-staff-meeting/2026-06-25/
LOCATION:Rector’s Office
END:VEVENT
BEGIN:VEVENT
DTSTART;TZID=America/New_York:20260625T120000
DTEND;TZID=America/New_York:20260625T130000
DTSTAMP:20260425T080429
CREATED:20260408T150917Z
LAST-MODIFIED:20260408T150917Z
UID:10029791-1782388800-1782392400@stjohnscalendar.com
SUMMARY:The Good Book
DESCRIPTION:Community\, conversation\, learning\, prayer: all rooted in God’s Word. Join us for an online Bible study that will help you grow in faith. This weekly class gathers online via Zoom. \nClick here to join: https://us02web.zoom.us/j/87909742913?pwd=ZTNGTGpVV0w2YUJvZjMvWVpHemFEdz09 \nPasscode: 1829 \nClick to join the meeting or call (301) 715–8592\nMeeting ID: 879 0974 2913
URL:https://stjohnscalendar.com/event/the-good-book-6/2026-06-25/
LOCATION:Zoom – link in description
CATEGORIES:Adult Education
END:VEVENT
BEGIN:VEVENT
DTSTART;TZID=America/New_York:20260623T123000
DTEND;TZID=America/New_York:20260623T133000
DTSTAMP:20260425T080429
CREATED:20250828T153306Z
LAST-MODIFIED:20250908T205630Z
UID:10026163-1782217800-1782221400@stjohnscalendar.com
SUMMARY:Bible Study
DESCRIPTION:
URL:https://stjohnscalendar.com/event/bible-study/2026-06-23/
LOCATION:Press Room
END:VEVENT
BEGIN:VEVENT
DTSTART;TZID=America/New_York:20260623T100000
DTEND;TZID=America/New_York:20260623T110000
DTSTAMP:20260425T080429
CREATED:20260421T193736Z
LAST-MODIFIED:20260421T193736Z
UID:10029845-1782208800-1782212400@stjohnscalendar.com
SUMMARY:Liturgy Meeting
DESCRIPTION:
URL:https://stjohnscalendar.com/event/liturgy-meeting-7/2026-06-23/
LOCATION:Killeen Hall
END:VEVENT
BEGIN:VEVENT
DTSTART;TZID=America/New_York:20260623T093000
DTEND;TZID=America/New_York:20260623T100000
DTSTAMP:20260425T080429
CREATED:20260421T185559Z
LAST-MODIFIED:20260421T185559Z
UID:10029830-1782207000-1782208800@stjohnscalendar.com
SUMMARY:Staff Meeting
DESCRIPTION:
URL:https://stjohnscalendar.com/event/staff-meeting-6/2026-06-23/
LOCATION:Killeen Hall
ORGANIZER;CN="Holly Sinco":MAILTO:holly@saint-john.org
END:VEVENT
BEGIN:VEVENT
DTSTART;TZID=America/New_York:20260622T190000
DTEND;TZID=America/New_York:20260622T203000
DTSTAMP:20260425T080429
CREATED:20260423T132858Z
LAST-MODIFIED:20260423T132858Z
UID:10029904-1782154800-1782160200@stjohnscalendar.com
SUMMARY:Centering Prayer
DESCRIPTION:Centering Prayer is a movement beyond words or silent communion with God. Our Centering Prayer group meets weekly to study scripture\, discuss writings by contemplative authors\, and listen to God through Centering Prayer. All are welcome! \nThis event is Zoom Only! Join us using the link below on Monday evenings: \nhttps://us02web.zoom.us/j/455609224?pwd=azdzQ2FydTF2V1p5NndEaGQ0RjliUT09 \nPassword: 1829 \nClick to join the meeting or call-in by phone: (301) 715–8592\nMeeting ID: 455 609 224 \n  \n \nOur weekly classes are presented by The Front Porch: a Spiritual Life Center. The Front Porch welcomes people along all paths who seek to deepen their spiritual lives. We offer contemplative practices\, events\, and classes rooted in Christian spirituality.
URL:https://stjohnscalendar.com/event/centering-prayer-5/2026-06-22/
LOCATION:Zoom – link in description
CATEGORIES:Contemplative Spirituality,FP - Classes,Front Porch
ORGANIZER;CN="Nancy Bechard":MAILTO:nancylynn0119@comcast.net
END:VEVENT
BEGIN:VEVENT
DTSTART;VALUE=DATE:20260622
DTEND;VALUE=DATE:20260627
DTSTAMP:20260425T080429
CREATED:20260407T200634Z
LAST-MODIFIED:20260407T200634Z
UID:10029779-1782086400-1782518399@stjohnscalendar.com
SUMMARY:Vacation Bible School 2026
DESCRIPTION:St. John’s Vacation Bible School is back! Join us for some playing\, praying\, creating\, serving\, and learning. This camp will be held on five consecutive evenings from 5:30-8:00 PM. Dinner is included. \nPROGRAM: This year\, VBS will be held in the evening from 5:30-8:00 PM at St. John’s. Through arts & crafts\, stories\, discovery\, and mission\, camp leaders will serve rising PK4 through rising 5th graders. There is NO charge for children to attend VBS! \nAGES: Rising PreK-4* through 5th graders. All grade levels will remain on campus for the duration of the VBS program. \nCOST: There is no cost to attend VBS. \nVOLUNTEERS: Volunteers are needed to make this year’s program a success! \nQUESTIONS? Email Jay Lacy\, (jaywlacy@gmail.com) \n*Children in the PreK program must have their 4th birthday before September 1\, 2025. \nREGISTER TODAY
URL:https://stjohnscalendar.com/event/vbs2026/
LOCATION:St John’s Campus\, FL
CATEGORIES:Children
ATTACH;FMTTYPE=image/jpeg:https://stjohnscalendar.com/wp-content/uploads/2026/04/VBS-2026-resize.jpg
ORGANIZER;CN="Tyree Jordan":MAILTO:tyree@saint-john.org.
END:VEVENT
BEGIN:VEVENT
DTSTART;TZID=America/New_York:20260621T150000
DTEND;TZID=America/New_York:20260621T160000
DTSTAMP:20260425T080429
CREATED:20260408T201953Z
LAST-MODIFIED:20260408T202027Z
UID:10029807-1782054000-1782057600@stjohnscalendar.com
SUMMARY:Walking the Mourner's Path - Spring 2026
DESCRIPTION:When someone in our life dies\, it affects our entire being. St. John’s offers “Walking the Mourner’s Path\,” a six- to eight-week grief support program that is grounded in prayer and reminds us that we are not alone in our grief. If you have lost a loved one and have walked the path of grief over the past year or years\, “Walking the Mourner’s Path” may be what you need. Open to St. John’s members and the community alike\, the program gathers participants for a series of small-group workshops. It’s different than a Sunday morning faith formation program\, but the format allows time for being still together\, sharing stories\, and seeing where God is in our grief and in our hope. The spring 2026 series of workshops will be held on Sunday afternoons from 3:00-4:30 PM in Killeen Hall at St. John’s Episcopal Church. Gatherings begin on Sunday\, April 26\, 2026 and will be held weekly through Sunday\, June 28. (We will not meet on 5/10 or 5/24.) There is a $65 fee* to cover the cost of the workbook.  CLICK HERE TO REGISTER You will receive more information after you register\, but please feel free to contact Melanie Salsgiver with additional questions or for more details. \n\n\n\n*Please note that this cost should not prohibit you from attending. Scholarships are available as needed.
URL:https://stjohnscalendar.com/event/wtmp2026/2026-06-21/
LOCATION:Killeen Hall
CATEGORIES:Adult Education,Ministry Gatherings,Outreach
END:VEVENT
BEGIN:VEVENT
DTSTART;TZID=America/New_York:20260621T074500
DTEND;TZID=America/New_York:20260621T084500
DTSTAMP:20260425T080429
CREATED:20251106T205730Z
LAST-MODIFIED:20260311T173056Z
UID:10027933-1782027900-1782031500@stjohnscalendar.com
SUMMARY:Holy Eucharist Rite I Worship Service
DESCRIPTION:This traditional\, contemplative Rite I Service of Holy Eucharist meets in the main sanctuary in person.
URL:https://stjohnscalendar.com/event/holy-eucharist-rite-i-worship-service/2026-06-21/
LOCATION:Church
CATEGORIES:Worship
END:VEVENT
BEGIN:VEVENT
DTSTART;TZID=America/New_York:20260620T153000
DTEND;TZID=America/New_York:20260620T210000
DTSTAMP:20260425T080429
CREATED:20260326T135647Z
LAST-MODIFIED:20260421T183757Z
UID:10029767-1781969400-1781989200@stjohnscalendar.com
SUMMARY:Midsummer Sound Bath
DESCRIPTION:Join us for a special evening led by Trine\, a trio of dedicated sound healing practitioners on a mission to bring harmony and well-being through the power of sound. Together\, we will celebrate the long-awaited sun-filled days of summer. We will begin promptly at 6 p.m.\, so we recommend arriving at 5:30 p.m. to set up your space. \nDress comfortably and bring a yoga mat\, pillow\, and blanket. (We suggest cushioned mats as our wood floor is a hard surface. We also highly recommend eye masks – disposable ones will be provided if you do not have your own – as the venue has a few auxiliary lights we cannot turn off. Otherwise\, we will keep the room as dark as possible.) \nIf you are bringing your own chair in lieu of a mat\, please set up on the perimeter to not obscure sound waves. \nBeverages and snacks will be served after the sound bath concludes. Stay for fellowship and conversation. There will be a $15 registration fee to help cover our costs. (Confidential scholarships available upon request). \nClick here to read more about Sound Baths.\nClick here to meet our Sound Practitioners. \nREGISTER HERE\n\nImportant Notes: \n\nBring a *thick* yoga/exercise mat and/or blanket and wear cozy\, warm layered clothes. Bring anything that will help you enter a state of relaxation\, like an eye pillow or eye mask\, a bolster for underneath your knees\, and a neck pillow. You will be fully reclined for this. If you need an accommodation\, please let us know in advance. We will have beverages and snacks afterward.\nYou may bring your own folding chair\, but please set up around the perimeter in order to not block sight lines or sound waves.\nThis venue has auxiliary lights that cannot be turned off. We highly recommended you bring your own eye mask or use one of the disposable ones we will provide for you.
URL:https://stjohnscalendar.com/event/midsummersound2026/
LOCATION:Alfriend Hall
CATEGORIES:Contemplative Spirituality,FP - Events,Front Porch
END:VEVENT
END:VCALENDAR