BEGIN:VCALENDAR
VERSION:2.0
PRODID:-//St. John&#039;s Episcopal Church - ECPv6.15.14//NONSGML v1.0//EN
CALSCALE:GREGORIAN
METHOD:PUBLISH
X-WR-CALNAME:St. John&#039;s Episcopal Church
X-ORIGINAL-URL:https://stjohnscalendar.com
X-WR-CALDESC:Events for St. John&#039;s Episcopal Church
REFRESH-INTERVAL;VALUE=DURATION:PT1H
X-Robots-Tag:noindex
X-PUBLISHED-TTL:PT1H
BEGIN:VTIMEZONE
TZID:America/New_York
BEGIN:DAYLIGHT
TZOFFSETFROM:-0500
TZOFFSETTO:-0400
TZNAME:EDT
DTSTART:20240310T070000
END:DAYLIGHT
BEGIN:STANDARD
TZOFFSETFROM:-0400
TZOFFSETTO:-0500
TZNAME:EST
DTSTART:20241103T060000
END:STANDARD
BEGIN:DAYLIGHT
TZOFFSETFROM:-0500
TZOFFSETTO:-0400
TZNAME:EDT
DTSTART:20250309T070000
END:DAYLIGHT
BEGIN:STANDARD
TZOFFSETFROM:-0400
TZOFFSETTO:-0500
TZNAME:EST
DTSTART:20251102T060000
END:STANDARD
BEGIN:DAYLIGHT
TZOFFSETFROM:-0500
TZOFFSETTO:-0400
TZNAME:EDT
DTSTART:20260308T070000
END:DAYLIGHT
BEGIN:STANDARD
TZOFFSETFROM:-0400
TZOFFSETTO:-0500
TZNAME:EST
DTSTART:20261101T060000
END:STANDARD
END:VTIMEZONE
BEGIN:VEVENT
DTSTART;TZID=America/New_York:20251019T113000
DTEND;TZID=America/New_York:20251019T121500
DTSTAMP:20260420T020228
CREATED:20251009T133243Z
LAST-MODIFIED:20251009T133243Z
UID:10025387-1760873400-1760876100@stjohnscalendar.com
SUMMARY:Sermon & Lectionary Discussion Group: Adult Sunday School
DESCRIPTION:Back by popular demand\, this discussion-based class offers the chance to reflect more deeply on the sermon or lectionary readings of the day. Join us as we unpack the insights revealed in worship and grow in faith and fellowship with one another.
URL:https://stjohnscalendar.com/event/sermon-lectionary-discussion-group-adult-sunday-school-2/2025-10-19/
LOCATION:Adult Meeting Room\, FL
CATEGORIES:Adult Education,Adult Sunday School 2025-26
END:VEVENT
BEGIN:VEVENT
DTSTART;TZID=America/New_York:20251019T113000
DTEND;TZID=America/New_York:20251019T121500
DTSTAMP:20260420T020228
CREATED:20250821T192112Z
LAST-MODIFIED:20250911T133913Z
UID:10025360-1760873400-1760876100@stjohnscalendar.com
SUMMARY:Learning to Speak God From Scratch: Adult Sunday School
DESCRIPTION:Many of us struggle to talk about faith. In this class\, we will explore words like “grace\,” “gospel\,” “sin\,” and “being lost\,” while learning their biblical roots. The study is based on Learning to Speak God from Scratch by Jonathan Merritt\, one of America’s premier religion writers. Through cultural commentary\, vulnerable personal stories\, and surprising biblical insights\, Merritt breathes new life into ancient expressions. This provocative and liberating class will help you find fresh language for your spiritual life and conversations. \nClick here to purchase a copy of Learning to Speak God from Scratch by Jonathan Merritt via the St. John’s Cathedral Bookstore & Gift Shop\, Jacksonville. \nNOTE: This class is also available to join via Zoom. If you cannot join us in person\, click the meeting link below and join us. You’ll be muted upon entry\, so enter any questions or comments into the chat! \nClick the link below to join the Zoom Meeting:\nhttps://us02web.zoom.us/j/81897508324?pwd=hOsbZ2sAMTa47vWhRy0GsSSO8MfPtD.1 \nMeeting ID: 818 9750 8324\nPasscode: 1829
URL:https://stjohnscalendar.com/event/learning-to-speak-god-from-scratch-adult-sunday-school/2025-10-19/
LOCATION:Killeen Hall
CATEGORIES:Adult Education,Adult Sunday School 2025-26
END:VEVENT
BEGIN:VEVENT
DTSTART;TZID=America/New_York:20251019T113000
DTEND;TZID=America/New_York:20251019T121500
DTSTAMP:20260420T020228
CREATED:20250821T191359Z
LAST-MODIFIED:20250821T191359Z
UID:10025329-1760873400-1760876100@stjohnscalendar.com
SUMMARY:Being Disciples: Adult Sunday School
DESCRIPTION:Based on a book by Rowan Williams—one of the greatest living theologians—this class provides foundational teaching on Christian discipleship. With a gentle\, inviting\, and pastoral style\, Williams offers biblically grounded wisdom for Christians at every stage of the journey. Over the course of the study\, we will explore themes such as Faith\, Hope\, and Love; Forgiveness; Holiness; Faith in Society; and Life in the Spirit. \nClick here to purchase a copy of Being Disciples by Archbishop Rowan Williams via the St. John’s Cathedral Bookstore & Gift Shop\, Jacksonville.
URL:https://stjohnscalendar.com/event/being-disciples-adult-sunday-school/2025-10-19/
LOCATION:Rutledge Room\, FL
CATEGORIES:Adult Education,Adult Sunday School 2025-26
END:VEVENT
BEGIN:VEVENT
DTSTART;TZID=America/New_York:20251019T113000
DTEND;TZID=America/New_York:20251019T121500
DTSTAMP:20260420T020228
CREATED:20250811T162112Z
LAST-MODIFIED:20250811T162112Z
UID:10025211-1760873400-1760876100@stjohnscalendar.com
SUMMARY:Youth Sunday School
DESCRIPTION:High schoolers are invited to join us in the Youth Room\, 11:30 AM – 12:30 PM on Sundays. \nHigh school Sunday programing this year revolves around loving God with our whole heart\, soul\, mind\, and strength. Students will rotate through four themes each month with the Wellness Compass\, the Prayer Book\, Global Philanthropy Leaders (and other special topics)\, and a movement-based class. Students will also have the option to use the time for personal reflection or preparation on any or all Sundays. \nWe hope you join us for this Sacred Space on Sundays. \nAny questions\, please contact Tyree Jordan.
URL:https://stjohnscalendar.com/event/youth-sunday-school/2025-10-19/
LOCATION:Youth Room (Downstairs)
CATEGORIES:Youth
ORGANIZER;CN="Tyree Jordan":MAILTO:tyree@saint-john.org.
END:VEVENT
BEGIN:VEVENT
DTSTART;TZID=America/New_York:20251019T113000
DTEND;TZID=America/New_York:20251019T121500
DTSTAMP:20260420T020228
CREATED:20250811T161818Z
LAST-MODIFIED:20250811T161818Z
UID:10025183-1760873400-1760876100@stjohnscalendar.com
SUMMARY:Middle-School Sunday School
DESCRIPTION:Middle-schoolers (6-8 grade) are invited to join us from 11:30 AM–12:30 PM for weekly Christian formation in the Sunday School wing. \nMiddle school students will become StoryMakers to express their questions\, discoveries\, and creativity as they explore the deep theological truths and faith in God. They will walk through the Signs of Grace—baptism and Communion—which contain the tangible means they can hang on to when all seems lost\, and the Lord’s Prayer\, which assures us we have been given the title of heirs—adopted into God’s kingdom and claimed as his own. \nAny questions\, please contact Tyree Jordan.
URL:https://stjohnscalendar.com/event/middle-school-sunday-school-3/2025-10-19/
LOCATION:Sunday School Classrooms\, FL
CATEGORIES:Youth
ORGANIZER;CN="Tyree Jordan":MAILTO:tyree@saint-john.org.
END:VEVENT
BEGIN:VEVENT
DTSTART;TZID=America/New_York:20251019T113000
DTEND;TZID=America/New_York:20251019T121500
DTSTAMP:20260420T020228
CREATED:20250811T161150Z
LAST-MODIFIED:20250818T130417Z
UID:10025156-1760873400-1760876100@stjohnscalendar.com
SUMMARY:Children’s Sunday School
DESCRIPTION:Children in PreK-5th grades are invited to join us from 11:30 AM–12:30 PM for weekly Christian formation. This year\, 4 classes (PK/K\, 1st\, 2nd/3rd grades\, and 4th/5th grades) will meet weekly through April 27. Activities take place upstairs in the Sunday School wing. \nHere’s what we’ll be learning! \nPK/K: Godly Play– This nurturing approach honors the unique competencies and capacities of early childhood. Students’ innate spirituality will be engaged\, and their growing use of religious language will be nourished as they make meaning from Biblical stories through a creative process of self-discovery. \n1st: Festal Eucharist– Students will participate in a special curriculum created right here at St. John’s to prepare our first-grade children for worship in the Episcopal tradition. They will focus on Worship\, Holy Baptism\, Christian Giving and The Holy Eucharist culminating with the Festal Eucharist in May. \n2nd/3rd & 4th/5th: StoryMakers- Upper elementary students will become StoryMakers and use their imaginations to enter God’s story. They will engage with Biblical stories through creative visual arts\, interactive storytelling\, field notes\, fun facts\, thoughts to ponder\, and hands-on activities. They will experience stories of The Promised Land\, Isaiah\, Advent\, Lent\, and Easter. \nWe also provide a full staff on Sunday mornings in our nursery for children five years and younger. We would love to have your child join us on Sunday mornings! Any questions\, please contact Tyree Jordan. \nCLICK HERE TO REGISTER YOUR CHILD
URL:https://stjohnscalendar.com/event/childrens-sunday-school-2/2025-10-19/
LOCATION:Sunday School Classrooms\, FL
CATEGORIES:Children
ORGANIZER;CN="Tyree Jordan":MAILTO:tyree@saint-john.org.
END:VEVENT
BEGIN:VEVENT
DTSTART;TZID=America/New_York:20251019T113000
DTEND;TZID=America/New_York:20251019T120000
DTSTAMP:20260420T020228
CREATED:20250908T200758Z
LAST-MODIFIED:20250911T133416Z
UID:10026431-1760873400-1760875200@stjohnscalendar.com
SUMMARY:Pastoral Care
DESCRIPTION:
URL:https://stjohnscalendar.com/event/pastoral-care-5-2-2/2025-10-19/
LOCATION:North Transcept in Church
END:VEVENT
BEGIN:VEVENT
DTSTART;TZID=America/New_York:20251019T100000
DTEND;TZID=America/New_York:20251019T111500
DTSTAMP:20260420T020228
CREATED:20250624T190339Z
LAST-MODIFIED:20251106T210102Z
UID:10024951-1760868000-1760872500@stjohnscalendar.com
SUMMARY:Holy Eucharist Rite II
DESCRIPTION:This traditional Rite II Service of Holy Eucharist meets in the main sanctuary in person. This service includes choir\, organ\, and Children’s Chapel. \nIt will also be livestreamed. \nVisit our ONLINE WORSHIP page. \n 
URL:https://stjohnscalendar.com/event/holy-eucharist-10-8-2/2025-10-19/
LOCATION:Church
CATEGORIES:Online,Worship
END:VEVENT
BEGIN:VEVENT
DTSTART;TZID=America/New_York:20251019T090000
DTEND;TZID=America/New_York:20251019T094500
DTSTAMP:20260420T020228
CREATED:20250821T193317Z
LAST-MODIFIED:20250821T193318Z
UID:10025434-1760864400-1760867100@stjohnscalendar.com
SUMMARY:Weekly Sermon Discussion
DESCRIPTION:Have you ever walked out of church wishing to dig even deeper into the scriptures and sermon of the day? Join us on Sundays after each service to further unpack the wisdom and insights revealed during the church service. Join us after our 8 AM service for some coffee and conversation about the morning’s sermon and lessons. All are welcome! \nLed by Betty Lou Joanos and Frances Hart.
URL:https://stjohnscalendar.com/event/weekly-sermon-discussion-2-2-3/2025-10-19/
LOCATION:Rutledge Room\, FL
CATEGORIES:Adult Education,Adult Sunday School 2025-26,Parish Life
ORGANIZER;CN="Betty Lou Joanos":MAILTO:bjoanos17@comcast.net
END:VEVENT
BEGIN:VEVENT
DTSTART;TZID=America/New_York:20251019T090000
DTEND;TZID=America/New_York:20251019T094500
DTSTAMP:20260420T020228
CREATED:20250821T191711Z
LAST-MODIFIED:20250821T191711Z
UID:10025347-1760864400-1760867100@stjohnscalendar.com
SUMMARY:Heroes of the Faith: Adult Sunday School (Fall)
DESCRIPTION:Each week\, this class highlights one “hero” of the Christian faith or the Episcopal Church. Examples include Thomas Cranmer\, Martin Luther\, John Calvin\, Julian of Norwich\, Augustine of Hippo\, Dietrich Bonhoeffer\, Absalom Jones\, Father Meninger\, and Desmond Tutu. We will explore their biographies\, their major theological or historical contributions\, and select writings that continue to shape our faith today.
URL:https://stjohnscalendar.com/event/heroes-of-the-faith-adult-sunday-school-fall/2025-10-19/
LOCATION:Killeen Hall
CATEGORIES:Adult Education,Adult Sunday School 2025-26
END:VEVENT
BEGIN:VEVENT
DTSTART;TZID=America/New_York:20251019T080000
DTEND;TZID=America/New_York:20251019T090000
DTSTAMP:20260420T020228
CREATED:20250624T190013Z
LAST-MODIFIED:20250724T162553Z
UID:10024702-1760860800-1760864400@stjohnscalendar.com
SUMMARY:Holy Eucharist Rite I
DESCRIPTION:This traditional Rite I Service of Holy Eucharist meets in the main sanctuary in person.
URL:https://stjohnscalendar.com/event/holy-eucharist-11-2-5-2/2025-10-19/
LOCATION:Church
CATEGORIES:Worship
END:VEVENT
BEGIN:VEVENT
DTSTART;TZID=America/New_York:20251018T130000
DTEND;TZID=America/New_York:20251018T150000
DTSTAMP:20260420T020228
CREATED:20250808T141223Z
LAST-MODIFIED:20251009T193307Z
UID:10025091-1760792400-1760799600@stjohnscalendar.com
SUMMARY:Spires in the Sun: A Presentation with the Author
DESCRIPTION:Join Spires in the Sun author Jonathan Rich for an engaging multi-media presentation on the seminal book about Carpenter Gothic Episcopal Churches in Florida. \nThese churches were constructed in the 1800s\, when Florida was still largely a raw southeastern frontier. Yet these churches breathed the romantic sensibilities of England’s stone parish churches into new wood. Participants may be surprised to learn about one particular church that has an interesting connection to Harriet Beecher Stowe. Spires in the Sun was the winner of the Florida Historical Society’s 2024 Charlton Tibeau Award. This work weaves together architectural\, church\, and Florida history with engrossing storytelling\, vibrant color photographs\, and rare black-and-white historical images. \nAppropriate for all ages. A Q & A will follow the presentation. \nClick here to learn more about Spires in the Sun and to purchase the book. \nTo make sure we have enough space\, click here to RSVP. \nNOTE: Enter into Killeen Hall using the entrance off the Welcome Plaza ramp.
URL:https://stjohnscalendar.com/event/spires2025/
LOCATION:Killeen Hall
CATEGORIES:Adult Education,FP - Events,Front Porch
ATTACH;FMTTYPE=image/png:https://stjohnscalendar.com/wp-content/uploads/2025/08/Spires-in-the-Sun-1920-x-1080-px.png
END:VEVENT
BEGIN:VEVENT
DTSTART;TZID=America/New_York:20251018T110000
DTEND;TZID=America/New_York:20251018T130000
DTSTAMP:20260420T020228
CREATED:20251010T205459Z
LAST-MODIFIED:20251013T125158Z
UID:10027349-1760785200-1760792400@stjohnscalendar.com
SUMMARY:Funeral for Jim Ogorek
DESCRIPTION:Please join us for the funeral for James “Jim” Edward Ogorek (February 10\, 1948 – September 20\, 2025). The funeral will be followed by a reception in Alfriend Hall. If you cannot attend in person\, the livestream is below.
URL:https://stjohnscalendar.com/event/ogorekfuneral/
LOCATION:Church and Alfriend Hall
CATEGORIES:Special Occasions,Worship
END:VEVENT
BEGIN:VEVENT
DTSTART;TZID=America/New_York:20251018T090000
DTEND;TZID=America/New_York:20251018T110000
DTSTAMP:20260420T020228
CREATED:20251001T171049Z
LAST-MODIFIED:20251001T171049Z
UID:10027274-1760778000-1760785200@stjohnscalendar.com
SUMMARY:MASH (Munchkins & Spiritual Harmony)
DESCRIPTION:Munchkins & Spiritual Harmony is back! Join us Saturday\, October 18 at 9:00 a.m. in Bishop’s Common for coffee\, conversation\, and connection. \nWe’ll settle into our familiar rhythm—sharing laughs\, stories\, and reflections on faith and parenting in the delightful chaos of early childhood. The nursery will be open\, so little ones are welcome too. \nWhether you’re just escaping the morning rush\, still in your pajamas with a cup of coffee\, or ready for some grown-up conversation\, come as you are. Don’t forget your calendars—we’ll get a few playdates on the books while we’re at it! \nWe’re grateful for this community and can’t wait to gather again.
URL:https://stjohnscalendar.com/event/mashoct2025/
LOCATION:Bishop’s Common
CATEGORIES:Children,Ministry Gatherings,Parish Life
ATTACH;FMTTYPE=image/png:https://stjohnscalendar.com/wp-content/uploads/2025/10/MASH-Small-Group-1920-x-1080-px.png
END:VEVENT
BEGIN:VEVENT
DTSTART;TZID=America/New_York:20251018T090000
DTEND;TZID=America/New_York:20251018T103000
DTSTAMP:20260420T020228
CREATED:20230215T184245Z
LAST-MODIFIED:20260409T163445Z
UID:10029343-1760778000-1760783400@stjohnscalendar.com
SUMMARY:Altar Guild
DESCRIPTION:
URL:https://stjohnscalendar.com/event/altar-guild-4/2025-10-18/
LOCATION:Church
END:VEVENT
BEGIN:VEVENT
DTSTART;TZID=America/New_York:20251016T180000
DTEND;TZID=America/New_York:20251016T210000
DTSTAMP:20260420T020228
CREATED:20250917T181251Z
LAST-MODIFIED:20250917T181251Z
UID:10027182-1760637600-1760648400@stjohnscalendar.com
SUMMARY:Ultreya
DESCRIPTION:
URL:https://stjohnscalendar.com/event/ultreya-2/
LOCATION:Alfriend Hall\, Chapel\, FL
CATEGORIES:Worship
END:VEVENT
BEGIN:VEVENT
DTSTART;TZID=America/New_York:20251016T173000
DTEND;TZID=America/New_York:20251016T200000
DTSTAMP:20260420T020228
CREATED:20250707T134740Z
LAST-MODIFIED:20250710T174741Z
UID:10024389-1760635800-1760644800@stjohnscalendar.com
SUMMARY:Education for Ministry (EfM) Thursday evening class
DESCRIPTION: 
URL:https://stjohnscalendar.com/event/education-for-ministry-efm-thursday-evening-class/2025-10-16/
LOCATION:Rutledge Room\, FL
CATEGORIES:Adult Education
ORGANIZER;CN="Holly Sinco":MAILTO:holly@saint-john.org
END:VEVENT
BEGIN:VEVENT
DTSTART;TZID=America/New_York:20251016T120000
DTEND;TZID=America/New_York:20251016T130000
DTSTAMP:20260420T020228
CREATED:20250710T174320Z
LAST-MODIFIED:20250710T174320Z
UID:10013326-1760616000-1760619600@stjohnscalendar.com
SUMMARY:The Good Book
DESCRIPTION:Community\, conversation\, learning\, prayer: all rooted in God’s Word. Join us for an online Bible study that will help you grow in faith. This weekly class gathers online via Zoom. \nClick here to join: https://us02web.zoom.us/j/87909742913?pwd=ZTNGTGpVV0w2YUJvZjMvWVpHemFEdz09 \nPasscode: 1829 \nClick to join the meeting or call (301) 715–8592\nMeeting ID: 879 0974 2913 \n 
URL:https://stjohnscalendar.com/event/the-good-book-2-2/2025-10-16/
CATEGORIES:Adult Education,Online
END:VEVENT
BEGIN:VEVENT
DTSTART;TZID=America/New_York:20251016T114500
DTEND;TZID=America/New_York:20251016T131500
DTSTAMP:20260420T020228
CREATED:20250923T164926Z
LAST-MODIFIED:20250923T164926Z
UID:10027254-1760615100-1760620500@stjohnscalendar.com
SUMMARY:Small Group for People with Aging Parents
DESCRIPTION:This meeting will be held in the Conference Room on the 2nd Floor (formerly known as Mother Leslie’s office).
URL:https://stjohnscalendar.com/event/small-group-for-people-with-aging-parents/2025-10-16/
LOCATION:Conference Room
END:VEVENT
BEGIN:VEVENT
DTSTART;TZID=America/New_York:20251016T113000
DTEND;TZID=America/New_York:20251016T130000
DTSTAMP:20260420T020228
CREATED:20250812T104124Z
LAST-MODIFIED:20251204T202404Z
UID:10025285-1760614200-1760619600@stjohnscalendar.com
SUMMARY:Contemplative Study
DESCRIPTION:On the first and third Thursdays of each month\, join the Front Porch for an in-person offering to help you deepen your spirituality through contemplative practice. \nWe will begin with a 10 minute Centering Prayer sit & then move on to Lectio Divina using Richard Rohr’s book\, “Just This.” Attendees can get started on any week.Participants will be invited to stay for casual conversation and discussion over lunch (brown bag or pre-order from the Lively Cafe). \n  \n \nThis event is presented by The Front Porch: a Spiritual Life Center. The Front Porch welcomes people along all paths who seek to deepen their spiritual lives. We offer contemplative practices\, events\, and classes rooted in Christian spirituality.
URL:https://stjohnscalendar.com/event/contemplative-study/2025-10-16/
LOCATION:Rutledge
CATEGORIES:Adult Education,Contemplative Spirituality,FP - Classes,Front Porch
ORGANIZER;CN="Dan Dobbins":MAILTO:dandobbins10@gmail.com
END:VEVENT
BEGIN:VEVENT
DTSTART;TZID=America/New_York:20251016T070000
DTEND;TZID=America/New_York:20251016T080000
DTSTAMP:20260420T020228
CREATED:20250625T153559Z
LAST-MODIFIED:20250826T180405Z
UID:10024170-1760598000-1760601600@stjohnscalendar.com
SUMMARY:Men’s Bible Study
DESCRIPTION:Our Men’s Bible Study gatherings are held every Thursday at 7 AM. Join us for a relaxed\, insightful Bible study with early morning fellowship! Whether you’re new or well-versed in the scriptures\, all are welcome. Dive into our weekly discussion at your own pace. Participate weekly\, as your schedule dictates\, without missing a beat. \nReadings are emailed in advance of class\, along with links to commentary. To join our email list\, contact Jonathan Jackson. See you there! \nThis is a HYBRID meeting. Join us in person in Killeen Hall or by Zoom: \nhttps://us02web.zoom.us/j/87429760245?pwd=UmZuV00yTGE1aTUwV2VJWk4rMjFtZz09 \nMeeting ID: 874 2976 0245\nPasscode: 1829
URL:https://stjohnscalendar.com/event/mens-bible-study-11/2025-10-16/
LOCATION:Killeen Hall
CATEGORIES:Adult Education
END:VEVENT
BEGIN:VEVENT
DTSTART;TZID=America/New_York:20251015T121000
DTEND;TZID=America/New_York:20251015T130000
DTSTAMP:20260420T020228
CREATED:20250916T195252Z
LAST-MODIFIED:20260105T212640Z
UID:10021548-1760530200-1760533200@stjohnscalendar.com
SUMMARY:Healing Service
DESCRIPTION:On Wednesdays\, we offer a Service of Holy Eucharist and Healing. \nThis 30-minute service is perfect for those who can’t attend on Sundays or anyone seeking spiritual nourishment midweek. Our brief service time allows for prayer\, reflection and partaking in the Eucharist before continuing our day’s work. \nThis Wednesday service incorporates a special time for healing prayer.
URL:https://stjohnscalendar.com/event/healing-service-2-2-3-2-2/2025-10-15/
LOCATION:Carter Chapel\, FL
CATEGORIES:Worship
END:VEVENT
BEGIN:VEVENT
DTSTART;TZID=America/New_York:20251015T120000
DTEND;TZID=America/New_York:20251015T130000
DTSTAMP:20260420T020228
CREATED:20250807T105913Z
LAST-MODIFIED:20250807T105913Z
UID:10025083-1760529600-1760533200@stjohnscalendar.com
SUMMARY:LHS Foundation Board Mtg.
DESCRIPTION:
URL:https://stjohnscalendar.com/event/lhs-foundation-board-mtg/2025-10-15/
LOCATION:Bishop’s Common
END:VEVENT
BEGIN:VEVENT
DTSTART;TZID=America/New_York:20251015T113000
DTEND;TZID=America/New_York:20251015T130000
DTSTAMP:20260420T020228
CREATED:20250904T122938Z
LAST-MODIFIED:20250904T122938Z
UID:10026260-1760527800-1760533200@stjohnscalendar.com
SUMMARY:Small Group Meeting (Martha Ray-Brooks)
DESCRIPTION:
URL:https://stjohnscalendar.com/event/small-group-meeting-martha-ray-brooks/2025-10-15/
LOCATION:Rutledge Room\, FL
CATEGORIES:Administrative
END:VEVENT
BEGIN:VEVENT
DTSTART;TZID=America/New_York:20251014T173000
DTEND;TZID=America/New_York:20251014T193000
DTSTAMP:20260420T020228
CREATED:20250711T143434Z
LAST-MODIFIED:20251020T205302Z
UID:10024609-1760463000-1760470200@stjohnscalendar.com
SUMMARY:Stephen Ministry Training
DESCRIPTION:
URL:https://stjohnscalendar.com/event/stephen-ministry-training/2025-10-14/
LOCATION:Conference Room (Mtr. Leslie’s Former Office)
END:VEVENT
BEGIN:VEVENT
DTSTART;TZID=America/New_York:20251014T170000
DTEND;TZID=America/New_York:20251014T190000
DTSTAMP:20260420T020228
CREATED:20251010T190540Z
LAST-MODIFIED:20251010T190540Z
UID:10027343-1760461200-1760468400@stjohnscalendar.com
SUMMARY:Meza-Stewart PDC Meeting
DESCRIPTION:
URL:https://stjohnscalendar.com/event/meza-stewart-pdc-meeting-2/
LOCATION:Killeen Hall
ORGANIZER;CN="Holly Sinco":MAILTO:holly@saint-john.org
END:VEVENT
BEGIN:VEVENT
DTSTART;TZID=America/New_York:20251014T123000
DTEND;TZID=America/New_York:20251014T150000
DTSTAMP:20260420T020228
CREATED:20250702T164717Z
LAST-MODIFIED:20250710T174650Z
UID:10024295-1760445000-1760454000@stjohnscalendar.com
SUMMARY:EfM Tuesday afternoon class (Education for Ministry)
DESCRIPTION:
URL:https://stjohnscalendar.com/event/efm-2/2025-10-14/
LOCATION:Rutledge
END:VEVENT
BEGIN:VEVENT
DTSTART;TZID=America/New_York:20251014T123000
DTEND;TZID=America/New_York:20251014T133000
DTSTAMP:20260420T020228
CREATED:20250828T153306Z
LAST-MODIFIED:20250908T205630Z
UID:10026127-1760445000-1760448600@stjohnscalendar.com
SUMMARY:Bible Study
DESCRIPTION:
URL:https://stjohnscalendar.com/event/bible-study/2025-10-14/
LOCATION:Press Room
END:VEVENT
BEGIN:VEVENT
DTSTART;TZID=America/New_York:20251014T120000
DTEND;TZID=America/New_York:20251014T123000
DTSTAMP:20260420T020228
CREATED:20250709T172533Z
LAST-MODIFIED:20250709T172935Z
UID:10024440-1760443200-1760445000@stjohnscalendar.com
SUMMARY:Tower Bell Tuesdays
DESCRIPTION:On Tuesdays in October\, members of the St. John’s Tower Bell Guild will be performing bell concerts and providing tours of our historic bell tower. Come enjoy the beautiful sounds of St. John’s 14 hand-rung bells while eating lunch in the garden. Outdoor seating is available in Eve’s Garden\, or one of St. John’s many other outdoor garden spaces. \nBells will be played from noon-12:30 p.m. Informal tours will follow. Simply make your way to the choir loft following each Tuesday’s concert.
URL:https://stjohnscalendar.com/event/tower-bell-tuesdays-3/2025-10-14/
LOCATION:Eve’s Garden
CATEGORIES:Music,Parish Life
ATTACH;FMTTYPE=image/png:https://stjohnscalendar.com/wp-content/uploads/2025/07/Tower-Bell-Tuesdays-OptiSigns.png
END:VEVENT
BEGIN:VEVENT
DTSTART;TZID=America/New_York:20251014T113000
DTEND;TZID=America/New_York:20251014T123000
DTSTAMP:20260420T020228
CREATED:20250811T125127Z
LAST-MODIFIED:20251022T130230Z
UID:10025100-1760441400-1760445000@stjohnscalendar.com
SUMMARY:Women’s Bible Study
DESCRIPTION:This fall\, St. John’s will offer a new weekly Bible study for women on Tuesdays from 11:30 a.m. to 12:30 p.m. in Killeen Hall. Facilitated by Jane Menton\, the group will explore A Beautiful Year in the Bible\, a theologically grounded and visually engaging resource from the Alabaster Company. Designed to be accessible and thought-provoking\, this study invites women of all ages and backgrounds to reflect on themes such as New Beginnings\, Heeding God’s Call\, Relationships\, Forgiveness\, Generosity\, and Hope. \n\n\n\n\nThe format is flexible\, with content designed for 52 weeks but easily spread across two years if the group desires. Books are available for purchase on Amazon. Our first session will be Tuesday\, September 16. All are welcome.
URL:https://stjohnscalendar.com/event/womens-bible-study/2025-10-14/
LOCATION:Killeen Hall
END:VEVENT
END:VCALENDAR