BEGIN:VCALENDAR
VERSION:2.0
PRODID:-//St. John&#039;s Episcopal Church - ECPv6.15.14//NONSGML v1.0//EN
CALSCALE:GREGORIAN
METHOD:PUBLISH
X-WR-CALNAME:St. John&#039;s Episcopal Church
X-ORIGINAL-URL:https://stjohnscalendar.com
X-WR-CALDESC:Events for St. John&#039;s Episcopal Church
REFRESH-INTERVAL;VALUE=DURATION:PT1H
X-Robots-Tag:noindex
X-PUBLISHED-TTL:PT1H
BEGIN:VTIMEZONE
TZID:America/New_York
BEGIN:DAYLIGHT
TZOFFSETFROM:-0500
TZOFFSETTO:-0400
TZNAME:EDT
DTSTART:20250309T070000
END:DAYLIGHT
BEGIN:STANDARD
TZOFFSETFROM:-0400
TZOFFSETTO:-0500
TZNAME:EST
DTSTART:20251102T060000
END:STANDARD
BEGIN:DAYLIGHT
TZOFFSETFROM:-0500
TZOFFSETTO:-0400
TZNAME:EDT
DTSTART:20260308T070000
END:DAYLIGHT
BEGIN:STANDARD
TZOFFSETFROM:-0400
TZOFFSETTO:-0500
TZNAME:EST
DTSTART:20261101T060000
END:STANDARD
BEGIN:DAYLIGHT
TZOFFSETFROM:-0500
TZOFFSETTO:-0400
TZNAME:EDT
DTSTART:20270314T070000
END:DAYLIGHT
BEGIN:STANDARD
TZOFFSETFROM:-0400
TZOFFSETTO:-0500
TZNAME:EST
DTSTART:20271107T060000
END:STANDARD
END:VTIMEZONE
BEGIN:VEVENT
DTSTART;TZID=America/New_York:20260728T093000
DTEND;TZID=America/New_York:20260728T100000
DTSTAMP:20260425T085324
CREATED:20260421T185559Z
LAST-MODIFIED:20260421T185559Z
UID:10029835-1785231000-1785232800@stjohnscalendar.com
SUMMARY:Staff Meeting
DESCRIPTION:
URL:https://stjohnscalendar.com/event/staff-meeting-6/2026-07-28/
LOCATION:Killeen Hall
ORGANIZER;CN="Holly Sinco":MAILTO:holly@saint-john.org
END:VEVENT
BEGIN:VEVENT
DTSTART;TZID=America/New_York:20260727T190000
DTEND;TZID=America/New_York:20260727T203000
DTSTAMP:20260425T085324
CREATED:20260423T132858Z
LAST-MODIFIED:20260423T132858Z
UID:10029909-1785178800-1785184200@stjohnscalendar.com
SUMMARY:Centering Prayer
DESCRIPTION:Centering Prayer is a movement beyond words or silent communion with God. Our Centering Prayer group meets weekly to study scripture\, discuss writings by contemplative authors\, and listen to God through Centering Prayer. All are welcome! \nThis event is Zoom Only! Join us using the link below on Monday evenings: \nhttps://us02web.zoom.us/j/455609224?pwd=azdzQ2FydTF2V1p5NndEaGQ0RjliUT09 \nPassword: 1829 \nClick to join the meeting or call-in by phone: (301) 715–8592\nMeeting ID: 455 609 224 \n  \n \nOur weekly classes are presented by The Front Porch: a Spiritual Life Center. The Front Porch welcomes people along all paths who seek to deepen their spiritual lives. We offer contemplative practices\, events\, and classes rooted in Christian spirituality.
URL:https://stjohnscalendar.com/event/centering-prayer-5/2026-07-27/
LOCATION:Zoom – link in description
CATEGORIES:Contemplative Spirituality,FP - Classes,Front Porch
ORGANIZER;CN="Nancy Bechard":MAILTO:nancylynn0119@comcast.net
END:VEVENT
BEGIN:VEVENT
DTSTART;TZID=America/New_York:20260727T130000
DTEND;TZID=America/New_York:20260727T140000
DTSTAMP:20260425T085324
CREATED:20260223T191803Z
LAST-MODIFIED:20260223T191803Z
UID:10029689-1785157200-1785160800@stjohnscalendar.com
SUMMARY:Nancy Mattimore Small Group Meeting
DESCRIPTION:
URL:https://stjohnscalendar.com/event/nancy-mattimore-small-group-meeting/2026-07-27/
LOCATION:Rutledge Room\, FL
CATEGORIES:Parish Life
END:VEVENT
BEGIN:VEVENT
DTSTART;TZID=America/New_York:20260726T074500
DTEND;TZID=America/New_York:20260726T084500
DTSTAMP:20260425T085324
CREATED:20251106T205730Z
LAST-MODIFIED:20260311T173056Z
UID:10027938-1785051900-1785055500@stjohnscalendar.com
SUMMARY:Holy Eucharist Rite I Worship Service
DESCRIPTION:This traditional\, contemplative Rite I Service of Holy Eucharist meets in the main sanctuary in person.
URL:https://stjohnscalendar.com/event/holy-eucharist-rite-i-worship-service/2026-07-26/
LOCATION:Church
CATEGORIES:Worship
END:VEVENT
BEGIN:VEVENT
DTSTART;TZID=America/New_York:20260723T133000
DTEND;TZID=America/New_York:20260723T140000
DTSTAMP:20260425T085324
CREATED:20260424T211613Z
LAST-MODIFIED:20260424T211613Z
UID:10029962-1784813400-1784815200@stjohnscalendar.com
SUMMARY:Facilities Huddle
DESCRIPTION:
URL:https://stjohnscalendar.com/event/facilities-huddle/2026-07-23/
LOCATION:Rutledge Room\, FL
END:VEVENT
BEGIN:VEVENT
DTSTART;TZID=America/New_York:20260723T130000
DTEND;TZID=America/New_York:20260723T143000
DTSTAMP:20260425T085324
CREATED:20260421T200847Z
LAST-MODIFIED:20260421T200847Z
UID:10029874-1784811600-1784817000@stjohnscalendar.com
SUMMARY:Senior Staff Meeting
DESCRIPTION:
URL:https://stjohnscalendar.com/event/senior-staff-meeting/2026-07-23/
LOCATION:Rector’s Office
END:VEVENT
BEGIN:VEVENT
DTSTART;TZID=America/New_York:20260723T120000
DTEND;TZID=America/New_York:20260723T130000
DTSTAMP:20260425T085324
CREATED:20260408T150917Z
LAST-MODIFIED:20260408T150917Z
UID:10029795-1784808000-1784811600@stjohnscalendar.com
SUMMARY:The Good Book
DESCRIPTION:Community\, conversation\, learning\, prayer: all rooted in God’s Word. Join us for an online Bible study that will help you grow in faith. This weekly class gathers online via Zoom. \nClick here to join: https://us02web.zoom.us/j/87909742913?pwd=ZTNGTGpVV0w2YUJvZjMvWVpHemFEdz09 \nPasscode: 1829 \nClick to join the meeting or call (301) 715–8592\nMeeting ID: 879 0974 2913
URL:https://stjohnscalendar.com/event/the-good-book-6/2026-07-23/
LOCATION:Zoom – link in description
CATEGORIES:Adult Education
END:VEVENT
BEGIN:VEVENT
DTSTART;TZID=America/New_York:20260721T123000
DTEND;TZID=America/New_York:20260721T133000
DTSTAMP:20260425T085324
CREATED:20250828T153306Z
LAST-MODIFIED:20250908T205630Z
UID:10026167-1784637000-1784640600@stjohnscalendar.com
SUMMARY:Bible Study
DESCRIPTION:
URL:https://stjohnscalendar.com/event/bible-study/2026-07-21/
LOCATION:Press Room
END:VEVENT
BEGIN:VEVENT
DTSTART;TZID=America/New_York:20260721T100000
DTEND;TZID=America/New_York:20260721T110000
DTSTAMP:20260425T085324
CREATED:20260421T193736Z
LAST-MODIFIED:20260421T193736Z
UID:10029849-1784628000-1784631600@stjohnscalendar.com
SUMMARY:Liturgy Meeting
DESCRIPTION:
URL:https://stjohnscalendar.com/event/liturgy-meeting-7/2026-07-21/
LOCATION:Killeen Hall
END:VEVENT
BEGIN:VEVENT
DTSTART;TZID=America/New_York:20260721T093000
DTEND;TZID=America/New_York:20260721T100000
DTSTAMP:20260425T085324
CREATED:20260421T185559Z
LAST-MODIFIED:20260421T185559Z
UID:10029834-1784626200-1784628000@stjohnscalendar.com
SUMMARY:Staff Meeting
DESCRIPTION:
URL:https://stjohnscalendar.com/event/staff-meeting-6/2026-07-21/
LOCATION:Killeen Hall
ORGANIZER;CN="Holly Sinco":MAILTO:holly@saint-john.org
END:VEVENT
BEGIN:VEVENT
DTSTART;TZID=America/New_York:20260720T190000
DTEND;TZID=America/New_York:20260720T203000
DTSTAMP:20260425T085324
CREATED:20260423T132858Z
LAST-MODIFIED:20260423T132858Z
UID:10029908-1784574000-1784579400@stjohnscalendar.com
SUMMARY:Centering Prayer
DESCRIPTION:Centering Prayer is a movement beyond words or silent communion with God. Our Centering Prayer group meets weekly to study scripture\, discuss writings by contemplative authors\, and listen to God through Centering Prayer. All are welcome! \nThis event is Zoom Only! Join us using the link below on Monday evenings: \nhttps://us02web.zoom.us/j/455609224?pwd=azdzQ2FydTF2V1p5NndEaGQ0RjliUT09 \nPassword: 1829 \nClick to join the meeting or call-in by phone: (301) 715–8592\nMeeting ID: 455 609 224 \n  \n \nOur weekly classes are presented by The Front Porch: a Spiritual Life Center. The Front Porch welcomes people along all paths who seek to deepen their spiritual lives. We offer contemplative practices\, events\, and classes rooted in Christian spirituality.
URL:https://stjohnscalendar.com/event/centering-prayer-5/2026-07-20/
LOCATION:Zoom – link in description
CATEGORIES:Contemplative Spirituality,FP - Classes,Front Porch
ORGANIZER;CN="Nancy Bechard":MAILTO:nancylynn0119@comcast.net
END:VEVENT
BEGIN:VEVENT
DTSTART;TZID=America/New_York:20260719T074500
DTEND;TZID=America/New_York:20260719T084500
DTSTAMP:20260425T085324
CREATED:20251106T205730Z
LAST-MODIFIED:20260311T173056Z
UID:10027937-1784447100-1784450700@stjohnscalendar.com
SUMMARY:Holy Eucharist Rite I Worship Service
DESCRIPTION:This traditional\, contemplative Rite I Service of Holy Eucharist meets in the main sanctuary in person.
URL:https://stjohnscalendar.com/event/holy-eucharist-rite-i-worship-service/2026-07-19/
LOCATION:Church
CATEGORIES:Worship
END:VEVENT
BEGIN:VEVENT
DTSTART;TZID=America/New_York:20260716T133000
DTEND;TZID=America/New_York:20260716T140000
DTSTAMP:20260425T085324
CREATED:20260424T211613Z
LAST-MODIFIED:20260424T211613Z
UID:10029961-1784208600-1784210400@stjohnscalendar.com
SUMMARY:Facilities Huddle
DESCRIPTION:
URL:https://stjohnscalendar.com/event/facilities-huddle/2026-07-16/
LOCATION:Rutledge Room\, FL
END:VEVENT
BEGIN:VEVENT
DTSTART;TZID=America/New_York:20260716T130000
DTEND;TZID=America/New_York:20260716T143000
DTSTAMP:20260425T085324
CREATED:20260421T200847Z
LAST-MODIFIED:20260421T200847Z
UID:10029873-1784206800-1784212200@stjohnscalendar.com
SUMMARY:Senior Staff Meeting
DESCRIPTION:
URL:https://stjohnscalendar.com/event/senior-staff-meeting/2026-07-16/
LOCATION:Rector’s Office
END:VEVENT
BEGIN:VEVENT
DTSTART;TZID=America/New_York:20260716T120000
DTEND;TZID=America/New_York:20260716T130000
DTSTAMP:20260425T085324
CREATED:20260408T150917Z
LAST-MODIFIED:20260408T150917Z
UID:10029794-1784203200-1784206800@stjohnscalendar.com
SUMMARY:The Good Book
DESCRIPTION:Community\, conversation\, learning\, prayer: all rooted in God’s Word. Join us for an online Bible study that will help you grow in faith. This weekly class gathers online via Zoom. \nClick here to join: https://us02web.zoom.us/j/87909742913?pwd=ZTNGTGpVV0w2YUJvZjMvWVpHemFEdz09 \nPasscode: 1829 \nClick to join the meeting or call (301) 715–8592\nMeeting ID: 879 0974 2913
URL:https://stjohnscalendar.com/event/the-good-book-6/2026-07-16/
LOCATION:Zoom – link in description
CATEGORIES:Adult Education
END:VEVENT
BEGIN:VEVENT
DTSTART;TZID=America/New_York:20260714T170000
DTEND;TZID=America/New_York:20260714T190000
DTSTAMP:20260425T085324
CREATED:20260324T154428Z
LAST-MODIFIED:20260413T144322Z
UID:10029812-1784048400-1784055600@stjohnscalendar.com
SUMMARY:Cuba Mission Steering Committee
DESCRIPTION:
URL:https://stjohnscalendar.com/event/cuba-mission-steering-committee-2/2026-07-14/
LOCATION:Killeen Hall
CATEGORIES:Outreach
END:VEVENT
BEGIN:VEVENT
DTSTART;TZID=America/New_York:20260714T123000
DTEND;TZID=America/New_York:20260714T133000
DTSTAMP:20260425T085324
CREATED:20260421T200642Z
LAST-MODIFIED:20260421T200642Z
UID:10029859-1784032200-1784035800@stjohnscalendar.com
SUMMARY:Pastoral Care Team Meeting
DESCRIPTION:
URL:https://stjohnscalendar.com/event/pastoral-care-team-meeting-8/2026-07-14/
LOCATION:Adult Meeting Room\, FL
ORGANIZER;CN="Deacon Melanie Salsgiver":MAILTO:melanie@saint-john.org
END:VEVENT
BEGIN:VEVENT
DTSTART;TZID=America/New_York:20260714T123000
DTEND;TZID=America/New_York:20260714T133000
DTSTAMP:20260425T085324
CREATED:20250828T153306Z
LAST-MODIFIED:20250908T205630Z
UID:10026166-1784032200-1784035800@stjohnscalendar.com
SUMMARY:Bible Study
DESCRIPTION:
URL:https://stjohnscalendar.com/event/bible-study/2026-07-14/
LOCATION:Press Room
END:VEVENT
BEGIN:VEVENT
DTSTART;TZID=America/New_York:20260714T100000
DTEND;TZID=America/New_York:20260714T110000
DTSTAMP:20260425T085324
CREATED:20260421T193736Z
LAST-MODIFIED:20260421T193736Z
UID:10029848-1784023200-1784026800@stjohnscalendar.com
SUMMARY:Liturgy Meeting
DESCRIPTION:
URL:https://stjohnscalendar.com/event/liturgy-meeting-7/2026-07-14/
LOCATION:Killeen Hall
END:VEVENT
BEGIN:VEVENT
DTSTART;TZID=America/New_York:20260714T093000
DTEND;TZID=America/New_York:20260714T100000
DTSTAMP:20260425T085324
CREATED:20260421T185559Z
LAST-MODIFIED:20260421T185559Z
UID:10029833-1784021400-1784023200@stjohnscalendar.com
SUMMARY:Staff Meeting
DESCRIPTION:
URL:https://stjohnscalendar.com/event/staff-meeting-6/2026-07-14/
LOCATION:Killeen Hall
ORGANIZER;CN="Holly Sinco":MAILTO:holly@saint-john.org
END:VEVENT
BEGIN:VEVENT
DTSTART;TZID=America/New_York:20260713T190000
DTEND;TZID=America/New_York:20260713T203000
DTSTAMP:20260425T085324
CREATED:20260423T132858Z
LAST-MODIFIED:20260423T132858Z
UID:10029907-1783969200-1783974600@stjohnscalendar.com
SUMMARY:Centering Prayer
DESCRIPTION:Centering Prayer is a movement beyond words or silent communion with God. Our Centering Prayer group meets weekly to study scripture\, discuss writings by contemplative authors\, and listen to God through Centering Prayer. All are welcome! \nThis event is Zoom Only! Join us using the link below on Monday evenings: \nhttps://us02web.zoom.us/j/455609224?pwd=azdzQ2FydTF2V1p5NndEaGQ0RjliUT09 \nPassword: 1829 \nClick to join the meeting or call-in by phone: (301) 715–8592\nMeeting ID: 455 609 224 \n  \n \nOur weekly classes are presented by The Front Porch: a Spiritual Life Center. The Front Porch welcomes people along all paths who seek to deepen their spiritual lives. We offer contemplative practices\, events\, and classes rooted in Christian spirituality.
URL:https://stjohnscalendar.com/event/centering-prayer-5/2026-07-13/
LOCATION:Zoom – link in description
CATEGORIES:Contemplative Spirituality,FP - Classes,Front Porch
ORGANIZER;CN="Nancy Bechard":MAILTO:nancylynn0119@comcast.net
END:VEVENT
BEGIN:VEVENT
DTSTART;TZID=America/New_York:20260712T074500
DTEND;TZID=America/New_York:20260712T084500
DTSTAMP:20260425T085324
CREATED:20251106T205730Z
LAST-MODIFIED:20260311T173056Z
UID:10027936-1783842300-1783845900@stjohnscalendar.com
SUMMARY:Holy Eucharist Rite I Worship Service
DESCRIPTION:This traditional\, contemplative Rite I Service of Holy Eucharist meets in the main sanctuary in person.
URL:https://stjohnscalendar.com/event/holy-eucharist-rite-i-worship-service/2026-07-12/
LOCATION:Church
CATEGORIES:Worship
END:VEVENT
BEGIN:VEVENT
DTSTART;TZID=America/New_York:20260710T150000
DTEND;TZID=America/New_York:20260710T163000
DTSTAMP:20260425T085324
CREATED:20250908T162922Z
LAST-MODIFIED:20250908T162922Z
UID:10026282-1783695600-1783701000@stjohnscalendar.com
SUMMARY:Piano Tuning in Alfriend Hall
DESCRIPTION:
URL:https://stjohnscalendar.com/event/piano-tuning-in-alfriend-hall/2026-07-10/
LOCATION:Alfriend Hall
CATEGORIES:Administrative
END:VEVENT
BEGIN:VEVENT
DTSTART;TZID=America/New_York:20260709T133000
DTEND;TZID=America/New_York:20260709T140000
DTSTAMP:20260425T085324
CREATED:20260424T211613Z
LAST-MODIFIED:20260424T211613Z
UID:10029960-1783603800-1783605600@stjohnscalendar.com
SUMMARY:Facilities Huddle
DESCRIPTION:
URL:https://stjohnscalendar.com/event/facilities-huddle/2026-07-09/
LOCATION:Rutledge Room\, FL
END:VEVENT
BEGIN:VEVENT
DTSTART;TZID=America/New_York:20260709T130000
DTEND;TZID=America/New_York:20260709T143000
DTSTAMP:20260425T085324
CREATED:20260421T200847Z
LAST-MODIFIED:20260421T200847Z
UID:10029872-1783602000-1783607400@stjohnscalendar.com
SUMMARY:Senior Staff Meeting
DESCRIPTION:
URL:https://stjohnscalendar.com/event/senior-staff-meeting/2026-07-09/
LOCATION:Rector’s Office
END:VEVENT
BEGIN:VEVENT
DTSTART;TZID=America/New_York:20260709T120000
DTEND;TZID=America/New_York:20260709T130000
DTSTAMP:20260425T085324
CREATED:20260408T150917Z
LAST-MODIFIED:20260408T150917Z
UID:10029793-1783598400-1783602000@stjohnscalendar.com
SUMMARY:The Good Book
DESCRIPTION:Community\, conversation\, learning\, prayer: all rooted in God’s Word. Join us for an online Bible study that will help you grow in faith. This weekly class gathers online via Zoom. \nClick here to join: https://us02web.zoom.us/j/87909742913?pwd=ZTNGTGpVV0w2YUJvZjMvWVpHemFEdz09 \nPasscode: 1829 \nClick to join the meeting or call (301) 715–8592\nMeeting ID: 879 0974 2913
URL:https://stjohnscalendar.com/event/the-good-book-6/2026-07-09/
LOCATION:Zoom – link in description
CATEGORIES:Adult Education
END:VEVENT
BEGIN:VEVENT
DTSTART;VALUE=DATE:20260708
DTEND;VALUE=DATE:20260719
DTSTAMP:20260425T085324
CREATED:20250819T151818Z
LAST-MODIFIED:20260408T162441Z
UID:10025313-1783468800-1784419199@stjohnscalendar.com
SUMMARY:2026 Ecuador High School Mission Trip
DESCRIPTION:St. John’s youth will return to Quito\, Ecuador  – Wednesday\, July 8 to Saturday\, July 18\, 2026!* \nNOTE: On Sunday\, January 18 at 5 p.m. in Bishop’s Common\, we’re going to hold an interest and informational meeting about the trip. We’ll go over the details\, travel\, and cost. You don’t want to miss out! Come along and hear all about it. \nWHO: This trip is open to rising 9th through 12th graders. \nWHAT: We will know more about our specific work areas as our time in Quito approaches\, but typically it is a mix of children’s programs\, improving the physical church building\, a day or two of service in nearby homes of church parishioners\, and worship with friends at the church. The itinerary is developed in partnership with Caroline and John Allen\, and our ministry partners in Quito. \nOVERALL COST: The expected overall cost for the trip is $2\,200. However\, our goal is to raise $800 per youth participant through group fundraising at church. This means\, mission team members will be responsible for covering approximately $1\,400. We encourage you to talk with your youth about how they can raise some of the remaining cost themselves (writing letters\, working\, or other fundraisers). Confidential scholarships are available and we are happy to work together to find an amount that is reasonable for your family. We can also help you develop an individual fundraising plan. \nFUNDRAISERS: Our tentative list of fundraisers is available on the information form (see “resources” tab). Team members are expected to be involved each of these events which\, in addition to raising funds\, provide valuable opportunities for team building. \nWHAT’S INCLUDED: Roughly half of the overall cost is airfare. Your participant fee includes travel insurance\, all meals\, lodging\, private in-country transportation\, cultural activities\, and contributions to the ministries we will be partnering with in Quito. \nNEXT STEPS: Submit your non-refundable deposit of $200 and a completed Youth Mission or Chaperone Information Form. Registration will be open until January 12\, 2026 (or until our team is full). \n*Please Note: dates could be adjusted one day on either end as flights are confirmed.* \nREGISTER TODAY!
URL:https://stjohnscalendar.com/event/ecuadoryouthmission26/
LOCATION:Off-site Location\, Quito\, Ecuador
CATEGORIES:Outreach,Special Events,Youth
ORGANIZER;CN="Tyree Jordan":MAILTO:tyree@saint-john.org.
END:VEVENT
BEGIN:VEVENT
DTSTART;TZID=America/New_York:20260707T123000
DTEND;TZID=America/New_York:20260707T133000
DTSTAMP:20260425T085324
CREATED:20250828T153306Z
LAST-MODIFIED:20250908T205630Z
UID:10026165-1783427400-1783431000@stjohnscalendar.com
SUMMARY:Bible Study
DESCRIPTION:
URL:https://stjohnscalendar.com/event/bible-study/2026-07-07/
LOCATION:Press Room
END:VEVENT
BEGIN:VEVENT
DTSTART;TZID=America/New_York:20260707T100000
DTEND;TZID=America/New_York:20260707T110000
DTSTAMP:20260425T085324
CREATED:20260421T193736Z
LAST-MODIFIED:20260421T193736Z
UID:10029847-1783418400-1783422000@stjohnscalendar.com
SUMMARY:Liturgy Meeting
DESCRIPTION:
URL:https://stjohnscalendar.com/event/liturgy-meeting-7/2026-07-07/
LOCATION:Killeen Hall
END:VEVENT
BEGIN:VEVENT
DTSTART;TZID=America/New_York:20260707T093000
DTEND;TZID=America/New_York:20260707T100000
DTSTAMP:20260425T085324
CREATED:20260421T185559Z
LAST-MODIFIED:20260421T185559Z
UID:10029832-1783416600-1783418400@stjohnscalendar.com
SUMMARY:Staff Meeting
DESCRIPTION:
URL:https://stjohnscalendar.com/event/staff-meeting-6/2026-07-07/
LOCATION:Killeen Hall
ORGANIZER;CN="Holly Sinco":MAILTO:holly@saint-john.org
END:VEVENT
END:VCALENDAR