BEGIN:VCALENDAR
VERSION:2.0
PRODID:-//St. John&#039;s Episcopal Church - ECPv6.15.14//NONSGML v1.0//EN
CALSCALE:GREGORIAN
METHOD:PUBLISH
X-WR-CALNAME:St. John&#039;s Episcopal Church
X-ORIGINAL-URL:https://stjohnscalendar.com
X-WR-CALDESC:Events for St. John&#039;s Episcopal Church
REFRESH-INTERVAL;VALUE=DURATION:PT1H
X-Robots-Tag:noindex
X-PUBLISHED-TTL:PT1H
BEGIN:VTIMEZONE
TZID:America/New_York
BEGIN:DAYLIGHT
TZOFFSETFROM:-0500
TZOFFSETTO:-0400
TZNAME:EDT
DTSTART:20250309T070000
END:DAYLIGHT
BEGIN:STANDARD
TZOFFSETFROM:-0400
TZOFFSETTO:-0500
TZNAME:EST
DTSTART:20251102T060000
END:STANDARD
BEGIN:DAYLIGHT
TZOFFSETFROM:-0500
TZOFFSETTO:-0400
TZNAME:EDT
DTSTART:20260308T070000
END:DAYLIGHT
BEGIN:STANDARD
TZOFFSETFROM:-0400
TZOFFSETTO:-0500
TZNAME:EST
DTSTART:20261101T060000
END:STANDARD
BEGIN:DAYLIGHT
TZOFFSETFROM:-0500
TZOFFSETTO:-0400
TZNAME:EDT
DTSTART:20270314T070000
END:DAYLIGHT
BEGIN:STANDARD
TZOFFSETFROM:-0400
TZOFFSETTO:-0500
TZNAME:EST
DTSTART:20271107T060000
END:STANDARD
END:VTIMEZONE
BEGIN:VEVENT
DTSTART;TZID=America/New_York:20261110T123000
DTEND;TZID=America/New_York:20261110T133000
DTSTAMP:20260423T100933
CREATED:20250828T153306Z
LAST-MODIFIED:20250908T205630Z
UID:10026183-1794313800-1794317400@stjohnscalendar.com
SUMMARY:Bible Study
DESCRIPTION:
URL:https://stjohnscalendar.com/event/bible-study/2026-11-10/
LOCATION:Press Room
END:VEVENT
BEGIN:VEVENT
DTSTART;TZID=America/New_York:20261103T123000
DTEND;TZID=America/New_York:20261103T133000
DTSTAMP:20260423T100933
CREATED:20250828T153306Z
LAST-MODIFIED:20250908T205630Z
UID:10026182-1793709000-1793712600@stjohnscalendar.com
SUMMARY:Bible Study
DESCRIPTION:
URL:https://stjohnscalendar.com/event/bible-study/2026-11-03/
LOCATION:Press Room
END:VEVENT
BEGIN:VEVENT
DTSTART;TZID=America/New_York:20261027T123000
DTEND;TZID=America/New_York:20261027T133000
DTSTAMP:20260423T100933
CREATED:20250828T153306Z
LAST-MODIFIED:20250908T205630Z
UID:10026181-1793104200-1793107800@stjohnscalendar.com
SUMMARY:Bible Study
DESCRIPTION:
URL:https://stjohnscalendar.com/event/bible-study/2026-10-27/
LOCATION:Press Room
END:VEVENT
BEGIN:VEVENT
DTSTART;TZID=America/New_York:20261020T123000
DTEND;TZID=America/New_York:20261020T133000
DTSTAMP:20260423T100933
CREATED:20250828T153306Z
LAST-MODIFIED:20250908T205630Z
UID:10026180-1792499400-1792503000@stjohnscalendar.com
SUMMARY:Bible Study
DESCRIPTION:
URL:https://stjohnscalendar.com/event/bible-study/2026-10-20/
LOCATION:Press Room
END:VEVENT
BEGIN:VEVENT
DTSTART;TZID=America/New_York:20261013T123000
DTEND;TZID=America/New_York:20261013T133000
DTSTAMP:20260423T100933
CREATED:20250828T153306Z
LAST-MODIFIED:20250908T205630Z
UID:10026179-1791894600-1791898200@stjohnscalendar.com
SUMMARY:Bible Study
DESCRIPTION:
URL:https://stjohnscalendar.com/event/bible-study/2026-10-13/
LOCATION:Press Room
END:VEVENT
BEGIN:VEVENT
DTSTART;TZID=America/New_York:20261009T150000
DTEND;TZID=America/New_York:20261009T163000
DTSTAMP:20260423T100933
CREATED:20250908T162922Z
LAST-MODIFIED:20250908T162922Z
UID:10026285-1791558000-1791563400@stjohnscalendar.com
SUMMARY:Piano Tuning in Alfriend Hall
DESCRIPTION:
URL:https://stjohnscalendar.com/event/piano-tuning-in-alfriend-hall/2026-10-09/
LOCATION:Alfriend Hall
CATEGORIES:Administrative
END:VEVENT
BEGIN:VEVENT
DTSTART;TZID=America/New_York:20261006T173000
DTEND;TZID=America/New_York:20261006T190000
DTSTAMP:20260423T100933
CREATED:20260120T212230Z
LAST-MODIFIED:20260120T212230Z
UID:10029322-1791307800-1791313200@stjohnscalendar.com
SUMMARY:Outreach Commission Meeting
DESCRIPTION:
URL:https://stjohnscalendar.com/event/outreach-commission-meeting-4/
LOCATION:Killeen Hall
CATEGORIES:Outreach
END:VEVENT
BEGIN:VEVENT
DTSTART;TZID=America/New_York:20261006T123000
DTEND;TZID=America/New_York:20261006T133000
DTSTAMP:20260423T100933
CREATED:20250828T153306Z
LAST-MODIFIED:20250908T205630Z
UID:10026178-1791289800-1791293400@stjohnscalendar.com
SUMMARY:Bible Study
DESCRIPTION:
URL:https://stjohnscalendar.com/event/bible-study/2026-10-06/
LOCATION:Press Room
END:VEVENT
BEGIN:VEVENT
DTSTART;TZID=America/New_York:20260929T123000
DTEND;TZID=America/New_York:20260929T133000
DTSTAMP:20260423T100933
CREATED:20250828T153306Z
LAST-MODIFIED:20250908T205630Z
UID:10026177-1790685000-1790688600@stjohnscalendar.com
SUMMARY:Bible Study
DESCRIPTION:
URL:https://stjohnscalendar.com/event/bible-study/2026-09-29/
LOCATION:Press Room
END:VEVENT
BEGIN:VEVENT
DTSTART;TZID=America/New_York:20260928T190000
DTEND;TZID=America/New_York:20260928T203000
DTSTAMP:20260423T100933
CREATED:20260423T132858Z
LAST-MODIFIED:20260423T132858Z
UID:10029918-1790622000-1790627400@stjohnscalendar.com
SUMMARY:Centering Prayer
DESCRIPTION:Centering Prayer is a movement beyond words or silent communion with God. Our Centering Prayer group meets weekly to study scripture\, discuss writings by contemplative authors\, and listen to God through Centering Prayer. All are welcome! \nThis event is Zoom Only! Join us using the link below on Monday evenings: \nhttps://us02web.zoom.us/j/455609224?pwd=azdzQ2FydTF2V1p5NndEaGQ0RjliUT09 \nPassword: 1829 \nClick to join the meeting or call-in by phone: (301) 715–8592\nMeeting ID: 455 609 224 \n  \n \nOur weekly classes are presented by The Front Porch: a Spiritual Life Center. The Front Porch welcomes people along all paths who seek to deepen their spiritual lives. We offer contemplative practices\, events\, and classes rooted in Christian spirituality.
URL:https://stjohnscalendar.com/event/centering-prayer-5/2026-09-28/
LOCATION:Zoom – link in description
CATEGORIES:Contemplative Spirituality,FP - Classes,Front Porch
ORGANIZER;CN="Nancy Bechard":MAILTO:nancylynn0119@comcast.net
END:VEVENT
BEGIN:VEVENT
DTSTART;TZID=America/New_York:20260924T113000
DTEND;TZID=America/New_York:20260924T130000
DTSTAMP:20260423T100933
CREATED:20260116T205503Z
LAST-MODIFIED:20260116T205503Z
UID:10029313-1790249400-1790254800@stjohnscalendar.com
SUMMARY:St. John's Foundation Meeting
DESCRIPTION:
URL:https://stjohnscalendar.com/event/st-johns-foundation-meeting-2/
LOCATION:Killeen Hall
CATEGORIES:St. John's Foundation
END:VEVENT
BEGIN:VEVENT
DTSTART;TZID=America/New_York:20260922T123000
DTEND;TZID=America/New_York:20260922T133000
DTSTAMP:20260423T100933
CREATED:20250828T153306Z
LAST-MODIFIED:20250908T205630Z
UID:10026176-1790080200-1790083800@stjohnscalendar.com
SUMMARY:Bible Study
DESCRIPTION:
URL:https://stjohnscalendar.com/event/bible-study/2026-09-22/
LOCATION:Press Room
END:VEVENT
BEGIN:VEVENT
DTSTART;TZID=America/New_York:20260921T190000
DTEND;TZID=America/New_York:20260921T203000
DTSTAMP:20260423T100933
CREATED:20260423T132858Z
LAST-MODIFIED:20260423T132858Z
UID:10029917-1790017200-1790022600@stjohnscalendar.com
SUMMARY:Centering Prayer
DESCRIPTION:Centering Prayer is a movement beyond words or silent communion with God. Our Centering Prayer group meets weekly to study scripture\, discuss writings by contemplative authors\, and listen to God through Centering Prayer. All are welcome! \nThis event is Zoom Only! Join us using the link below on Monday evenings: \nhttps://us02web.zoom.us/j/455609224?pwd=azdzQ2FydTF2V1p5NndEaGQ0RjliUT09 \nPassword: 1829 \nClick to join the meeting or call-in by phone: (301) 715–8592\nMeeting ID: 455 609 224 \n  \n \nOur weekly classes are presented by The Front Porch: a Spiritual Life Center. The Front Porch welcomes people along all paths who seek to deepen their spiritual lives. We offer contemplative practices\, events\, and classes rooted in Christian spirituality.
URL:https://stjohnscalendar.com/event/centering-prayer-5/2026-09-21/
LOCATION:Zoom – link in description
CATEGORIES:Contemplative Spirituality,FP - Classes,Front Porch
ORGANIZER;CN="Nancy Bechard":MAILTO:nancylynn0119@comcast.net
END:VEVENT
BEGIN:VEVENT
DTSTART;TZID=America/New_York:20260917T180000
DTEND;TZID=America/New_York:20260917T210000
DTSTAMP:20260423T100933
CREATED:20260318T210936Z
LAST-MODIFIED:20260318T210936Z
UID:10029752-1789668000-1789678800@stjohnscalendar.com
SUMMARY:Ultreya
DESCRIPTION:Communion in Chapel and 4th day talk response from priest. \nFran to provide iced tea and Alvin to make coffee
URL:https://stjohnscalendar.com/event/ultreya-3/
LOCATION:Alfriend Hall\, Chapel\, FL
CATEGORIES:Contemplative Spirituality
END:VEVENT
BEGIN:VEVENT
DTSTART;TZID=America/New_York:20260915T123000
DTEND;TZID=America/New_York:20260915T133000
DTSTAMP:20260423T100933
CREATED:20250828T153306Z
LAST-MODIFIED:20250908T205630Z
UID:10026175-1789475400-1789479000@stjohnscalendar.com
SUMMARY:Bible Study
DESCRIPTION:
URL:https://stjohnscalendar.com/event/bible-study/2026-09-15/
LOCATION:Press Room
END:VEVENT
BEGIN:VEVENT
DTSTART;TZID=America/New_York:20260914T190000
DTEND;TZID=America/New_York:20260914T203000
DTSTAMP:20260423T100933
CREATED:20260423T132858Z
LAST-MODIFIED:20260423T132858Z
UID:10029916-1789412400-1789417800@stjohnscalendar.com
SUMMARY:Centering Prayer
DESCRIPTION:Centering Prayer is a movement beyond words or silent communion with God. Our Centering Prayer group meets weekly to study scripture\, discuss writings by contemplative authors\, and listen to God through Centering Prayer. All are welcome! \nThis event is Zoom Only! Join us using the link below on Monday evenings: \nhttps://us02web.zoom.us/j/455609224?pwd=azdzQ2FydTF2V1p5NndEaGQ0RjliUT09 \nPassword: 1829 \nClick to join the meeting or call-in by phone: (301) 715–8592\nMeeting ID: 455 609 224 \n  \n \nOur weekly classes are presented by The Front Porch: a Spiritual Life Center. The Front Porch welcomes people along all paths who seek to deepen their spiritual lives. We offer contemplative practices\, events\, and classes rooted in Christian spirituality.
URL:https://stjohnscalendar.com/event/centering-prayer-5/2026-09-14/
LOCATION:Zoom – link in description
CATEGORIES:Contemplative Spirituality,FP - Classes,Front Porch
ORGANIZER;CN="Nancy Bechard":MAILTO:nancylynn0119@comcast.net
END:VEVENT
BEGIN:VEVENT
DTSTART;TZID=America/New_York:20260911T150000
DTEND;TZID=America/New_York:20260911T163000
DTSTAMP:20260423T100933
CREATED:20250908T162922Z
LAST-MODIFIED:20250908T162922Z
UID:10026284-1789138800-1789144200@stjohnscalendar.com
SUMMARY:Piano Tuning in Alfriend Hall
DESCRIPTION:
URL:https://stjohnscalendar.com/event/piano-tuning-in-alfriend-hall/2026-09-11/
LOCATION:Alfriend Hall
CATEGORIES:Administrative
END:VEVENT
BEGIN:VEVENT
DTSTART;TZID=America/New_York:20260908T170000
DTEND;TZID=America/New_York:20260908T190000
DTSTAMP:20260423T100933
CREATED:20260324T154428Z
LAST-MODIFIED:20260413T144322Z
UID:10029814-1788886800-1788894000@stjohnscalendar.com
SUMMARY:Cuba Mission Steering Committee
DESCRIPTION:
URL:https://stjohnscalendar.com/event/cuba-mission-steering-committee-2/2026-09-08/
LOCATION:Killeen Hall
CATEGORIES:Outreach
END:VEVENT
BEGIN:VEVENT
DTSTART;TZID=America/New_York:20260908T123000
DTEND;TZID=America/New_York:20260908T133000
DTSTAMP:20260423T100933
CREATED:20250828T153306Z
LAST-MODIFIED:20250908T205630Z
UID:10026174-1788870600-1788874200@stjohnscalendar.com
SUMMARY:Bible Study
DESCRIPTION:
URL:https://stjohnscalendar.com/event/bible-study/2026-09-08/
LOCATION:Press Room
END:VEVENT
BEGIN:VEVENT
DTSTART;TZID=America/New_York:20260907T190000
DTEND;TZID=America/New_York:20260907T203000
DTSTAMP:20260423T100933
CREATED:20260423T132858Z
LAST-MODIFIED:20260423T132858Z
UID:10029915-1788807600-1788813000@stjohnscalendar.com
SUMMARY:Centering Prayer
DESCRIPTION:Centering Prayer is a movement beyond words or silent communion with God. Our Centering Prayer group meets weekly to study scripture\, discuss writings by contemplative authors\, and listen to God through Centering Prayer. All are welcome! \nThis event is Zoom Only! Join us using the link below on Monday evenings: \nhttps://us02web.zoom.us/j/455609224?pwd=azdzQ2FydTF2V1p5NndEaGQ0RjliUT09 \nPassword: 1829 \nClick to join the meeting or call-in by phone: (301) 715–8592\nMeeting ID: 455 609 224 \n  \n \nOur weekly classes are presented by The Front Porch: a Spiritual Life Center. The Front Porch welcomes people along all paths who seek to deepen their spiritual lives. We offer contemplative practices\, events\, and classes rooted in Christian spirituality.
URL:https://stjohnscalendar.com/event/centering-prayer-5/2026-09-07/
LOCATION:Zoom – link in description
CATEGORIES:Contemplative Spirituality,FP - Classes,Front Porch
ORGANIZER;CN="Nancy Bechard":MAILTO:nancylynn0119@comcast.net
END:VEVENT
BEGIN:VEVENT
DTSTART;TZID=America/New_York:20260901T123000
DTEND;TZID=America/New_York:20260901T133000
DTSTAMP:20260423T100933
CREATED:20250828T153306Z
LAST-MODIFIED:20250908T205630Z
UID:10026173-1788265800-1788269400@stjohnscalendar.com
SUMMARY:Bible Study
DESCRIPTION:
URL:https://stjohnscalendar.com/event/bible-study/2026-09-01/
LOCATION:Press Room
END:VEVENT
BEGIN:VEVENT
DTSTART;TZID=America/New_York:20260831T190000
DTEND;TZID=America/New_York:20260831T203000
DTSTAMP:20260423T100933
CREATED:20260423T132858Z
LAST-MODIFIED:20260423T132858Z
UID:10029914-1788202800-1788208200@stjohnscalendar.com
SUMMARY:Centering Prayer
DESCRIPTION:Centering Prayer is a movement beyond words or silent communion with God. Our Centering Prayer group meets weekly to study scripture\, discuss writings by contemplative authors\, and listen to God through Centering Prayer. All are welcome! \nThis event is Zoom Only! Join us using the link below on Monday evenings: \nhttps://us02web.zoom.us/j/455609224?pwd=azdzQ2FydTF2V1p5NndEaGQ0RjliUT09 \nPassword: 1829 \nClick to join the meeting or call-in by phone: (301) 715–8592\nMeeting ID: 455 609 224 \n  \n \nOur weekly classes are presented by The Front Porch: a Spiritual Life Center. The Front Porch welcomes people along all paths who seek to deepen their spiritual lives. We offer contemplative practices\, events\, and classes rooted in Christian spirituality.
URL:https://stjohnscalendar.com/event/centering-prayer-5/2026-08-31/
LOCATION:Zoom – link in description
CATEGORIES:Contemplative Spirituality,FP - Classes,Front Porch
ORGANIZER;CN="Nancy Bechard":MAILTO:nancylynn0119@comcast.net
END:VEVENT
BEGIN:VEVENT
DTSTART;TZID=America/New_York:20260830T074500
DTEND;TZID=America/New_York:20260830T084500
DTSTAMP:20260423T100933
CREATED:20251106T205730Z
LAST-MODIFIED:20260311T173056Z
UID:10027943-1788075900-1788079500@stjohnscalendar.com
SUMMARY:Holy Eucharist Rite I Worship Service
DESCRIPTION:This traditional\, contemplative Rite I Service of Holy Eucharist meets in the main sanctuary in person.
URL:https://stjohnscalendar.com/event/holy-eucharist-rite-i-worship-service/2026-08-30/
LOCATION:Church
CATEGORIES:Worship
END:VEVENT
BEGIN:VEVENT
DTSTART;TZID=America/New_York:20260827T120000
DTEND;TZID=America/New_York:20260827T130000
DTSTAMP:20260423T100933
CREATED:20260408T150917Z
LAST-MODIFIED:20260408T150917Z
UID:10029800-1787832000-1787835600@stjohnscalendar.com
SUMMARY:The Good Book
DESCRIPTION:Community\, conversation\, learning\, prayer: all rooted in God’s Word. Join us for an online Bible study that will help you grow in faith. This weekly class gathers online via Zoom. \nClick here to join: https://us02web.zoom.us/j/87909742913?pwd=ZTNGTGpVV0w2YUJvZjMvWVpHemFEdz09 \nPasscode: 1829 \nClick to join the meeting or call (301) 715–8592\nMeeting ID: 879 0974 2913
URL:https://stjohnscalendar.com/event/the-good-book-6/2026-08-27/
LOCATION:Zoom – link in description
CATEGORIES:Adult Education
END:VEVENT
BEGIN:VEVENT
DTSTART;TZID=America/New_York:20260825T123000
DTEND;TZID=America/New_York:20260825T133000
DTSTAMP:20260423T100933
CREATED:20250828T153306Z
LAST-MODIFIED:20250908T205630Z
UID:10026172-1787661000-1787664600@stjohnscalendar.com
SUMMARY:Bible Study
DESCRIPTION:
URL:https://stjohnscalendar.com/event/bible-study/2026-08-25/
LOCATION:Press Room
END:VEVENT
BEGIN:VEVENT
DTSTART;TZID=America/New_York:20260824T190000
DTEND;TZID=America/New_York:20260824T203000
DTSTAMP:20260423T100933
CREATED:20260423T132858Z
LAST-MODIFIED:20260423T132858Z
UID:10029913-1787598000-1787603400@stjohnscalendar.com
SUMMARY:Centering Prayer
DESCRIPTION:Centering Prayer is a movement beyond words or silent communion with God. Our Centering Prayer group meets weekly to study scripture\, discuss writings by contemplative authors\, and listen to God through Centering Prayer. All are welcome! \nThis event is Zoom Only! Join us using the link below on Monday evenings: \nhttps://us02web.zoom.us/j/455609224?pwd=azdzQ2FydTF2V1p5NndEaGQ0RjliUT09 \nPassword: 1829 \nClick to join the meeting or call-in by phone: (301) 715–8592\nMeeting ID: 455 609 224 \n  \n \nOur weekly classes are presented by The Front Porch: a Spiritual Life Center. The Front Porch welcomes people along all paths who seek to deepen their spiritual lives. We offer contemplative practices\, events\, and classes rooted in Christian spirituality.
URL:https://stjohnscalendar.com/event/centering-prayer-5/2026-08-24/
LOCATION:Zoom – link in description
CATEGORIES:Contemplative Spirituality,FP - Classes,Front Porch
ORGANIZER;CN="Nancy Bechard":MAILTO:nancylynn0119@comcast.net
END:VEVENT
BEGIN:VEVENT
DTSTART;TZID=America/New_York:20260823T074500
DTEND;TZID=America/New_York:20260823T084500
DTSTAMP:20260423T100933
CREATED:20251106T205730Z
LAST-MODIFIED:20260311T173056Z
UID:10027942-1787471100-1787474700@stjohnscalendar.com
SUMMARY:Holy Eucharist Rite I Worship Service
DESCRIPTION:This traditional\, contemplative Rite I Service of Holy Eucharist meets in the main sanctuary in person.
URL:https://stjohnscalendar.com/event/holy-eucharist-rite-i-worship-service/2026-08-23/
LOCATION:Church
CATEGORIES:Worship
END:VEVENT
BEGIN:VEVENT
DTSTART;TZID=America/New_York:20260820T120000
DTEND;TZID=America/New_York:20260820T130000
DTSTAMP:20260423T100933
CREATED:20260408T150917Z
LAST-MODIFIED:20260408T150917Z
UID:10029799-1787227200-1787230800@stjohnscalendar.com
SUMMARY:The Good Book
DESCRIPTION:Community\, conversation\, learning\, prayer: all rooted in God’s Word. Join us for an online Bible study that will help you grow in faith. This weekly class gathers online via Zoom. \nClick here to join: https://us02web.zoom.us/j/87909742913?pwd=ZTNGTGpVV0w2YUJvZjMvWVpHemFEdz09 \nPasscode: 1829 \nClick to join the meeting or call (301) 715–8592\nMeeting ID: 879 0974 2913
URL:https://stjohnscalendar.com/event/the-good-book-6/2026-08-20/
LOCATION:Zoom – link in description
CATEGORIES:Adult Education
END:VEVENT
BEGIN:VEVENT
DTSTART;TZID=America/New_York:20260818T123000
DTEND;TZID=America/New_York:20260818T133000
DTSTAMP:20260423T100933
CREATED:20250828T153306Z
LAST-MODIFIED:20250908T205630Z
UID:10026171-1787056200-1787059800@stjohnscalendar.com
SUMMARY:Bible Study
DESCRIPTION:
URL:https://stjohnscalendar.com/event/bible-study/2026-08-18/
LOCATION:Press Room
END:VEVENT
BEGIN:VEVENT
DTSTART;TZID=America/New_York:20260817T190000
DTEND;TZID=America/New_York:20260817T203000
DTSTAMP:20260423T100933
CREATED:20260423T132858Z
LAST-MODIFIED:20260423T132858Z
UID:10029912-1786993200-1786998600@stjohnscalendar.com
SUMMARY:Centering Prayer
DESCRIPTION:Centering Prayer is a movement beyond words or silent communion with God. Our Centering Prayer group meets weekly to study scripture\, discuss writings by contemplative authors\, and listen to God through Centering Prayer. All are welcome! \nThis event is Zoom Only! Join us using the link below on Monday evenings: \nhttps://us02web.zoom.us/j/455609224?pwd=azdzQ2FydTF2V1p5NndEaGQ0RjliUT09 \nPassword: 1829 \nClick to join the meeting or call-in by phone: (301) 715–8592\nMeeting ID: 455 609 224 \n  \n \nOur weekly classes are presented by The Front Porch: a Spiritual Life Center. The Front Porch welcomes people along all paths who seek to deepen their spiritual lives. We offer contemplative practices\, events\, and classes rooted in Christian spirituality.
URL:https://stjohnscalendar.com/event/centering-prayer-5/2026-08-17/
LOCATION:Zoom – link in description
CATEGORIES:Contemplative Spirituality,FP - Classes,Front Porch
ORGANIZER;CN="Nancy Bechard":MAILTO:nancylynn0119@comcast.net
END:VEVENT
END:VCALENDAR