BEGIN:VCALENDAR
VERSION:2.0
PRODID:-//St. John&#039;s Episcopal Church - ECPv6.15.14//NONSGML v1.0//EN
CALSCALE:GREGORIAN
METHOD:PUBLISH
X-WR-CALNAME:St. John&#039;s Episcopal Church
X-ORIGINAL-URL:https://stjohnscalendar.com
X-WR-CALDESC:Events for St. John&#039;s Episcopal Church
REFRESH-INTERVAL;VALUE=DURATION:PT1H
X-Robots-Tag:noindex
X-PUBLISHED-TTL:PT1H
BEGIN:VTIMEZONE
TZID:America/New_York
BEGIN:DAYLIGHT
TZOFFSETFROM:-0500
TZOFFSETTO:-0400
TZNAME:EDT
DTSTART:20270314T070000
END:DAYLIGHT
BEGIN:STANDARD
TZOFFSETFROM:-0400
TZOFFSETTO:-0500
TZNAME:EST
DTSTART:20271107T060000
END:STANDARD
BEGIN:DAYLIGHT
TZOFFSETFROM:-0500
TZOFFSETTO:-0400
TZNAME:EDT
DTSTART:20280312T070000
END:DAYLIGHT
BEGIN:STANDARD
TZOFFSETFROM:-0400
TZOFFSETTO:-0500
TZNAME:EST
DTSTART:20281105T060000
END:STANDARD
BEGIN:DAYLIGHT
TZOFFSETFROM:-0500
TZOFFSETTO:-0400
TZNAME:EDT
DTSTART:20290311T070000
END:DAYLIGHT
BEGIN:STANDARD
TZOFFSETFROM:-0400
TZOFFSETTO:-0500
TZNAME:EST
DTSTART:20291104T060000
END:STANDARD
BEGIN:DAYLIGHT
TZOFFSETFROM:-0500
TZOFFSETTO:-0400
TZNAME:EDT
DTSTART:20300310T070000
END:DAYLIGHT
BEGIN:STANDARD
TZOFFSETFROM:-0400
TZOFFSETTO:-0500
TZNAME:EST
DTSTART:20301103T060000
END:STANDARD
BEGIN:DAYLIGHT
TZOFFSETFROM:-0500
TZOFFSETTO:-0400
TZNAME:EDT
DTSTART:20310309T070000
END:DAYLIGHT
BEGIN:STANDARD
TZOFFSETFROM:-0400
TZOFFSETTO:-0500
TZNAME:EST
DTSTART:20311102T060000
END:STANDARD
END:VTIMEZONE
BEGIN:VEVENT
DTSTART;TZID=America/New_York:20280414T150000
DTEND;TZID=America/New_York:20280414T163000
DTSTAMP:20260420T001715
CREATED:20250908T162922Z
LAST-MODIFIED:20250908T162922Z
UID:10026303-1839337200-1839342600@stjohnscalendar.com
SUMMARY:Piano Tuning in Alfriend Hall
DESCRIPTION:
URL:https://stjohnscalendar.com/event/piano-tuning-in-alfriend-hall/2028-04-14/
LOCATION:Alfriend Hall
CATEGORIES:Administrative
END:VEVENT
BEGIN:VEVENT
DTSTART;TZID=America/New_York:20280512T150000
DTEND;TZID=America/New_York:20280512T163000
DTSTAMP:20260420T001715
CREATED:20250908T162922Z
LAST-MODIFIED:20250908T162922Z
UID:10026304-1841756400-1841761800@stjohnscalendar.com
SUMMARY:Piano Tuning in Alfriend Hall
DESCRIPTION:
URL:https://stjohnscalendar.com/event/piano-tuning-in-alfriend-hall/2028-05-12/
LOCATION:Alfriend Hall
CATEGORIES:Administrative
END:VEVENT
BEGIN:VEVENT
DTSTART;TZID=America/New_York:20280609T150000
DTEND;TZID=America/New_York:20280609T163000
DTSTAMP:20260420T001715
CREATED:20250908T162922Z
LAST-MODIFIED:20250908T162922Z
UID:10026305-1844175600-1844181000@stjohnscalendar.com
SUMMARY:Piano Tuning in Alfriend Hall
DESCRIPTION:
URL:https://stjohnscalendar.com/event/piano-tuning-in-alfriend-hall/2028-06-09/
LOCATION:Alfriend Hall
CATEGORIES:Administrative
END:VEVENT
BEGIN:VEVENT
DTSTART;TZID=America/New_York:20280714T150000
DTEND;TZID=America/New_York:20280714T163000
DTSTAMP:20260420T001715
CREATED:20250908T162922Z
LAST-MODIFIED:20250908T162922Z
UID:10026306-1847199600-1847205000@stjohnscalendar.com
SUMMARY:Piano Tuning in Alfriend Hall
DESCRIPTION:
URL:https://stjohnscalendar.com/event/piano-tuning-in-alfriend-hall/2028-07-14/
LOCATION:Alfriend Hall
CATEGORIES:Administrative
END:VEVENT
BEGIN:VEVENT
DTSTART;TZID=America/New_York:20280811T150000
DTEND;TZID=America/New_York:20280811T163000
DTSTAMP:20260420T001715
CREATED:20250908T162922Z
LAST-MODIFIED:20250908T162922Z
UID:10026307-1849618800-1849624200@stjohnscalendar.com
SUMMARY:Piano Tuning in Alfriend Hall
DESCRIPTION:
URL:https://stjohnscalendar.com/event/piano-tuning-in-alfriend-hall/2028-08-11/
LOCATION:Alfriend Hall
CATEGORIES:Administrative
END:VEVENT
BEGIN:VEVENT
DTSTART;TZID=America/New_York:20280908T150000
DTEND;TZID=America/New_York:20280908T163000
DTSTAMP:20260420T001715
CREATED:20250908T162922Z
LAST-MODIFIED:20250908T162922Z
UID:10026308-1852038000-1852043400@stjohnscalendar.com
SUMMARY:Piano Tuning in Alfriend Hall
DESCRIPTION:
URL:https://stjohnscalendar.com/event/piano-tuning-in-alfriend-hall/2028-09-08/
LOCATION:Alfriend Hall
CATEGORIES:Administrative
END:VEVENT
BEGIN:VEVENT
DTSTART;TZID=America/New_York:20281013T150000
DTEND;TZID=America/New_York:20281013T163000
DTSTAMP:20260420T001715
CREATED:20250908T162922Z
LAST-MODIFIED:20250908T162922Z
UID:10026309-1855062000-1855067400@stjohnscalendar.com
SUMMARY:Piano Tuning in Alfriend Hall
DESCRIPTION:
URL:https://stjohnscalendar.com/event/piano-tuning-in-alfriend-hall/2028-10-13/
LOCATION:Alfriend Hall
CATEGORIES:Administrative
END:VEVENT
BEGIN:VEVENT
DTSTART;TZID=America/New_York:20281110T150000
DTEND;TZID=America/New_York:20281110T163000
DTSTAMP:20260420T001715
CREATED:20250908T162922Z
LAST-MODIFIED:20250908T162922Z
UID:10026310-1857481200-1857486600@stjohnscalendar.com
SUMMARY:Piano Tuning in Alfriend Hall
DESCRIPTION:
URL:https://stjohnscalendar.com/event/piano-tuning-in-alfriend-hall/2028-11-10/
LOCATION:Alfriend Hall
CATEGORIES:Administrative
END:VEVENT
BEGIN:VEVENT
DTSTART;TZID=America/New_York:20281208T150000
DTEND;TZID=America/New_York:20281208T163000
DTSTAMP:20260420T001715
CREATED:20250908T162922Z
LAST-MODIFIED:20250908T162922Z
UID:10026311-1859900400-1859905800@stjohnscalendar.com
SUMMARY:Piano Tuning in Alfriend Hall
DESCRIPTION:
URL:https://stjohnscalendar.com/event/piano-tuning-in-alfriend-hall/2028-12-08/
LOCATION:Alfriend Hall
CATEGORIES:Administrative
END:VEVENT
BEGIN:VEVENT
DTSTART;TZID=America/New_York:20290112T150000
DTEND;TZID=America/New_York:20290112T163000
DTSTAMP:20260420T001715
CREATED:20250908T162922Z
LAST-MODIFIED:20250908T162922Z
UID:10026312-1862924400-1862929800@stjohnscalendar.com
SUMMARY:Piano Tuning in Alfriend Hall
DESCRIPTION:
URL:https://stjohnscalendar.com/event/piano-tuning-in-alfriend-hall/2029-01-12/
LOCATION:Alfriend Hall
CATEGORIES:Administrative
END:VEVENT
BEGIN:VEVENT
DTSTART;TZID=America/New_York:20290209T150000
DTEND;TZID=America/New_York:20290209T163000
DTSTAMP:20260420T001715
CREATED:20250908T162922Z
LAST-MODIFIED:20250908T162922Z
UID:10026313-1865343600-1865349000@stjohnscalendar.com
SUMMARY:Piano Tuning in Alfriend Hall
DESCRIPTION:
URL:https://stjohnscalendar.com/event/piano-tuning-in-alfriend-hall/2029-02-09/
LOCATION:Alfriend Hall
CATEGORIES:Administrative
END:VEVENT
BEGIN:VEVENT
DTSTART;TZID=America/New_York:20290309T150000
DTEND;TZID=America/New_York:20290309T163000
DTSTAMP:20260420T001715
CREATED:20250908T162922Z
LAST-MODIFIED:20250908T162922Z
UID:10026314-1867762800-1867768200@stjohnscalendar.com
SUMMARY:Piano Tuning in Alfriend Hall
DESCRIPTION:
URL:https://stjohnscalendar.com/event/piano-tuning-in-alfriend-hall/2029-03-09/
LOCATION:Alfriend Hall
CATEGORIES:Administrative
END:VEVENT
BEGIN:VEVENT
DTSTART;TZID=America/New_York:20290413T150000
DTEND;TZID=America/New_York:20290413T163000
DTSTAMP:20260420T001715
CREATED:20250908T162922Z
LAST-MODIFIED:20250908T162922Z
UID:10026315-1870786800-1870792200@stjohnscalendar.com
SUMMARY:Piano Tuning in Alfriend Hall
DESCRIPTION:
URL:https://stjohnscalendar.com/event/piano-tuning-in-alfriend-hall/2029-04-13/
LOCATION:Alfriend Hall
CATEGORIES:Administrative
END:VEVENT
BEGIN:VEVENT
DTSTART;TZID=America/New_York:20290511T150000
DTEND;TZID=America/New_York:20290511T163000
DTSTAMP:20260420T001715
CREATED:20250908T162922Z
LAST-MODIFIED:20250908T162922Z
UID:10026316-1873206000-1873211400@stjohnscalendar.com
SUMMARY:Piano Tuning in Alfriend Hall
DESCRIPTION:
URL:https://stjohnscalendar.com/event/piano-tuning-in-alfriend-hall/2029-05-11/
LOCATION:Alfriend Hall
CATEGORIES:Administrative
END:VEVENT
BEGIN:VEVENT
DTSTART;TZID=America/New_York:20290608T150000
DTEND;TZID=America/New_York:20290608T163000
DTSTAMP:20260420T001715
CREATED:20250908T162922Z
LAST-MODIFIED:20250908T162922Z
UID:10026317-1875625200-1875630600@stjohnscalendar.com
SUMMARY:Piano Tuning in Alfriend Hall
DESCRIPTION:
URL:https://stjohnscalendar.com/event/piano-tuning-in-alfriend-hall/2029-06-08/
LOCATION:Alfriend Hall
CATEGORIES:Administrative
END:VEVENT
BEGIN:VEVENT
DTSTART;TZID=America/New_York:20290713T150000
DTEND;TZID=America/New_York:20290713T163000
DTSTAMP:20260420T001715
CREATED:20250908T162922Z
LAST-MODIFIED:20250908T162922Z
UID:10026318-1878649200-1878654600@stjohnscalendar.com
SUMMARY:Piano Tuning in Alfriend Hall
DESCRIPTION:
URL:https://stjohnscalendar.com/event/piano-tuning-in-alfriend-hall/2029-07-13/
LOCATION:Alfriend Hall
CATEGORIES:Administrative
END:VEVENT
BEGIN:VEVENT
DTSTART;TZID=America/New_York:20290810T150000
DTEND;TZID=America/New_York:20290810T163000
DTSTAMP:20260420T001715
CREATED:20250908T162922Z
LAST-MODIFIED:20250908T162922Z
UID:10026319-1881068400-1881073800@stjohnscalendar.com
SUMMARY:Piano Tuning in Alfriend Hall
DESCRIPTION:
URL:https://stjohnscalendar.com/event/piano-tuning-in-alfriend-hall/2029-08-10/
LOCATION:Alfriend Hall
CATEGORIES:Administrative
END:VEVENT
BEGIN:VEVENT
DTSTART;TZID=America/New_York:20290914T150000
DTEND;TZID=America/New_York:20290914T163000
DTSTAMP:20260420T001715
CREATED:20250908T162922Z
LAST-MODIFIED:20250908T162922Z
UID:10026320-1884092400-1884097800@stjohnscalendar.com
SUMMARY:Piano Tuning in Alfriend Hall
DESCRIPTION:
URL:https://stjohnscalendar.com/event/piano-tuning-in-alfriend-hall/2029-09-14/
LOCATION:Alfriend Hall
CATEGORIES:Administrative
END:VEVENT
BEGIN:VEVENT
DTSTART;TZID=America/New_York:20291012T150000
DTEND;TZID=America/New_York:20291012T163000
DTSTAMP:20260420T001715
CREATED:20250908T162922Z
LAST-MODIFIED:20250908T162922Z
UID:10026321-1886511600-1886517000@stjohnscalendar.com
SUMMARY:Piano Tuning in Alfriend Hall
DESCRIPTION:
URL:https://stjohnscalendar.com/event/piano-tuning-in-alfriend-hall/2029-10-12/
LOCATION:Alfriend Hall
CATEGORIES:Administrative
END:VEVENT
BEGIN:VEVENT
DTSTART;TZID=America/New_York:20291109T150000
DTEND;TZID=America/New_York:20291109T163000
DTSTAMP:20260420T001715
CREATED:20250908T162922Z
LAST-MODIFIED:20250908T162922Z
UID:10026322-1888930800-1888936200@stjohnscalendar.com
SUMMARY:Piano Tuning in Alfriend Hall
DESCRIPTION:
URL:https://stjohnscalendar.com/event/piano-tuning-in-alfriend-hall/2029-11-09/
LOCATION:Alfriend Hall
CATEGORIES:Administrative
END:VEVENT
BEGIN:VEVENT
DTSTART;TZID=America/New_York:20291214T150000
DTEND;TZID=America/New_York:20291214T163000
DTSTAMP:20260420T001715
CREATED:20250908T162922Z
LAST-MODIFIED:20250908T162922Z
UID:10026323-1891954800-1891960200@stjohnscalendar.com
SUMMARY:Piano Tuning in Alfriend Hall
DESCRIPTION:
URL:https://stjohnscalendar.com/event/piano-tuning-in-alfriend-hall/2029-12-14/
LOCATION:Alfriend Hall
CATEGORIES:Administrative
END:VEVENT
BEGIN:VEVENT
DTSTART;TZID=America/New_York:20300111T150000
DTEND;TZID=America/New_York:20300111T163000
DTSTAMP:20260420T001715
CREATED:20250908T162922Z
LAST-MODIFIED:20250908T162922Z
UID:10026324-1894374000-1894379400@stjohnscalendar.com
SUMMARY:Piano Tuning in Alfriend Hall
DESCRIPTION:
URL:https://stjohnscalendar.com/event/piano-tuning-in-alfriend-hall/2030-01-11/
LOCATION:Alfriend Hall
CATEGORIES:Administrative
END:VEVENT
BEGIN:VEVENT
DTSTART;TZID=America/New_York:20300208T150000
DTEND;TZID=America/New_York:20300208T163000
DTSTAMP:20260420T001715
CREATED:20250908T162922Z
LAST-MODIFIED:20250908T162922Z
UID:10026325-1896793200-1896798600@stjohnscalendar.com
SUMMARY:Piano Tuning in Alfriend Hall
DESCRIPTION:
URL:https://stjohnscalendar.com/event/piano-tuning-in-alfriend-hall/2030-02-08/
LOCATION:Alfriend Hall
CATEGORIES:Administrative
END:VEVENT
BEGIN:VEVENT
DTSTART;TZID=America/New_York:20300308T150000
DTEND;TZID=America/New_York:20300308T163000
DTSTAMP:20260420T001715
CREATED:20250908T162922Z
LAST-MODIFIED:20250908T162922Z
UID:10026326-1899212400-1899217800@stjohnscalendar.com
SUMMARY:Piano Tuning in Alfriend Hall
DESCRIPTION:
URL:https://stjohnscalendar.com/event/piano-tuning-in-alfriend-hall/2030-03-08/
LOCATION:Alfriend Hall
CATEGORIES:Administrative
END:VEVENT
BEGIN:VEVENT
DTSTART;TZID=America/New_York:20300412T150000
DTEND;TZID=America/New_York:20300412T163000
DTSTAMP:20260420T001715
CREATED:20250908T162922Z
LAST-MODIFIED:20250908T162922Z
UID:10026327-1902236400-1902241800@stjohnscalendar.com
SUMMARY:Piano Tuning in Alfriend Hall
DESCRIPTION:
URL:https://stjohnscalendar.com/event/piano-tuning-in-alfriend-hall/2030-04-12/
LOCATION:Alfriend Hall
CATEGORIES:Administrative
END:VEVENT
BEGIN:VEVENT
DTSTART;TZID=America/New_York:20300510T150000
DTEND;TZID=America/New_York:20300510T163000
DTSTAMP:20260420T001715
CREATED:20250908T162922Z
LAST-MODIFIED:20250908T162922Z
UID:10026328-1904655600-1904661000@stjohnscalendar.com
SUMMARY:Piano Tuning in Alfriend Hall
DESCRIPTION:
URL:https://stjohnscalendar.com/event/piano-tuning-in-alfriend-hall/2030-05-10/
LOCATION:Alfriend Hall
CATEGORIES:Administrative
END:VEVENT
BEGIN:VEVENT
DTSTART;TZID=America/New_York:20300614T150000
DTEND;TZID=America/New_York:20300614T163000
DTSTAMP:20260420T001715
CREATED:20250908T162922Z
LAST-MODIFIED:20250908T162922Z
UID:10026329-1907679600-1907685000@stjohnscalendar.com
SUMMARY:Piano Tuning in Alfriend Hall
DESCRIPTION:
URL:https://stjohnscalendar.com/event/piano-tuning-in-alfriend-hall/2030-06-14/
LOCATION:Alfriend Hall
CATEGORIES:Administrative
END:VEVENT
BEGIN:VEVENT
DTSTART;TZID=America/New_York:20300712T150000
DTEND;TZID=America/New_York:20300712T163000
DTSTAMP:20260420T001715
CREATED:20250908T162922Z
LAST-MODIFIED:20250908T162922Z
UID:10026330-1910098800-1910104200@stjohnscalendar.com
SUMMARY:Piano Tuning in Alfriend Hall
DESCRIPTION:
URL:https://stjohnscalendar.com/event/piano-tuning-in-alfriend-hall/2030-07-12/
LOCATION:Alfriend Hall
CATEGORIES:Administrative
END:VEVENT
BEGIN:VEVENT
DTSTART;TZID=America/New_York:20300809T150000
DTEND;TZID=America/New_York:20300809T163000
DTSTAMP:20260420T001715
CREATED:20250908T162922Z
LAST-MODIFIED:20250908T162922Z
UID:10026331-1912518000-1912523400@stjohnscalendar.com
SUMMARY:Piano Tuning in Alfriend Hall
DESCRIPTION:
URL:https://stjohnscalendar.com/event/piano-tuning-in-alfriend-hall/2030-08-09/
LOCATION:Alfriend Hall
CATEGORIES:Administrative
END:VEVENT
END:VCALENDAR