BEGIN:VCALENDAR
VERSION:2.0
PRODID:-//St. John&#039;s Episcopal Church - ECPv6.15.14//NONSGML v1.0//EN
CALSCALE:GREGORIAN
METHOD:PUBLISH
X-WR-CALNAME:St. John&#039;s Episcopal Church
X-ORIGINAL-URL:https://stjohnscalendar.com
X-WR-CALDESC:Events for St. John&#039;s Episcopal Church
REFRESH-INTERVAL;VALUE=DURATION:PT1H
X-Robots-Tag:noindex
X-PUBLISHED-TTL:PT1H
BEGIN:VTIMEZONE
TZID:America/New_York
BEGIN:DAYLIGHT
TZOFFSETFROM:-0500
TZOFFSETTO:-0400
TZNAME:EDT
DTSTART:20250309T070000
END:DAYLIGHT
BEGIN:STANDARD
TZOFFSETFROM:-0400
TZOFFSETTO:-0500
TZNAME:EST
DTSTART:20251102T060000
END:STANDARD
BEGIN:DAYLIGHT
TZOFFSETFROM:-0500
TZOFFSETTO:-0400
TZNAME:EDT
DTSTART:20260308T070000
END:DAYLIGHT
BEGIN:STANDARD
TZOFFSETFROM:-0400
TZOFFSETTO:-0500
TZNAME:EST
DTSTART:20261101T060000
END:STANDARD
BEGIN:DAYLIGHT
TZOFFSETFROM:-0500
TZOFFSETTO:-0400
TZNAME:EDT
DTSTART:20270314T070000
END:DAYLIGHT
BEGIN:STANDARD
TZOFFSETFROM:-0400
TZOFFSETTO:-0500
TZNAME:EST
DTSTART:20271107T060000
END:STANDARD
END:VTIMEZONE
BEGIN:VEVENT
DTSTART;TZID=America/New_York:20260426T101500
DTEND;TZID=America/New_York:20260426T110000
DTSTAMP:20260424T161515
CREATED:20251203T185350Z
LAST-MODIFIED:20260311T162203Z
UID:10028415-1777198500-1777201200@stjohnscalendar.com
SUMMARY:Middle-School Sunday School
DESCRIPTION:Middle-schoolers (6-8 grade) are invited to join us from 10:15 – 11 AM for weekly Christian formation in the Sunday School wing. \nMiddle school students will become StoryMakers to express their questions\, discoveries\, and creativity as they explore the deep theological truths and faith in God. They will walk through the Signs of Grace—baptism and Communion—which contain the tangible means they can hang on to when all seems lost\, and the Lord’s Prayer\, which assures us we have been given the title of heirs—adopted into God’s kingdom and claimed as his own. \nAny questions\, please contact Tyree Jordan.
URL:https://stjohnscalendar.com/event/middle-school-sunday-school-3-2/2026-04-26/
LOCATION:Sunday School Classrooms\, FL
CATEGORIES:Youth
ORGANIZER;CN="Tyree Jordan":MAILTO:tyree@saint-john.org.
END:VEVENT
BEGIN:VEVENT
DTSTART;TZID=America/New_York:20260426T101500
DTEND;TZID=America/New_York:20260426T110000
DTSTAMP:20260424T161515
CREATED:20251203T185604Z
LAST-MODIFIED:20260311T162230Z
UID:10028426-1777198500-1777201200@stjohnscalendar.com
SUMMARY:Youth Sunday School
DESCRIPTION:High schoolers are invited to join us in the Youth Room\, 10:15 – 11 AM on Sundays. \nHigh school Sunday programing this year revolves around loving God with our whole heart\, soul\, mind\, and strength. Students will rotate through four themes each month with the Wellness Compass\, the Prayer Book\, Global Philanthropy Leaders (and other special topics)\, and a movement-based class. Students will also have the option to use the time for personal reflection or preparation on any or all Sundays. \nWe hope you join us for this Sacred Space on Sundays. \nAny questions\, please contact Tyree Jordan.
URL:https://stjohnscalendar.com/event/youth-sunday-school-2/2026-04-26/
LOCATION:Youth Room (Downstairs)
CATEGORIES:Youth
ORGANIZER;CN="Tyree Jordan":MAILTO:tyree@saint-john.org.
END:VEVENT
END:VCALENDAR