BEGIN:VCALENDAR
VERSION:2.0
PRODID:-//St. John&#039;s Episcopal Church - ECPv6.15.14//NONSGML v1.0//EN
CALSCALE:GREGORIAN
METHOD:PUBLISH
X-WR-CALNAME:St. John&#039;s Episcopal Church
X-ORIGINAL-URL:https://stjohnscalendar.com
X-WR-CALDESC:Events for St. John&#039;s Episcopal Church
REFRESH-INTERVAL;VALUE=DURATION:PT1H
X-Robots-Tag:noindex
X-PUBLISHED-TTL:PT1H
BEGIN:VTIMEZONE
TZID:America/New_York
BEGIN:DAYLIGHT
TZOFFSETFROM:-0500
TZOFFSETTO:-0400
TZNAME:EDT
DTSTART:20240310T070000
END:DAYLIGHT
BEGIN:STANDARD
TZOFFSETFROM:-0400
TZOFFSETTO:-0500
TZNAME:EST
DTSTART:20241103T060000
END:STANDARD
BEGIN:DAYLIGHT
TZOFFSETFROM:-0500
TZOFFSETTO:-0400
TZNAME:EDT
DTSTART:20250309T070000
END:DAYLIGHT
BEGIN:STANDARD
TZOFFSETFROM:-0400
TZOFFSETTO:-0500
TZNAME:EST
DTSTART:20251102T060000
END:STANDARD
BEGIN:DAYLIGHT
TZOFFSETFROM:-0500
TZOFFSETTO:-0400
TZNAME:EDT
DTSTART:20260308T070000
END:DAYLIGHT
BEGIN:STANDARD
TZOFFSETFROM:-0400
TZOFFSETTO:-0500
TZNAME:EST
DTSTART:20261101T060000
END:STANDARD
BEGIN:DAYLIGHT
TZOFFSETFROM:-0500
TZOFFSETTO:-0400
TZNAME:EDT
DTSTART:20270314T070000
END:DAYLIGHT
BEGIN:STANDARD
TZOFFSETFROM:-0400
TZOFFSETTO:-0500
TZNAME:EST
DTSTART:20271107T060000
END:STANDARD
END:VTIMEZONE
BEGIN:VEVENT
DTSTART;TZID=America/New_York:20260424T120000
DTEND;TZID=America/New_York:20260424T130000
DTSTAMP:20260424T193112
CREATED:20260319T191341Z
LAST-MODIFIED:20260413T185636Z
UID:10029755-1777032000-1777035600@stjohnscalendar.com
SUMMARY:Ard-Grabowski Wedding Rehearsal
DESCRIPTION:
URL:https://stjohnscalendar.com/event/ard-grabowski-wedding-rehearsal/
LOCATION:Church
CATEGORIES:Special Events
END:VEVENT
BEGIN:VEVENT
DTSTART;TZID=America/New_York:20260419T100000
DTEND;TZID=America/New_York:20260419T170000
DTSTAMP:20260424T193112
CREATED:20250811T150152Z
LAST-MODIFIED:20260414T222904Z
UID:10025132-1776592800-1776618000@stjohnscalendar.com
SUMMARY:Parish Retreat at Goodwood\, including 10 AM Holy Eucharist
DESCRIPTION:Sunday\, April 19 | 10 AM–5 PM | Rain or Shine | 1600 Miccosukee Road | Tallahassee\, FL 32308 \nJoin us for a joyful\, all-parish day together at Goodwood Museum & Gardens on Sunday\, April 19. We’ll gather for one combined service at 10 AM\, followed by a full day of fellowship\, food\, music\, spiritual programming\, crafts\, and lawn games for all ages. \nWhether you stay all day or just stop by\, there’s something for everyone—from hands-on creativity in the Jubilee Cottage to relaxed programming in the Carriage House to high-energy fun on the lawn (including a parish-wide kickball game!). \nBring a lawn chair\, picnic blanket\, and anything that helps you enjoy a beautiful spring day outdoors. \nPlease note: 7:45 AM service will be held in the church. There will be no 9:00 or 11:15 services. \nClick here to see the full schedule of events.
URL:https://stjohnscalendar.com/event/parishretreat2026/
LOCATION:Goodwood Museum & Gardens
CATEGORIES:Children,Membership,Ministry Gatherings,Parish Life,Special Events,Worship,Youth
ATTACH;FMTTYPE=image/png:https://stjohnscalendar.com/wp-content/uploads/2025/08/Parish-Day-2026-1920-x-1080-px-3.png
END:VEVENT
BEGIN:VEVENT
DTSTART;TZID=America/New_York:20260304T123000
DTEND;TZID=America/New_York:20260304T143000
DTSTAMP:20260424T193112
CREATED:20260116T210627Z
LAST-MODIFIED:20260116T210627Z
UID:10029316-1772627400-1772634600@stjohnscalendar.com
SUMMARY:Tour and Lunch for Friendship Force International
DESCRIPTION:
URL:https://stjohnscalendar.com/event/tour-and-lunch-for-friendship-force-international/
LOCATION:Lively Cafe\, FL
CATEGORIES:Special Events
END:VEVENT
BEGIN:VEVENT
DTSTART;TZID=America/New_York:20260222T150000
DTEND;TZID=America/New_York:20260222T163000
DTSTAMP:20260424T193112
CREATED:20250908T182348Z
LAST-MODIFIED:20260128T140230Z
UID:10026397-1771772400-1771777800@stjohnscalendar.com
SUMMARY:Tallahassee Bach Parley Concert: The Berlin Friday Academy
DESCRIPTION:The Tallahassee Bach Parley presents The Berlin Friday Academy: Join us for an afternoon of Baroque music by Janitsch and C. P. E. Bach\, rooted in the vibrant musical culture of 18th-century Berlin and performed on period instruments.\n\n📅 When:\nSaturday\, February 21 – Open Dress Rehearsal | 3:00 PM\nSunday\, February 22 – Concert with Livestream & Free Childcare | 3:00 PM\n\n📍 Where:\nSt. John’s Episcopal Church\n211 North Monroe Street\, Tallahassee\n\n🎟️ More Details:\n$10 suggested donation\nLivestream available\nFree childcare on Sunday\n\n🎻 Performers:\nJohn Abberger – oboe\nEva Amsler – traverso\nValerie Prebys – violin\nMaya Johnson – viola\nKim Jones – cello\nShalev Ad-El – harpsichord
URL:https://stjohnscalendar.com/event/bachparleyconcert0226/
LOCATION:Church
CATEGORIES:Music,Special Events
END:VEVENT
BEGIN:VEVENT
DTSTART;TZID=America/New_York:20260210T150000
DTEND;TZID=America/New_York:20260210T160000
DTSTAMP:20260424T193112
CREATED:20260106T202546Z
LAST-MODIFIED:20260106T202546Z
UID:10029302-1770735600-1770739200@stjohnscalendar.com
SUMMARY:Literary Club Meeting
DESCRIPTION:
URL:https://stjohnscalendar.com/event/literary-club-meeting/
LOCATION:Killeen Hall
CATEGORIES:Special Events
ORGANIZER;CN="Gwen Henderson":MAILTO:glhmarion@comcast.net
END:VEVENT
BEGIN:VEVENT
DTSTART;TZID=America/New_York:20260208T121500
DTEND;TZID=America/New_York:20260208T133000
DTSTAMP:20260424T193112
CREATED:20250710T180703Z
LAST-MODIFIED:20250710T180703Z
UID:10024596-1770552900-1770557400@stjohnscalendar.com
SUMMARY:Annual Chili Cook-off
DESCRIPTION:On Sunday\, Feb. 8\, following our Parish Meeting\, join us in Alfriend Hall for one of the tastiest fundraisers of the year. You can sample at least a dozen different chilis and vote for your favorite! \nEntry is $10/person ($5 for kids)\, with a maximum of $30 per family. \n\nunlimited chili samples\nFran’s homemade cornbread\ncookies\, tea\, and lemonade\n… plus\, a special spoon to cast your vote for our 2026 St. John’s Chili Champ!\n\nPlan to wear your comfy pants for this friendly competition that raises funds for the summer youth mission to Quito\, Ecuador. Parishioners get to vote for their favorite chili after enjoying unlimited samples! Proceeds go towards our 2026 Youth Mission Team. \n  \n 
URL:https://stjohnscalendar.com/event/annual-chili-cook-off/
LOCATION:Alfriend Hall
CATEGORIES:Adult Education,Children,Front Porch,Outreach,Parish Life,Special Events,Youth
ORGANIZER;CN="Tyree Jordan":MAILTO:tyree@saint-john.org.
END:VEVENT
BEGIN:VEVENT
DTSTART;TZID=America/New_York:20251207T113000
DTEND;TZID=America/New_York:20251207T140000
DTSTAMP:20260424T193112
CREATED:20251021T143509Z
LAST-MODIFIED:20251021T143509Z
UID:10027764-1765107000-1765116000@stjohnscalendar.com
SUMMARY:Christmas Caroling
DESCRIPTION:Join St. John’s for an afternoon of Christmas caroling as a parish community! After the 10 AM service\, we’ll gather in Alfriend Hall for a pizza lunch\, then head to the choir room to rehearse and deck ourselves in festive apparel. We’ll depart by bus to visit St. John’s parishioners and some of our Tallahassee neighbors\, singing well-loved carols. All ages and singing abilities are welcome! \nNote: this special event is being held in place of Youth and Children’s Sunday School on this particular Sunday. Adult Sunday School WILL meet for an abbreviated discussion so individuals of all ages can join us for this special parish-wide fellowship event. The bus will depart at approximately 12:15 PM. \n 
URL:https://stjohnscalendar.com/event/caroling2025/
LOCATION:Alfriend Hall
CATEGORIES:Adult Education,Advent 2025,Children,Front Porch,Music,Outreach,Parish Life,Special Events,Youth
ATTACH;FMTTYPE=image/png:https://stjohnscalendar.com/wp-content/uploads/2020/11/caroling-square-small-e1637258882391.png
END:VEVENT
BEGIN:VEVENT
DTSTART;TZID=America/New_York:20251206T160000
DTEND;TZID=America/New_York:20251206T210000
DTSTAMP:20260424T193112
CREATED:20250710T165400Z
LAST-MODIFIED:20251119T163041Z
UID:10024495-1765036800-1765054800@stjohnscalendar.com
SUMMARY:Winter Festival Parking & Holiday Hospitality
DESCRIPTION:St. John’s will be open for “holiday hospitality” during Tallahassee’s annual Winter Festival and Celebration of Lights! \nHappy holidays! A suggested donation of $10 per parking spot will support St. John’s Youth Ministry mission to Ecuador this summer in partnership with Education=Hope. Park with ease and joy knowing that you have a spot and that your spot helps others to have one\, too! \n\nParking lots will be open for parking beginning at 4 PM.\nOnly a limited number of reserved spaces will be sold. They are in the lot directly behind the St. John’s Bookstore (Call St.\, between Calhoun and Gadsden) and just up Call street past the Bookstore lot.\nPlease park before 6:30 PM on parade day; reserved spots will be released at this time (or contact us at the number below to hold your spot).\n\nIf you have any issues please call us at (850) 222-2636. \n**Our parking voucher pre-sale will close at NOON on Friday\, December 5. The remaining spots will be available for $20 cash only in person\, beginning at 4 PM on parade day.** \nAnd\, tell your friends we’ll have: \n\nconvenient spots for parade watching\ncomfort station\nself-guided tours of the historic church\ntower bells playing holiday favorites\n\nRESERVE YOUR PARKING SPACE HERE
URL:https://stjohnscalendar.com/event/winterfestival2025/
LOCATION:St. John’s Bookstore\, 131 N Calhoun St\, Tallahassee\, FL\, 32301\, United States
CATEGORIES:Advent 2025,Outreach,Parish Life,Special Events,Youth
ATTACH;FMTTYPE=image/png:https://stjohnscalendar.com/wp-content/uploads/2025/07/Holiday-Hospitality-1920-x-1080-px.png
ORGANIZER;CN="Tyree Jordan":MAILTO:tyree@saint-john.org.
END:VEVENT
BEGIN:VEVENT
DTSTART;TZID=America/New_York:20251130T113000
DTEND;TZID=America/New_York:20251130T121500
DTSTAMP:20260424T193112
CREATED:20250710T165013Z
LAST-MODIFIED:20251104T214841Z
UID:10024494-1764502200-1764504900@stjohnscalendar.com
SUMMARY:Advent Wreath Making Workshop
DESCRIPTION:Join us in Alfriend Hall to create your own wreath for the season of Advent. Kits will be available for $10 each. Greens and all that you need will be available so you can take your wreath home that day. Green thumbs are optional! \nA hot cocoa bar will be available for all to enjoy. Parishioners of all ages are invited to join us for a morning of fun in preparation for the season of Advent. \n 
URL:https://stjohnscalendar.com/event/adventwreath2025/
LOCATION:Alfriend Hall
CATEGORIES:Adult Education,Advent 2025,Children,Membership,Parish Life,Special Events,Youth
ATTACH;FMTTYPE=image/png:https://stjohnscalendar.com/wp-content/uploads/2025/07/Optisigns-Advent-Wreath-Making-1.png
ORGANIZER;CN="Sarah Descalsota":MAILTO:sarabeth11@yahoo.com
END:VEVENT
END:VCALENDAR