BEGIN:VCALENDAR
VERSION:2.0
PRODID:-//St. John&#039;s Episcopal Church - ECPv6.15.14//NONSGML v1.0//EN
CALSCALE:GREGORIAN
METHOD:PUBLISH
X-WR-CALNAME:St. John&#039;s Episcopal Church
X-ORIGINAL-URL:https://stjohnscalendar.com
X-WR-CALDESC:Events for St. John&#039;s Episcopal Church
REFRESH-INTERVAL;VALUE=DURATION:PT1H
X-Robots-Tag:noindex
X-PUBLISHED-TTL:PT1H
BEGIN:VTIMEZONE
TZID:America/New_York
BEGIN:DAYLIGHT
TZOFFSETFROM:-0500
TZOFFSETTO:-0400
TZNAME:EDT
DTSTART:20250309T070000
END:DAYLIGHT
BEGIN:STANDARD
TZOFFSETFROM:-0400
TZOFFSETTO:-0500
TZNAME:EST
DTSTART:20251102T060000
END:STANDARD
BEGIN:DAYLIGHT
TZOFFSETFROM:-0500
TZOFFSETTO:-0400
TZNAME:EDT
DTSTART:20260308T070000
END:DAYLIGHT
BEGIN:STANDARD
TZOFFSETFROM:-0400
TZOFFSETTO:-0500
TZNAME:EST
DTSTART:20261101T060000
END:STANDARD
BEGIN:DAYLIGHT
TZOFFSETFROM:-0500
TZOFFSETTO:-0400
TZNAME:EDT
DTSTART:20270314T070000
END:DAYLIGHT
BEGIN:STANDARD
TZOFFSETFROM:-0400
TZOFFSETTO:-0500
TZNAME:EST
DTSTART:20271107T060000
END:STANDARD
END:VTIMEZONE
BEGIN:VEVENT
DTSTART;TZID=America/New_York:20260308T130000
DTEND;TZID=America/New_York:20260308T140000
DTSTAMP:20260424T193102
CREATED:20260303T155314Z
LAST-MODIFIED:20260303T155314Z
UID:10029706-1772974800-1772978400@stjohnscalendar.com
SUMMARY:Adult Mission to Ecuador Interest Meeting
DESCRIPTION:Our dates are locked in! A team of adults are headed to Quito\, Ecuador this summer\, July 11-18. There is still time to sign up! We’re holding an information meeting this Sunday at 1 pm. \nIf you are curious about the mission and what it involves\, contact Danny Manausa today: danny@manausalaw.com
URL:https://stjohnscalendar.com/event/adult-mission-to-ecuador-interest-meeting/
LOCATION:Rutledge Room\, FL
CATEGORIES:Outreach
END:VEVENT
BEGIN:VEVENT
DTSTART;TZID=America/New_York:20260310T173000
DTEND;TZID=America/New_York:20260310T190000
DTSTAMP:20260424T193102
CREATED:20260303T155710Z
LAST-MODIFIED:20260303T155710Z
UID:10029707-1773163800-1773169200@stjohnscalendar.com
SUMMARY:Cuba Mission Steering Committee Meeting
DESCRIPTION:
URL:https://stjohnscalendar.com/event/cuba-mission-steering-committee-meeting-3/
LOCATION:Killeen Hall
CATEGORIES:Outreach
END:VEVENT
BEGIN:VEVENT
DTSTART;TZID=America/New_York:20260328T083000
DTEND;TZID=America/New_York:20260328T103000
DTSTAMP:20260424T193102
CREATED:20260323T155212Z
LAST-MODIFIED:20260323T155212Z
UID:10029759-1774686600-1774693800@stjohnscalendar.com
SUMMARY:Springtime Tallahassee Parking: Youth Fundraiser
DESCRIPTION:Support our Youth and reserve a parking space for Saturday’s Springtime Tallahassee Parade! \nA suggested donation of $10 per parking spot will support St. John’s Youth Ministry\, specifically our summer mission to Quito\, Ecuador. \n\nParking lots will be open for parking beginning at 8:30 AM.\nOur lot is located on Call St.\, between Calhoun St. and Gadsden St.\nReserved spaces are in the lot closest to Gadsden Street this time (not the bookstore lot).\nPlease park before 10:30 AM on parade day; reserved spots will be released at this time.\n\nIf you have any issues please call Tyree at (850) 408-5092. \n**Our parking voucher pre-sale will close at midnight on Friday\, March 27. The remaining spots will be available for $20 beginning at 8:30 AM on the parade day.** \nRESERVE YOUR SPOT HERE
URL:https://stjohnscalendar.com/event/springtimeparking2026/
LOCATION:Church Parking Lot\, FL
CATEGORIES:Outreach,Youth
ORGANIZER;CN="Tyree Jordan":MAILTO:tyree@saint-john.org.
END:VEVENT
END:VCALENDAR