BEGIN:VCALENDAR
VERSION:2.0
PRODID:-//St. John&#039;s Episcopal Church - ECPv6.15.14//NONSGML v1.0//EN
CALSCALE:GREGORIAN
METHOD:PUBLISH
X-WR-CALNAME:St. John&#039;s Episcopal Church
X-ORIGINAL-URL:https://stjohnscalendar.com
X-WR-CALDESC:Events for St. John&#039;s Episcopal Church
REFRESH-INTERVAL;VALUE=DURATION:PT1H
X-Robots-Tag:noindex
X-PUBLISHED-TTL:PT1H
BEGIN:VTIMEZONE
TZID:America/New_York
BEGIN:DAYLIGHT
TZOFFSETFROM:-0500
TZOFFSETTO:-0400
TZNAME:EDT
DTSTART:20250309T070000
END:DAYLIGHT
BEGIN:STANDARD
TZOFFSETFROM:-0400
TZOFFSETTO:-0500
TZNAME:EST
DTSTART:20251102T060000
END:STANDARD
BEGIN:DAYLIGHT
TZOFFSETFROM:-0500
TZOFFSETTO:-0400
TZNAME:EDT
DTSTART:20260308T070000
END:DAYLIGHT
BEGIN:STANDARD
TZOFFSETFROM:-0400
TZOFFSETTO:-0500
TZNAME:EST
DTSTART:20261101T060000
END:STANDARD
BEGIN:DAYLIGHT
TZOFFSETFROM:-0500
TZOFFSETTO:-0400
TZNAME:EDT
DTSTART:20270314T070000
END:DAYLIGHT
BEGIN:STANDARD
TZOFFSETFROM:-0400
TZOFFSETTO:-0500
TZNAME:EST
DTSTART:20271107T060000
END:STANDARD
END:VTIMEZONE
BEGIN:VEVENT
DTSTART;TZID=America/New_York:20260329T090000
DTEND;TZID=America/New_York:20260329T103000
DTSTAMP:20260425T124153
CREATED:20250711T144329Z
LAST-MODIFIED:20260311T160723Z
UID:10024471-1774774800-1774780200@stjohnscalendar.com
SUMMARY:Liturgy of the Palms – Palm Sunday: Holy Eucharist Rite II
DESCRIPTION:On Palm Sunday\, we step into the final days of Jesus’ earthly life—walking the road from shouts of “Hosanna\,” to the table of the Last Supper\, to the cross\, and finally to the wonder of the empty tomb. This year\, Palm Sunday will be especially meaningful at St. John’s as Assisting Bishop Chip Stokes joins us in worship to confirm and receive new members of our parish family. We will begin our 9 AM service on Call St. and will process into the sanctuary. This service includes choir\, organ\, and Children’s Chapel. \nThis service will be livestreamed – visit our ONLINE WORSHIP page. \n 
URL:https://stjohnscalendar.com/event/holy-eucharist-10-8-2-3/
LOCATION:Church
CATEGORIES:Holy Week 2026,Online,Worship
ATTACH;FMTTYPE=image/png:https://stjohnscalendar.com/wp-content/uploads/2025/07/Palm-Sunday-Confirmation-2026.png
END:VEVENT
BEGIN:VEVENT
DTSTART;TZID=America/New_York:20260402T183000
DTEND;TZID=America/New_York:20260402T200000
DTSTAMP:20260425T124153
CREATED:20250711T145220Z
LAST-MODIFIED:20260311T163901Z
UID:10024668-1775154600-1775160000@stjohnscalendar.com
SUMMARY:Liturgy for Maundy Thursday
DESCRIPTION:Maundy Thursday is one of the holiest nights of the year. On this night\, Jesus washed his disciples’ feet and shared the Last Supper before his arrest in the garden. During this moving service\, we join with the disciples in those same acts\, offering a gentle ceremony of foot washing for any who wish to receive it and sharing in the Eucharist. After Communion\, the altar is stripped bare. \nThe word “maundy” comes from Latin for “mandate” or “commandment\,” as this is also the night on which Jesus gave his disciples the commandment to love one another. \nThis service will be live streamed – visit our ONLINE WORSHIP page. \nChildcare will be offered for this special evening service. \nNOTE: Incense will be used at this service.
URL:https://stjohnscalendar.com/event/maundythursday2026/
LOCATION:Church
CATEGORIES:Holy Week 2026,Online,Worship
ATTACH;FMTTYPE=image/png:https://stjohnscalendar.com/wp-content/uploads/2025/07/2026-Holy-Week-Graphic-2.png
END:VEVENT
BEGIN:VEVENT
DTSTART;TZID=America/New_York:20260404T183000
DTEND;TZID=America/New_York:20260404T200000
DTSTAMP:20260425T124153
CREATED:20250711T145516Z
LAST-MODIFIED:20260326T194355Z
UID:10024671-1775327400-1775332800@stjohnscalendar.com
SUMMARY:The Great Vigil of Easter
DESCRIPTION:The Great Vigil of Easter is the most important and joyful service of the entire year. Steeped in traditions reaching back to the earliest days of Christianity\, we light the new Easter fire\, recount the stories of God’s saving deeds\, baptize new converts to the faith\, and celebrate the first Eucharist of Easter. \nThis is the brightest jewel of all Christian liturgy\, the climax of the Christian year\, the queen of feasts and seasons\, and the crown of all our earthly worship. You do not want to miss it. \nJoin us in Alfriend Hall following the service for a festive reception! If you would like to help supply tasty nibbles to our Easter Vigil Reception\, click here! \nIncense will be used\, and childcare will be offered\, at this special evening service. \nThis service will be live-streamed – visit our ONLINE WORSHIP page. \n 
URL:https://stjohnscalendar.com/event/greatvigil2026/
LOCATION:Church
CATEGORIES:Holy Week 2026,Online,Worship
ATTACH;FMTTYPE=image/png:https://stjohnscalendar.com/wp-content/uploads/2025/07/2026-Holy-Week-Graphic-7.png
END:VEVENT
END:VCALENDAR