BEGIN:VCALENDAR
VERSION:2.0
PRODID:-//St. John&#039;s Episcopal Church - ECPv6.15.14//NONSGML v1.0//EN
CALSCALE:GREGORIAN
METHOD:PUBLISH
X-WR-CALNAME:St. John&#039;s Episcopal Church
X-ORIGINAL-URL:https://stjohnscalendar.com
X-WR-CALDESC:Events for St. John&#039;s Episcopal Church
REFRESH-INTERVAL;VALUE=DURATION:PT1H
X-Robots-Tag:noindex
X-PUBLISHED-TTL:PT1H
BEGIN:VTIMEZONE
TZID:America/New_York
BEGIN:DAYLIGHT
TZOFFSETFROM:-0500
TZOFFSETTO:-0400
TZNAME:EDT
DTSTART:20250309T070000
END:DAYLIGHT
BEGIN:STANDARD
TZOFFSETFROM:-0400
TZOFFSETTO:-0500
TZNAME:EST
DTSTART:20251102T060000
END:STANDARD
BEGIN:DAYLIGHT
TZOFFSETFROM:-0500
TZOFFSETTO:-0400
TZNAME:EDT
DTSTART:20260308T070000
END:DAYLIGHT
BEGIN:STANDARD
TZOFFSETFROM:-0400
TZOFFSETTO:-0500
TZNAME:EST
DTSTART:20261101T060000
END:STANDARD
BEGIN:DAYLIGHT
TZOFFSETFROM:-0500
TZOFFSETTO:-0400
TZNAME:EDT
DTSTART:20270314T070000
END:DAYLIGHT
BEGIN:STANDARD
TZOFFSETFROM:-0400
TZOFFSETTO:-0500
TZNAME:EST
DTSTART:20271107T060000
END:STANDARD
END:VTIMEZONE
BEGIN:VEVENT
DTSTART;TZID=America/New_York:20260412T150000
DTEND;TZID=America/New_York:20260412T170000
DTSTAMP:20260424T224917
CREATED:20260218T153909Z
LAST-MODIFIED:20260218T153909Z
UID:10029679-1776006000-1776013200@stjohnscalendar.com
SUMMARY:Meeting of American Guild of Organists
DESCRIPTION:
URL:https://stjohnscalendar.com/event/meeting-of-american-guild-of-organists/
LOCATION:Choir Room
CATEGORIES:Music
END:VEVENT
BEGIN:VEVENT
DTSTART;TZID=America/New_York:20260414T120000
DTEND;TZID=America/New_York:20260414T123000
DTSTAMP:20260424T224917
CREATED:20250709T172853Z
LAST-MODIFIED:20260409T163545Z
UID:10024436-1776168000-1776169800@stjohnscalendar.com
SUMMARY:Tower Bell Tuesdays
DESCRIPTION:On Tuesdays in April\, members of the St. John’s Tower Bell Guild will be performing bell concerts and providing tours of our historic bell tower. Come enjoy the beautiful sounds of St. John’s 14 hand-rung bells while eating lunch in the garden. Outdoor seating is available in Eve’s Garden\, or one of St. John’s many other outdoor garden spaces. \nBells will be played from noon-12:30 p.m. Informal tours will follow. Simply make your way to the choir loft following each Tuesday’s concert.
URL:https://stjohnscalendar.com/event/tower-bell-tuesdays-4/2026-04-14/
LOCATION:Eve’s Garden
CATEGORIES:Music,Parish Life
ATTACH;FMTTYPE=image/png:https://stjohnscalendar.com/wp-content/uploads/2025/07/Tower-Bell-Tuesdays-OptiSigns-2.png
END:VEVENT
BEGIN:VEVENT
DTSTART;TZID=America/New_York:20260414T150000
DTEND;TZID=America/New_York:20260414T180000
DTSTAMP:20260424T224917
CREATED:20260330T150054Z
LAST-MODIFIED:20260330T150220Z
UID:10029770-1776178800-1776189600@stjohnscalendar.com
SUMMARY:St. John's Choir School Open Days
DESCRIPTION:Curious about enrolling your child in the St. John’s Choir School? Join us Tuesday\, April 14\, Wednesday\, April 15\, and Thursday\, April 16 for “Open Days”. During this week\, any potential students and parents are welcome to participate and/or observe the program. \nAll participants* are welcome to come one\, two\, or all three days as their schedule allows. \n*Students in grades K-2nd are encouraged to attend on Tuesday\, as this is the day of their primary instruction. Students in grades 3rd-12th may come on any day.\n\n\nSchedule\nTuesday\, April 14\n3:00 – 4:00pm | Drop-Off Time & Optional Piano Lessons\n4:00pm – 4:45pm | K-2nd Choir Rehearsal\n\n4:00pm – 4:45pm | 3rd-12th Music Theory Class\n4:45pm – 6:00pm | 3rd-12th Choir Rehearsal\n \nWednesday\, April 15\n3:00 – 4:15pm | Drop-Off Time & Optional Piano Lessons\n4:15 – 5:20pm | 3rd-12th Choir Rehearsal\n5:30pm – 6:00pm | Service of Choral Evensong (sung by the 3rd-12th graders)\n6:00- 6:30pm | Optional Dinner for Students + Parent Meet & Greet\n \n\n\nThursday\, April 16\n3:00 – 4:00pm | Drop-Off Time & Optional Piano Lessons\n\n4:00pm – 4:45pm | 3rd-12th Music Theory Class\n4:45pm – 6:00pm | 3rd-12th Choir Rehearsal\n\n\nCLICK HERE TO FILL OUT AN INTEREST FORM. 
URL:https://stjohnscalendar.com/event/sjcsopendays/2026-04-14/
LOCATION:Choir Room
CATEGORIES:Children,Choir School,Youth
ATTACH;FMTTYPE=image/png:https://stjohnscalendar.com/wp-content/uploads/2026/03/Recruitment-ad-2026.png
END:VEVENT
BEGIN:VEVENT
DTSTART;TZID=America/New_York:20260415T150000
DTEND;TZID=America/New_York:20260415T180000
DTSTAMP:20260424T224917
CREATED:20260330T150054Z
LAST-MODIFIED:20260330T150220Z
UID:10029771-1776265200-1776276000@stjohnscalendar.com
SUMMARY:St. John's Choir School Open Days
DESCRIPTION:Curious about enrolling your child in the St. John’s Choir School? Join us Tuesday\, April 14\, Wednesday\, April 15\, and Thursday\, April 16 for “Open Days”. During this week\, any potential students and parents are welcome to participate and/or observe the program. \nAll participants* are welcome to come one\, two\, or all three days as their schedule allows. \n*Students in grades K-2nd are encouraged to attend on Tuesday\, as this is the day of their primary instruction. Students in grades 3rd-12th may come on any day.\n\n\nSchedule\nTuesday\, April 14\n3:00 – 4:00pm | Drop-Off Time & Optional Piano Lessons\n4:00pm – 4:45pm | K-2nd Choir Rehearsal\n\n4:00pm – 4:45pm | 3rd-12th Music Theory Class\n4:45pm – 6:00pm | 3rd-12th Choir Rehearsal\n \nWednesday\, April 15\n3:00 – 4:15pm | Drop-Off Time & Optional Piano Lessons\n4:15 – 5:20pm | 3rd-12th Choir Rehearsal\n5:30pm – 6:00pm | Service of Choral Evensong (sung by the 3rd-12th graders)\n6:00- 6:30pm | Optional Dinner for Students + Parent Meet & Greet\n \n\n\nThursday\, April 16\n3:00 – 4:00pm | Drop-Off Time & Optional Piano Lessons\n\n4:00pm – 4:45pm | 3rd-12th Music Theory Class\n4:45pm – 6:00pm | 3rd-12th Choir Rehearsal\n\n\nCLICK HERE TO FILL OUT AN INTEREST FORM. 
URL:https://stjohnscalendar.com/event/sjcsopendays/2026-04-15/
LOCATION:Choir Room
CATEGORIES:Children,Choir School,Youth
ATTACH;FMTTYPE=image/png:https://stjohnscalendar.com/wp-content/uploads/2026/03/Recruitment-ad-2026.png
END:VEVENT
BEGIN:VEVENT
DTSTART;TZID=America/New_York:20260415T173000
DTEND;TZID=America/New_York:20260415T180000
DTSTAMP:20260424T224917
CREATED:20251120T161841Z
LAST-MODIFIED:20260311T162843Z
UID:10025621-1776274200-1776276000@stjohnscalendar.com
SUMMARY:Choristers’ Evensong
DESCRIPTION:All are invited to this quiet\, sung worship led by the St. John’s Choir School.
URL:https://stjohnscalendar.com/event/choristers-evensong-2/2026-04-15/
LOCATION:Carter Chapel\, FL
CATEGORIES:Children,Choir School,Worship
END:VEVENT
BEGIN:VEVENT
DTSTART;TZID=America/New_York:20260416T063000
DTEND;TZID=America/New_York:20260416T193000
DTSTAMP:20260424T224917
CREATED:20260311T163811Z
LAST-MODIFIED:20260311T163811Z
UID:10029727-1776321000-1776367800@stjohnscalendar.com
SUMMARY:Recital in Chapel
DESCRIPTION:
URL:https://stjohnscalendar.com/event/recital-in-chapel/
LOCATION:Chapel
CATEGORIES:Music
ORGANIZER;CN="Mike Norris":MAILTO:norris.mr@gmail.com
END:VEVENT
BEGIN:VEVENT
DTSTART;TZID=America/New_York:20260416T150000
DTEND;TZID=America/New_York:20260416T180000
DTSTAMP:20260424T224917
CREATED:20260330T150054Z
LAST-MODIFIED:20260330T150220Z
UID:10029772-1776351600-1776362400@stjohnscalendar.com
SUMMARY:St. John's Choir School Open Days
DESCRIPTION:Curious about enrolling your child in the St. John’s Choir School? Join us Tuesday\, April 14\, Wednesday\, April 15\, and Thursday\, April 16 for “Open Days”. During this week\, any potential students and parents are welcome to participate and/or observe the program. \nAll participants* are welcome to come one\, two\, or all three days as their schedule allows. \n*Students in grades K-2nd are encouraged to attend on Tuesday\, as this is the day of their primary instruction. Students in grades 3rd-12th may come on any day.\n\n\nSchedule\nTuesday\, April 14\n3:00 – 4:00pm | Drop-Off Time & Optional Piano Lessons\n4:00pm – 4:45pm | K-2nd Choir Rehearsal\n\n4:00pm – 4:45pm | 3rd-12th Music Theory Class\n4:45pm – 6:00pm | 3rd-12th Choir Rehearsal\n \nWednesday\, April 15\n3:00 – 4:15pm | Drop-Off Time & Optional Piano Lessons\n4:15 – 5:20pm | 3rd-12th Choir Rehearsal\n5:30pm – 6:00pm | Service of Choral Evensong (sung by the 3rd-12th graders)\n6:00- 6:30pm | Optional Dinner for Students + Parent Meet & Greet\n \n\n\nThursday\, April 16\n3:00 – 4:00pm | Drop-Off Time & Optional Piano Lessons\n\n4:00pm – 4:45pm | 3rd-12th Music Theory Class\n4:45pm – 6:00pm | 3rd-12th Choir Rehearsal\n\n\nCLICK HERE TO FILL OUT AN INTEREST FORM. 
URL:https://stjohnscalendar.com/event/sjcsopendays/2026-04-16/
LOCATION:Choir Room
CATEGORIES:Children,Choir School,Youth
ATTACH;FMTTYPE=image/png:https://stjohnscalendar.com/wp-content/uploads/2026/03/Recruitment-ad-2026.png
END:VEVENT
END:VCALENDAR