BEGIN:VCALENDAR
VERSION:2.0
PRODID:-//St. John&#039;s Episcopal Church - ECPv6.15.14//NONSGML v1.0//EN
CALSCALE:GREGORIAN
METHOD:PUBLISH
X-WR-CALNAME:St. John&#039;s Episcopal Church
X-ORIGINAL-URL:https://stjohnscalendar.com
X-WR-CALDESC:Events for St. John&#039;s Episcopal Church
REFRESH-INTERVAL;VALUE=DURATION:PT1H
X-Robots-Tag:noindex
X-PUBLISHED-TTL:PT1H
BEGIN:VTIMEZONE
TZID:America/New_York
BEGIN:DAYLIGHT
TZOFFSETFROM:-0500
TZOFFSETTO:-0400
TZNAME:EDT
DTSTART:20250309T070000
END:DAYLIGHT
BEGIN:STANDARD
TZOFFSETFROM:-0400
TZOFFSETTO:-0500
TZNAME:EST
DTSTART:20251102T060000
END:STANDARD
BEGIN:DAYLIGHT
TZOFFSETFROM:-0500
TZOFFSETTO:-0400
TZNAME:EDT
DTSTART:20260308T070000
END:DAYLIGHT
BEGIN:STANDARD
TZOFFSETFROM:-0400
TZOFFSETTO:-0500
TZNAME:EST
DTSTART:20261101T060000
END:STANDARD
BEGIN:DAYLIGHT
TZOFFSETFROM:-0500
TZOFFSETTO:-0400
TZNAME:EDT
DTSTART:20270314T070000
END:DAYLIGHT
BEGIN:STANDARD
TZOFFSETFROM:-0400
TZOFFSETTO:-0500
TZNAME:EST
DTSTART:20271107T060000
END:STANDARD
END:VTIMEZONE
BEGIN:VEVENT
DTSTART;TZID=America/New_York:20260428T120000
DTEND;TZID=America/New_York:20260428T123000
DTSTAMP:20260424T223558
CREATED:20250709T172853Z
LAST-MODIFIED:20260409T163545Z
UID:10024438-1777377600-1777379400@stjohnscalendar.com
SUMMARY:Tower Bell Tuesdays
DESCRIPTION:On Tuesdays in April\, members of the St. John’s Tower Bell Guild will be performing bell concerts and providing tours of our historic bell tower. Come enjoy the beautiful sounds of St. John’s 14 hand-rung bells while eating lunch in the garden. Outdoor seating is available in Eve’s Garden\, or one of St. John’s many other outdoor garden spaces. \nBells will be played from noon-12:30 p.m. Informal tours will follow. Simply make your way to the choir loft following each Tuesday’s concert.
URL:https://stjohnscalendar.com/event/tower-bell-tuesdays-4/2026-04-28/
LOCATION:Eve’s Garden
CATEGORIES:Music,Parish Life
ATTACH;FMTTYPE=image/png:https://stjohnscalendar.com/wp-content/uploads/2025/07/Tower-Bell-Tuesdays-OptiSigns-2.png
END:VEVENT
BEGIN:VEVENT
DTSTART;TZID=America/New_York:20260429T173000
DTEND;TZID=America/New_York:20260429T180000
DTSTAMP:20260424T223558
CREATED:20251120T161841Z
LAST-MODIFIED:20260311T162843Z
UID:10025623-1777483800-1777485600@stjohnscalendar.com
SUMMARY:Choristers’ Evensong
DESCRIPTION:All are invited to this quiet\, sung worship led by the St. John’s Choir School.
URL:https://stjohnscalendar.com/event/choristers-evensong-2/2026-04-29/
LOCATION:Carter Chapel\, FL
CATEGORIES:Children,Choir School,Worship
END:VEVENT
BEGIN:VEVENT
DTSTART;TZID=America/New_York:20260506T173000
DTEND;TZID=America/New_York:20260506T180000
DTSTAMP:20260424T223558
CREATED:20251120T161841Z
LAST-MODIFIED:20260311T162843Z
UID:10025624-1778088600-1778090400@stjohnscalendar.com
SUMMARY:Choristers’ Evensong
DESCRIPTION:All are invited to this quiet\, sung worship led by the St. John’s Choir School.
URL:https://stjohnscalendar.com/event/choristers-evensong-2/2026-05-06/
LOCATION:Carter Chapel\, FL
CATEGORIES:Children,Choir School,Worship
END:VEVENT
BEGIN:VEVENT
DTSTART;TZID=America/New_York:20260507T120000
DTEND;TZID=America/New_York:20260507T130000
DTSTAMP:20260424T223558
CREATED:20260120T215841Z
LAST-MODIFIED:20260120T215841Z
UID:10029328-1778155200-1778158800@stjohnscalendar.com
SUMMARY:Bach's Lunch Concert
DESCRIPTION:
URL:https://stjohnscalendar.com/event/bachs-lunch-concert-4/
LOCATION:Carter Chapel\, FL
CATEGORIES:Music
END:VEVENT
BEGIN:VEVENT
DTSTART;TZID=America/New_York:20260513T173000
DTEND;TZID=America/New_York:20260513T180000
DTSTAMP:20260424T223558
CREATED:20251120T161841Z
LAST-MODIFIED:20260311T162843Z
UID:10025625-1778693400-1778695200@stjohnscalendar.com
SUMMARY:Choristers’ Evensong
DESCRIPTION:All are invited to this quiet\, sung worship led by the St. John’s Choir School.
URL:https://stjohnscalendar.com/event/choristers-evensong-2/2026-05-13/
LOCATION:Carter Chapel\, FL
CATEGORIES:Children,Choir School,Worship
END:VEVENT
BEGIN:VEVENT
DTSTART;TZID=America/New_York:20260520T173000
DTEND;TZID=America/New_York:20260520T180000
DTSTAMP:20260424T223558
CREATED:20251120T161841Z
LAST-MODIFIED:20260311T162843Z
UID:10025626-1779298200-1779300000@stjohnscalendar.com
SUMMARY:Choristers’ Evensong
DESCRIPTION:All are invited to this quiet\, sung worship led by the St. John’s Choir School.
URL:https://stjohnscalendar.com/event/choristers-evensong-2/2026-05-20/
LOCATION:Carter Chapel\, FL
CATEGORIES:Children,Choir School,Worship
END:VEVENT
BEGIN:VEVENT
DTSTART;TZID=America/New_York:20260528T050000
DTEND;TZID=America/New_York:20260528T180000
DTSTAMP:20260424T223558
CREATED:20260228T142155Z
LAST-MODIFIED:20260228T143044Z
UID:10029702-1779944400-1779991200@stjohnscalendar.com
SUMMARY:Tallahassee Pro-Musica Rehearsal
DESCRIPTION:
URL:https://stjohnscalendar.com/event/tallahassee-pro-musica-rehearsal/
LOCATION:Alfriend Hall
CATEGORIES:Music
ORGANIZER;CN="Therese Whichello":MAILTO:therese.whichello@gmail.com
END:VEVENT
BEGIN:VEVENT
DTSTART;TZID=America/New_York:20260529T053000
DTEND;TZID=America/New_York:20260529T203000
DTSTAMP:20260424T223558
CREATED:20260228T142010Z
LAST-MODIFIED:20260228T142010Z
UID:10029701-1780032600-1780086600@stjohnscalendar.com
SUMMARY:Tallahassee Pro-Musica Concert
DESCRIPTION:
URL:https://stjohnscalendar.com/event/tallahassee-pro-musica-concert/
LOCATION:Alfriend Hall
CATEGORIES:Music
ORGANIZER;CN="Therese Whichello":MAILTO:therese.whichello@gmail.com
END:VEVENT
BEGIN:VEVENT
DTSTART;TZID=America/New_York:20260606T150000
DTEND;TZID=America/New_York:20260606T163000
DTSTAMP:20260424T223558
CREATED:20250908T182723Z
LAST-MODIFIED:20250908T182723Z
UID:10026401-1780758000-1780763400@stjohnscalendar.com
SUMMARY:Tallahassee Bach Parley Open Rehearsal
DESCRIPTION:
URL:https://stjohnscalendar.com/event/tallahassee-bach-parley-open-rehearsal/
LOCATION:Church
CATEGORIES:Music
END:VEVENT
BEGIN:VEVENT
DTSTART;TZID=America/New_York:20260607T150000
DTEND;TZID=America/New_York:20260607T163000
DTSTAMP:20260424T223558
CREATED:20250908T182859Z
LAST-MODIFIED:20250908T182859Z
UID:10026403-1780844400-1780849800@stjohnscalendar.com
SUMMARY:Tallahassee Bach Parley Concert
DESCRIPTION:
URL:https://stjohnscalendar.com/event/tallahassee-bach-parley-concert-2/
LOCATION:Church
CATEGORIES:Music
END:VEVENT
BEGIN:VEVENT
DTSTART;TZID=America/New_York:20260615T083000
DTEND;TZID=America/New_York:20260619T143000
DTSTAMP:20260424T223558
CREATED:20260219T162413Z
LAST-MODIFIED:20260407T201133Z
UID:10029681-1781512200-1781879400@stjohnscalendar.com
SUMMARY:St. John's Choir Camp 2026
DESCRIPTION:Summer Choir Camp is back for its 11th year!WHEN: Monday – Friday\, June 15-19\, 2026\, 8:30 a.m. – 2:30 p.m.This five-day camp\, for rising 2nd through 8th graders\, includes classes in ensemble singing\, music theory and composition\, games\, and will even feature vocal coaching from professional singers! Mid-morning snacks and drinks are provided; child should bring a lunch.Space is limited. Reserve your spot! The early-bird registration fee is $150 per child (through May 1\, 2026). After May 1\, the registration fee increases to $175 per child. Need-based assistance is available.REGISTER HERE
URL:https://stjohnscalendar.com/event/sjcc2026/
LOCATION:St. John’s Campus
CATEGORIES:Children,Music
END:VEVENT
END:VCALENDAR