BEGIN:VCALENDAR
VERSION:2.0
PRODID:-//St. John&#039;s Episcopal Church - ECPv6.15.14//NONSGML v1.0//EN
CALSCALE:GREGORIAN
METHOD:PUBLISH
X-WR-CALNAME:St. John&#039;s Episcopal Church
X-ORIGINAL-URL:https://stjohnscalendar.com
X-WR-CALDESC:Events for St. John&#039;s Episcopal Church
REFRESH-INTERVAL;VALUE=DURATION:PT1H
X-Robots-Tag:noindex
X-PUBLISHED-TTL:PT1H
BEGIN:VTIMEZONE
TZID:America/New_York
BEGIN:DAYLIGHT
TZOFFSETFROM:-0500
TZOFFSETTO:-0400
TZNAME:EDT
DTSTART:20250309T070000
END:DAYLIGHT
BEGIN:STANDARD
TZOFFSETFROM:-0400
TZOFFSETTO:-0500
TZNAME:EST
DTSTART:20251102T060000
END:STANDARD
BEGIN:DAYLIGHT
TZOFFSETFROM:-0500
TZOFFSETTO:-0400
TZNAME:EDT
DTSTART:20260308T070000
END:DAYLIGHT
BEGIN:STANDARD
TZOFFSETFROM:-0400
TZOFFSETTO:-0500
TZNAME:EST
DTSTART:20261101T060000
END:STANDARD
BEGIN:DAYLIGHT
TZOFFSETFROM:-0500
TZOFFSETTO:-0400
TZNAME:EDT
DTSTART:20270314T070000
END:DAYLIGHT
BEGIN:STANDARD
TZOFFSETFROM:-0400
TZOFFSETTO:-0500
TZNAME:EST
DTSTART:20271107T060000
END:STANDARD
END:VTIMEZONE
BEGIN:VEVENT
DTSTART;TZID=America/New_York:20260325T173000
DTEND;TZID=America/New_York:20260325T180000
DTSTAMP:20260424T211002
CREATED:20251120T161841Z
LAST-MODIFIED:20260311T162843Z
UID:10025618-1774459800-1774461600@stjohnscalendar.com
SUMMARY:Choristers’ Evensong
DESCRIPTION:All are invited to this quiet\, sung worship led by the St. John’s Choir School.
URL:https://stjohnscalendar.com/event/choristers-evensong-2/2026-03-25/
LOCATION:Carter Chapel\, FL
CATEGORIES:Children,Choir School,Worship
END:VEVENT
BEGIN:VEVENT
DTSTART;TZID=America/New_York:20260328T150000
DTEND;TZID=America/New_York:20260328T170000
DTSTAMP:20260424T211002
CREATED:20260304T144442Z
LAST-MODIFIED:20260304T144442Z
UID:10029710-1774710000-1774717200@stjohnscalendar.com
SUMMARY:MASH Meet Up at the Mannheimers
DESCRIPTION:Join us for our next Munchkins & Spiritual Harmony (MASH) gathering on Saturday\, March 29\, 3-5 PM! \nMASH is a relaxed\, welcoming group for parents of young children to enjoy coffee\, conversation\, and connection while navigating faith and parenting in the midst of early childhood’s joyful chaos. Join us at George & Michelle Mannheimer’s house (423 N Ride) for a fun afternoon of activities and community.
URL:https://stjohnscalendar.com/event/mash-meet-up-at-the-mannheimers/
LOCATION:The Mannheimers
CATEGORIES:Children,Membership,Parish Life
ORGANIZER;CN="Tyree Jordan":MAILTO:tyree@saint-john.org.
END:VEVENT
END:VCALENDAR