BEGIN:VCALENDAR
VERSION:2.0
PRODID:-//St. John&#039;s Episcopal Church - ECPv6.15.14//NONSGML v1.0//EN
CALSCALE:GREGORIAN
METHOD:PUBLISH
X-WR-CALNAME:St. John&#039;s Episcopal Church
X-ORIGINAL-URL:https://stjohnscalendar.com
X-WR-CALDESC:Events for St. John&#039;s Episcopal Church
REFRESH-INTERVAL;VALUE=DURATION:PT1H
X-Robots-Tag:noindex
X-PUBLISHED-TTL:PT1H
BEGIN:VTIMEZONE
TZID:America/New_York
BEGIN:DAYLIGHT
TZOFFSETFROM:-0500
TZOFFSETTO:-0400
TZNAME:EDT
DTSTART:20250309T070000
END:DAYLIGHT
BEGIN:STANDARD
TZOFFSETFROM:-0400
TZOFFSETTO:-0500
TZNAME:EST
DTSTART:20251102T060000
END:STANDARD
BEGIN:DAYLIGHT
TZOFFSETFROM:-0500
TZOFFSETTO:-0400
TZNAME:EDT
DTSTART:20260308T070000
END:DAYLIGHT
BEGIN:STANDARD
TZOFFSETFROM:-0400
TZOFFSETTO:-0500
TZNAME:EST
DTSTART:20261101T060000
END:STANDARD
BEGIN:DAYLIGHT
TZOFFSETFROM:-0500
TZOFFSETTO:-0400
TZNAME:EDT
DTSTART:20270314T070000
END:DAYLIGHT
BEGIN:STANDARD
TZOFFSETFROM:-0400
TZOFFSETTO:-0500
TZNAME:EST
DTSTART:20271107T060000
END:STANDARD
END:VTIMEZONE
BEGIN:VEVENT
DTSTART;TZID=America/New_York:20260528T050000
DTEND;TZID=America/New_York:20260528T180000
DTSTAMP:20260425T212558
CREATED:20260228T142155Z
LAST-MODIFIED:20260228T143044Z
UID:10029702-1779944400-1779991200@stjohnscalendar.com
SUMMARY:Tallahassee Pro-Musica Rehearsal
DESCRIPTION:
URL:https://stjohnscalendar.com/event/tallahassee-pro-musica-rehearsal/
LOCATION:Alfriend Hall
CATEGORIES:Music
ORGANIZER;CN="Therese Whichello":MAILTO:therese.whichello@gmail.com
END:VEVENT
BEGIN:VEVENT
DTSTART;TZID=America/New_York:20260528T120000
DTEND;TZID=America/New_York:20260528T130000
DTSTAMP:20260425T212558
CREATED:20260408T150917Z
LAST-MODIFIED:20260408T150917Z
UID:10029787-1779969600-1779973200@stjohnscalendar.com
SUMMARY:The Good Book
DESCRIPTION:Community\, conversation\, learning\, prayer: all rooted in God’s Word. Join us for an online Bible study that will help you grow in faith. This weekly class gathers online via Zoom. \nClick here to join: https://us02web.zoom.us/j/87909742913?pwd=ZTNGTGpVV0w2YUJvZjMvWVpHemFEdz09 \nPasscode: 1829 \nClick to join the meeting or call (301) 715–8592\nMeeting ID: 879 0974 2913
URL:https://stjohnscalendar.com/event/the-good-book-6/2026-05-28/
LOCATION:Zoom – link in description
CATEGORIES:Adult Education
END:VEVENT
BEGIN:VEVENT
DTSTART;TZID=America/New_York:20260528T130000
DTEND;TZID=America/New_York:20260528T143000
DTSTAMP:20260425T212558
CREATED:20260421T200847Z
LAST-MODIFIED:20260421T200847Z
UID:10029866-1779973200-1779978600@stjohnscalendar.com
SUMMARY:Senior Staff Meeting
DESCRIPTION:
URL:https://stjohnscalendar.com/event/senior-staff-meeting/2026-05-28/
LOCATION:Rector’s Office
END:VEVENT
BEGIN:VEVENT
DTSTART;TZID=America/New_York:20260528T133000
DTEND;TZID=America/New_York:20260528T140000
DTSTAMP:20260425T212558
CREATED:20260424T211613Z
LAST-MODIFIED:20260424T211613Z
UID:10029954-1779975000-1779976800@stjohnscalendar.com
SUMMARY:Facilities Huddle
DESCRIPTION:
URL:https://stjohnscalendar.com/event/facilities-huddle/2026-05-28/
LOCATION:Rutledge Room\, FL
END:VEVENT
BEGIN:VEVENT
DTSTART;TZID=America/New_York:20260528T173000
DTEND;TZID=America/New_York:20260528T200000
DTSTAMP:20260425T212558
CREATED:20260130T163326Z
LAST-MODIFIED:20260130T163416Z
UID:10024421-1779989400-1779998400@stjohnscalendar.com
SUMMARY:Education for Ministry (EfM) Thursday evening class
DESCRIPTION: 
URL:https://stjohnscalendar.com/event/education-for-ministry-efm-thursday-evening-class-2/2026-05-28/
LOCATION:Rutledge Room\, FL
CATEGORIES:Adult Education
ORGANIZER;CN="Holly Sinco":MAILTO:holly@saint-john.org
END:VEVENT
END:VCALENDAR