BEGIN:VCALENDAR
VERSION:2.0
PRODID:-//St. John&#039;s Episcopal Church - ECPv6.15.14//NONSGML v1.0//EN
CALSCALE:GREGORIAN
METHOD:PUBLISH
X-WR-CALNAME:St. John&#039;s Episcopal Church
X-ORIGINAL-URL:https://stjohnscalendar.com
X-WR-CALDESC:Events for St. John&#039;s Episcopal Church
REFRESH-INTERVAL;VALUE=DURATION:PT1H
X-Robots-Tag:noindex
X-PUBLISHED-TTL:PT1H
BEGIN:VTIMEZONE
TZID:America/New_York
BEGIN:DAYLIGHT
TZOFFSETFROM:-0500
TZOFFSETTO:-0400
TZNAME:EDT
DTSTART:20250309T070000
END:DAYLIGHT
BEGIN:STANDARD
TZOFFSETFROM:-0400
TZOFFSETTO:-0500
TZNAME:EST
DTSTART:20251102T060000
END:STANDARD
BEGIN:DAYLIGHT
TZOFFSETFROM:-0500
TZOFFSETTO:-0400
TZNAME:EDT
DTSTART:20260308T070000
END:DAYLIGHT
BEGIN:STANDARD
TZOFFSETFROM:-0400
TZOFFSETTO:-0500
TZNAME:EST
DTSTART:20261101T060000
END:STANDARD
BEGIN:DAYLIGHT
TZOFFSETFROM:-0500
TZOFFSETTO:-0400
TZNAME:EDT
DTSTART:20270314T070000
END:DAYLIGHT
BEGIN:STANDARD
TZOFFSETFROM:-0400
TZOFFSETTO:-0500
TZNAME:EST
DTSTART:20271107T060000
END:STANDARD
END:VTIMEZONE
BEGIN:VEVENT
DTSTART;TZID=America/New_York:20260430T070000
DTEND;TZID=America/New_York:20260430T080000
DTSTAMP:20260425T212721
CREATED:20250625T153559Z
LAST-MODIFIED:20250826T180405Z
UID:10024195-1777532400-1777536000@stjohnscalendar.com
SUMMARY:Men’s Bible Study
DESCRIPTION:Our Men’s Bible Study gatherings are held every Thursday at 7 AM. Join us for a relaxed\, insightful Bible study with early morning fellowship! Whether you’re new or well-versed in the scriptures\, all are welcome. Dive into our weekly discussion at your own pace. Participate weekly\, as your schedule dictates\, without missing a beat. \nReadings are emailed in advance of class\, along with links to commentary. To join our email list\, contact Jonathan Jackson. See you there! \nThis is a HYBRID meeting. Join us in person in Killeen Hall or by Zoom: \nhttps://us02web.zoom.us/j/87429760245?pwd=UmZuV00yTGE1aTUwV2VJWk4rMjFtZz09 \nMeeting ID: 874 2976 0245\nPasscode: 1829
URL:https://stjohnscalendar.com/event/mens-bible-study-11/2026-04-30/
LOCATION:Killeen Hall
CATEGORIES:Adult Education
END:VEVENT
BEGIN:VEVENT
DTSTART;TZID=America/New_York:20260430T120000
DTEND;TZID=America/New_York:20260430T130000
DTSTAMP:20260425T212721
CREATED:20251204T135235Z
LAST-MODIFIED:20251204T135235Z
UID:10028542-1777550400-1777554000@stjohnscalendar.com
SUMMARY:Small Group for People with Aging Parents
DESCRIPTION:
URL:https://stjohnscalendar.com/event/small-group-for-people-with-aging-parents-2/2026-04-30/
LOCATION:Adult Meeting Room\, FL
END:VEVENT
BEGIN:VEVENT
DTSTART;TZID=America/New_York:20260430T120000
DTEND;TZID=America/New_York:20260430T130000
DTSTAMP:20260425T212721
CREATED:20260408T150917Z
LAST-MODIFIED:20260408T150917Z
UID:10029783-1777550400-1777554000@stjohnscalendar.com
SUMMARY:The Good Book
DESCRIPTION:Community\, conversation\, learning\, prayer: all rooted in God’s Word. Join us for an online Bible study that will help you grow in faith. This weekly class gathers online via Zoom. \nClick here to join: https://us02web.zoom.us/j/87909742913?pwd=ZTNGTGpVV0w2YUJvZjMvWVpHemFEdz09 \nPasscode: 1829 \nClick to join the meeting or call (301) 715–8592\nMeeting ID: 879 0974 2913
URL:https://stjohnscalendar.com/event/the-good-book-6/2026-04-30/
LOCATION:Zoom – link in description
CATEGORIES:Adult Education
END:VEVENT
BEGIN:VEVENT
DTSTART;TZID=America/New_York:20260430T130000
DTEND;TZID=America/New_York:20260430T143000
DTSTAMP:20260425T212721
CREATED:20260421T200847Z
LAST-MODIFIED:20260421T200847Z
UID:10029862-1777554000-1777559400@stjohnscalendar.com
SUMMARY:Senior Staff Meeting
DESCRIPTION:
URL:https://stjohnscalendar.com/event/senior-staff-meeting/2026-04-30/
LOCATION:Rector’s Office
END:VEVENT
BEGIN:VEVENT
DTSTART;TZID=America/New_York:20260430T133000
DTEND;TZID=America/New_York:20260430T140000
DTSTAMP:20260425T212721
CREATED:20260424T211613Z
LAST-MODIFIED:20260424T211613Z
UID:10029950-1777555800-1777557600@stjohnscalendar.com
SUMMARY:Facilities Huddle
DESCRIPTION:
URL:https://stjohnscalendar.com/event/facilities-huddle/2026-04-30/
LOCATION:Rutledge Room\, FL
END:VEVENT
BEGIN:VEVENT
DTSTART;TZID=America/New_York:20260430T173000
DTEND;TZID=America/New_York:20260430T200000
DTSTAMP:20260425T212721
CREATED:20260130T163326Z
LAST-MODIFIED:20260130T163416Z
UID:10024417-1777570200-1777579200@stjohnscalendar.com
SUMMARY:Education for Ministry (EfM) Thursday evening class
DESCRIPTION: 
URL:https://stjohnscalendar.com/event/education-for-ministry-efm-thursday-evening-class-2/2026-04-30/
LOCATION:Rutledge Room\, FL
CATEGORIES:Adult Education
ORGANIZER;CN="Holly Sinco":MAILTO:holly@saint-john.org
END:VEVENT
END:VCALENDAR