BEGIN:VCALENDAR
VERSION:2.0
PRODID:-//St. John&#039;s Episcopal Church - ECPv6.15.14//NONSGML v1.0//EN
CALSCALE:GREGORIAN
METHOD:PUBLISH
X-WR-CALNAME:St. John&#039;s Episcopal Church
X-ORIGINAL-URL:https://stjohnscalendar.com
X-WR-CALDESC:Events for St. John&#039;s Episcopal Church
REFRESH-INTERVAL;VALUE=DURATION:PT1H
X-Robots-Tag:noindex
X-PUBLISHED-TTL:PT1H
BEGIN:VTIMEZONE
TZID:America/New_York
BEGIN:DAYLIGHT
TZOFFSETFROM:-0500
TZOFFSETTO:-0400
TZNAME:EDT
DTSTART:20250309T070000
END:DAYLIGHT
BEGIN:STANDARD
TZOFFSETFROM:-0400
TZOFFSETTO:-0500
TZNAME:EST
DTSTART:20251102T060000
END:STANDARD
BEGIN:DAYLIGHT
TZOFFSETFROM:-0500
TZOFFSETTO:-0400
TZNAME:EDT
DTSTART:20260308T070000
END:DAYLIGHT
BEGIN:STANDARD
TZOFFSETFROM:-0400
TZOFFSETTO:-0500
TZNAME:EST
DTSTART:20261101T060000
END:STANDARD
BEGIN:DAYLIGHT
TZOFFSETFROM:-0500
TZOFFSETTO:-0400
TZNAME:EDT
DTSTART:20270314T070000
END:DAYLIGHT
BEGIN:STANDARD
TZOFFSETFROM:-0400
TZOFFSETTO:-0500
TZNAME:EST
DTSTART:20271107T060000
END:STANDARD
END:VTIMEZONE
BEGIN:VEVENT
DTSTART;TZID=America/New_York:20260421T113000
DTEND;TZID=America/New_York:20260421T123000
DTSTAMP:20260421T055904
CREATED:20250811T125127Z
LAST-MODIFIED:20251022T130230Z
UID:10025127-1776771000-1776774600@stjohnscalendar.com
SUMMARY:Women’s Bible Study
DESCRIPTION:This fall\, St. John’s will offer a new weekly Bible study for women on Tuesdays from 11:30 a.m. to 12:30 p.m. in Killeen Hall. Facilitated by Jane Menton\, the group will explore A Beautiful Year in the Bible\, a theologically grounded and visually engaging resource from the Alabaster Company. Designed to be accessible and thought-provoking\, this study invites women of all ages and backgrounds to reflect on themes such as New Beginnings\, Heeding God’s Call\, Relationships\, Forgiveness\, Generosity\, and Hope. \n\n\n\n\nThe format is flexible\, with content designed for 52 weeks but easily spread across two years if the group desires. Books are available for purchase on Amazon. Our first session will be Tuesday\, September 16. All are welcome.
URL:https://stjohnscalendar.com/event/womens-bible-study/2026-04-21/
LOCATION:Killeen Hall
END:VEVENT
BEGIN:VEVENT
DTSTART;TZID=America/New_York:20260421T120000
DTEND;TZID=America/New_York:20260421T123000
DTSTAMP:20260421T055904
CREATED:20250709T172853Z
LAST-MODIFIED:20260409T163545Z
UID:10024437-1776772800-1776774600@stjohnscalendar.com
SUMMARY:Tower Bell Tuesdays
DESCRIPTION:On Tuesdays in April\, members of the St. John’s Tower Bell Guild will be performing bell concerts and providing tours of our historic bell tower. Come enjoy the beautiful sounds of St. John’s 14 hand-rung bells while eating lunch in the garden. Outdoor seating is available in Eve’s Garden\, or one of St. John’s many other outdoor garden spaces. \nBells will be played from noon-12:30 p.m. Informal tours will follow. Simply make your way to the choir loft following each Tuesday’s concert.
URL:https://stjohnscalendar.com/event/tower-bell-tuesdays-4/2026-04-21/
LOCATION:Eve’s Garden
CATEGORIES:Music,Parish Life
ATTACH;FMTTYPE=image/png:https://stjohnscalendar.com/wp-content/uploads/2025/07/Tower-Bell-Tuesdays-OptiSigns-2.png
END:VEVENT
BEGIN:VEVENT
DTSTART;TZID=America/New_York:20260421T123000
DTEND;TZID=America/New_York:20260421T133000
DTSTAMP:20260421T055904
CREATED:20250828T153306Z
LAST-MODIFIED:20250908T205630Z
UID:10026154-1776774600-1776778200@stjohnscalendar.com
SUMMARY:Bible Study
DESCRIPTION:
URL:https://stjohnscalendar.com/event/bible-study/2026-04-21/
LOCATION:Press Room
END:VEVENT
BEGIN:VEVENT
DTSTART;TZID=America/New_York:20260421T123000
DTEND;TZID=America/New_York:20260421T133000
DTSTAMP:20260421T055904
CREATED:20260128T205539Z
LAST-MODIFIED:20260128T205539Z
UID:10029634-1776774600-1776778200@stjohnscalendar.com
SUMMARY:Pastoral Care Team Meeting
DESCRIPTION:
URL:https://stjohnscalendar.com/event/pastoral-care-team-meeting-5/
LOCATION:Adult Meeting Room\, FL
CATEGORIES:Adult Education
END:VEVENT
BEGIN:VEVENT
DTSTART;TZID=America/New_York:20260421T123000
DTEND;TZID=America/New_York:20260421T150000
DTSTAMP:20260421T055904
CREATED:20250702T164717Z
LAST-MODIFIED:20250710T174650Z
UID:10024322-1776774600-1776783600@stjohnscalendar.com
SUMMARY:EfM Tuesday afternoon class (Education for Ministry)
DESCRIPTION:
URL:https://stjohnscalendar.com/event/efm-2/2026-04-21/
LOCATION:Rutledge
END:VEVENT
BEGIN:VEVENT
DTSTART;TZID=America/New_York:20260421T190000
DTEND;TZID=America/New_York:20260421T200000
DTSTAMP:20260421T055904
CREATED:20260312T171951Z
LAST-MODIFIED:20260312T171951Z
UID:10029729-1776798000-1776801600@stjohnscalendar.com
SUMMARY:Recital in Chapel
DESCRIPTION:
URL:https://stjohnscalendar.com/event/recital-in-chapel-2/
LOCATION:Carter Chapel\, FL
CATEGORIES:Music
ORGANIZER;CN="Mike Norris":MAILTO:norris.mr@gmail.com
END:VEVENT
END:VCALENDAR