BEGIN:VCALENDAR
VERSION:2.0
PRODID:-//St. John&#039;s Episcopal Church - ECPv6.15.14//NONSGML v1.0//EN
CALSCALE:GREGORIAN
METHOD:PUBLISH
X-WR-CALNAME:St. John&#039;s Episcopal Church
X-ORIGINAL-URL:https://stjohnscalendar.com
X-WR-CALDESC:Events for St. John&#039;s Episcopal Church
REFRESH-INTERVAL;VALUE=DURATION:PT1H
X-Robots-Tag:noindex
X-PUBLISHED-TTL:PT1H
BEGIN:VTIMEZONE
TZID:America/New_York
BEGIN:DAYLIGHT
TZOFFSETFROM:-0500
TZOFFSETTO:-0400
TZNAME:EDT
DTSTART:20250309T070000
END:DAYLIGHT
BEGIN:STANDARD
TZOFFSETFROM:-0400
TZOFFSETTO:-0500
TZNAME:EST
DTSTART:20251102T060000
END:STANDARD
BEGIN:DAYLIGHT
TZOFFSETFROM:-0500
TZOFFSETTO:-0400
TZNAME:EDT
DTSTART:20260308T070000
END:DAYLIGHT
BEGIN:STANDARD
TZOFFSETFROM:-0400
TZOFFSETTO:-0500
TZNAME:EST
DTSTART:20261101T060000
END:STANDARD
BEGIN:DAYLIGHT
TZOFFSETFROM:-0500
TZOFFSETTO:-0400
TZNAME:EDT
DTSTART:20270314T070000
END:DAYLIGHT
BEGIN:STANDARD
TZOFFSETFROM:-0400
TZOFFSETTO:-0500
TZNAME:EST
DTSTART:20271107T060000
END:STANDARD
END:VTIMEZONE
BEGIN:VEVENT
DTSTART;TZID=America/New_York:20260401T121000
DTEND;TZID=America/New_York:20260401T130000
DTSTAMP:20260425T195735
CREATED:20260311T162407Z
LAST-MODIFIED:20260311T162408Z
UID:10026946-1775045400-1775048400@stjohnscalendar.com
SUMMARY:Healing Service
DESCRIPTION:On Wednesdays\, we offer a Service of Holy Eucharist and Healing. \nThis 30-minute service is perfect for those who can’t attend on Sundays or anyone seeking spiritual nourishment midweek. Our brief service time allows for prayer\, reflection and partaking in the Eucharist before continuing our day’s work. \nThis Wednesday service incorporates a special time for healing prayer.
URL:https://stjohnscalendar.com/event/healing-service-2-2-3-2-2-2/
LOCATION:Carter Chapel\, FL
CATEGORIES:Holy Week 2026,Worship
END:VEVENT
END:VCALENDAR