BEGIN:VCALENDAR
VERSION:2.0
PRODID:-//St. John&#039;s Episcopal Church - ECPv6.15.14//NONSGML v1.0//EN
CALSCALE:GREGORIAN
METHOD:PUBLISH
X-WR-CALNAME:St. John&#039;s Episcopal Church
X-ORIGINAL-URL:https://stjohnscalendar.com
X-WR-CALDESC:Events for St. John&#039;s Episcopal Church
REFRESH-INTERVAL;VALUE=DURATION:PT1H
X-Robots-Tag:noindex
X-PUBLISHED-TTL:PT1H
BEGIN:VTIMEZONE
TZID:America/New_York
BEGIN:DAYLIGHT
TZOFFSETFROM:-0500
TZOFFSETTO:-0400
TZNAME:EDT
DTSTART:20250309T070000
END:DAYLIGHT
BEGIN:STANDARD
TZOFFSETFROM:-0400
TZOFFSETTO:-0500
TZNAME:EST
DTSTART:20251102T060000
END:STANDARD
BEGIN:DAYLIGHT
TZOFFSETFROM:-0500
TZOFFSETTO:-0400
TZNAME:EDT
DTSTART:20260308T070000
END:DAYLIGHT
BEGIN:STANDARD
TZOFFSETFROM:-0400
TZOFFSETTO:-0500
TZNAME:EST
DTSTART:20261101T060000
END:STANDARD
BEGIN:DAYLIGHT
TZOFFSETFROM:-0500
TZOFFSETTO:-0400
TZNAME:EDT
DTSTART:20270314T070000
END:DAYLIGHT
BEGIN:STANDARD
TZOFFSETFROM:-0400
TZOFFSETTO:-0500
TZNAME:EST
DTSTART:20271107T060000
END:STANDARD
END:VTIMEZONE
BEGIN:VEVENT
DTSTART;TZID=America/New_York:20260214T090000
DTEND;TZID=America/New_York:20260214T103000
DTSTAMP:20260424T211339
CREATED:20230215T184245Z
LAST-MODIFIED:20260409T163445Z
UID:10029360-1771059600-1771065000@stjohnscalendar.com
SUMMARY:Altar Guild
DESCRIPTION:
URL:https://stjohnscalendar.com/event/altar-guild-4/2026-02-14/
LOCATION:Church
END:VEVENT
BEGIN:VEVENT
DTSTART;TZID=America/New_York:20260214T090000
DTEND;TZID=America/New_York:20260214T140000
DTSTAMP:20260424T211339
CREATED:20250923T193120Z
LAST-MODIFIED:20250923T193120Z
UID:10027260-1771059600-1771077600@stjohnscalendar.com
SUMMARY:Growing in Grace Retreat
DESCRIPTION:This retreat kicks off Growing in Grace\, a course designed to help adults renew their faith\, learn more about the Episcopal Church\, and prepare for confirmation\, reception\, or reaffirmation of faith. At the retreat\, we will go over the basics of what the course will look like\, as well as touch upon St. John’s history and what it means to be a member of St. John’s. For those looking to join St. John’s\, this retreat is perfect. At the end of the day\, seekers may choose to continue on with Growing in Grace classes with the intent of Confirmation or Reception at the end. We’d love to have you join us! \nRegistration for Growing in Grace is coming soon!
URL:https://stjohnscalendar.com/event/gigretreat2026/
LOCATION:Killeen Hall
CATEGORIES:Adult Education,Membership
ATTACH;FMTTYPE=image/png:https://stjohnscalendar.com/wp-content/uploads/2021/02/Production-Slate-Growing-in-Grace.png
END:VEVENT
END:VCALENDAR