BEGIN:VCALENDAR
VERSION:2.0
PRODID:-//St. John&#039;s Episcopal Church - ECPv6.15.14//NONSGML v1.0//EN
CALSCALE:GREGORIAN
METHOD:PUBLISH
X-WR-CALNAME:St. John&#039;s Episcopal Church
X-ORIGINAL-URL:https://stjohnscalendar.com
X-WR-CALDESC:Events for St. John&#039;s Episcopal Church
REFRESH-INTERVAL;VALUE=DURATION:PT1H
X-Robots-Tag:noindex
X-PUBLISHED-TTL:PT1H
BEGIN:VTIMEZONE
TZID:America/New_York
BEGIN:DAYLIGHT
TZOFFSETFROM:-0500
TZOFFSETTO:-0400
TZNAME:EDT
DTSTART:20240310T070000
END:DAYLIGHT
BEGIN:STANDARD
TZOFFSETFROM:-0400
TZOFFSETTO:-0500
TZNAME:EST
DTSTART:20241103T060000
END:STANDARD
BEGIN:DAYLIGHT
TZOFFSETFROM:-0500
TZOFFSETTO:-0400
TZNAME:EDT
DTSTART:20250309T070000
END:DAYLIGHT
BEGIN:STANDARD
TZOFFSETFROM:-0400
TZOFFSETTO:-0500
TZNAME:EST
DTSTART:20251102T060000
END:STANDARD
BEGIN:DAYLIGHT
TZOFFSETFROM:-0500
TZOFFSETTO:-0400
TZNAME:EDT
DTSTART:20260308T070000
END:DAYLIGHT
BEGIN:STANDARD
TZOFFSETFROM:-0400
TZOFFSETTO:-0500
TZNAME:EST
DTSTART:20261101T060000
END:STANDARD
END:VTIMEZONE
BEGIN:VEVENT
DTSTART;TZID=America/New_York:20251211T183000
DTEND;TZID=America/New_York:20251211T200000
DTSTAMP:20260424T195301
CREATED:20251112T191221Z
LAST-MODIFIED:20251112T191222Z
UID:51547-1765477800-1765483200@stjohnscalendar.com
SUMMARY:SPUDS Winter Gathering
DESCRIPTION:Warm up with winter fellowship at our SPUDS’ Winter Gathering! All are welcome at Jeff & Sara Merrill’s home (303 Cortez St.\, 32303) as we come together to enjoy each other’s company. “SPUDS” stands for “St. John’s Parishioners United for Dining and Spirit!” In other words\, everyone is invited! \nSPUDS meets quarterly\, typically the second Thursday of March\, June\, September\, and December for fun and fellowship. \nNo RSVP necessary! Please bring a bottle of wine or other beverage to share. \nEmail Peggy Bielby (peggybielby@aol.com) if you have any questions.
URL:https://stjohnscalendar.com/event/spudswinter25/
LOCATION:The Merrills
CATEGORIES:Advent 2025,Membership,Parish Life
ATTACH;FMTTYPE=image/png:https://stjohnscalendar.com/wp-content/uploads/2025/11/SPUDS-Winter-2025-Optisigns-1920-x-1080-px.png
ORGANIZER;CN="Peggy Bielby":MAILTO:peggybielby@aol.com
END:VEVENT
END:VCALENDAR