BEGIN:VCALENDAR
VERSION:2.0
PRODID:-//St. John&#039;s Episcopal Church - ECPv6.15.14//NONSGML v1.0//EN
CALSCALE:GREGORIAN
METHOD:PUBLISH
X-WR-CALNAME:St. John&#039;s Episcopal Church
X-ORIGINAL-URL:https://stjohnscalendar.com
X-WR-CALDESC:Events for St. John&#039;s Episcopal Church
REFRESH-INTERVAL;VALUE=DURATION:PT1H
X-Robots-Tag:noindex
X-PUBLISHED-TTL:PT1H
BEGIN:VTIMEZONE
TZID:America/New_York
BEGIN:DAYLIGHT
TZOFFSETFROM:-0500
TZOFFSETTO:-0400
TZNAME:EDT
DTSTART:20250309T070000
END:DAYLIGHT
BEGIN:STANDARD
TZOFFSETFROM:-0400
TZOFFSETTO:-0500
TZNAME:EST
DTSTART:20251102T060000
END:STANDARD
BEGIN:DAYLIGHT
TZOFFSETFROM:-0500
TZOFFSETTO:-0400
TZNAME:EDT
DTSTART:20260308T070000
END:DAYLIGHT
BEGIN:STANDARD
TZOFFSETFROM:-0400
TZOFFSETTO:-0500
TZNAME:EST
DTSTART:20261101T060000
END:STANDARD
BEGIN:DAYLIGHT
TZOFFSETFROM:-0500
TZOFFSETTO:-0400
TZNAME:EDT
DTSTART:20270314T070000
END:DAYLIGHT
BEGIN:STANDARD
TZOFFSETFROM:-0400
TZOFFSETTO:-0500
TZNAME:EST
DTSTART:20271107T060000
END:STANDARD
END:VTIMEZONE
BEGIN:VEVENT
DTSTART;TZID=America/New_York:20260426T101500
DTEND;TZID=America/New_York:20260426T110000
DTSTAMP:20260425T081203
CREATED:20251203T190028Z
LAST-MODIFIED:20260311T161813Z
UID:10028452-1777198500-1777201200@stjohnscalendar.com
SUMMARY:Sermon & Lectionary Discussion Group: Adult Sunday School
DESCRIPTION:Back by popular demand\, this discussion-based class offers the chance to reflect more deeply on the sermon or lectionary readings of the day. Join us as we unpack the insights revealed in worship and grow in faith and fellowship with one another.
URL:https://stjohnscalendar.com/event/sermon-lectionary-discussion-group-adult-sunday-school-2-2/2026-04-26/
LOCATION:Adult Meeting Room\, FL
CATEGORIES:Adult Education,Adult Sunday School 2025-26
END:VEVENT
END:VCALENDAR