BEGIN:VCALENDAR
VERSION:2.0
PRODID:-//St. John&#039;s Episcopal Church - ECPv6.15.14//NONSGML v1.0//EN
CALSCALE:GREGORIAN
METHOD:PUBLISH
X-WR-CALNAME:St. John&#039;s Episcopal Church
X-ORIGINAL-URL:https://stjohnscalendar.com
X-WR-CALDESC:Events for St. John&#039;s Episcopal Church
REFRESH-INTERVAL;VALUE=DURATION:PT1H
X-Robots-Tag:noindex
X-PUBLISHED-TTL:PT1H
BEGIN:VTIMEZONE
TZID:America/New_York
BEGIN:DAYLIGHT
TZOFFSETFROM:-0500
TZOFFSETTO:-0400
TZNAME:EDT
DTSTART:20250309T070000
END:DAYLIGHT
BEGIN:STANDARD
TZOFFSETFROM:-0400
TZOFFSETTO:-0500
TZNAME:EST
DTSTART:20251102T060000
END:STANDARD
BEGIN:DAYLIGHT
TZOFFSETFROM:-0500
TZOFFSETTO:-0400
TZNAME:EDT
DTSTART:20260308T070000
END:DAYLIGHT
BEGIN:STANDARD
TZOFFSETFROM:-0400
TZOFFSETTO:-0500
TZNAME:EST
DTSTART:20261101T060000
END:STANDARD
BEGIN:DAYLIGHT
TZOFFSETFROM:-0500
TZOFFSETTO:-0400
TZNAME:EDT
DTSTART:20270314T070000
END:DAYLIGHT
BEGIN:STANDARD
TZOFFSETFROM:-0400
TZOFFSETTO:-0500
TZNAME:EST
DTSTART:20271107T060000
END:STANDARD
END:VTIMEZONE
BEGIN:VEVENT
DTSTART;TZID=America/New_York:20260326T173000
DTEND;TZID=America/New_York:20260326T203000
DTSTAMP:20260421T074414
CREATED:20260209T203429Z
LAST-MODIFIED:20260324T175640Z
UID:59241-1774546200-1774557000@stjohnscalendar.com
SUMMARY:A Model Seder with Rabbi Paul Sidlofsky
DESCRIPTION:Join us at St. John’s for a special and meaningful evening as Rabbi Paul Sidlofsky of Temple Israel leads us through a model Passover Seder—a ceremonial meal designed to teach and invite participation\, even though Passover itself has not yet begun. \nThis is not a typical dinner\, but a carefully structured and prayerful meal with timed and symbolic moments that unfold at a gentle\, intentional pace. The evening lasts approximately two and a half hours and moves step-by-step through the Seder ceremony\, the shared meal\, and a concluding blessing. \nThis interactive evening offers a unique opportunity to learn the story of the Israelites and to explore traditions that would have been familiar to Jesus and his disciples. The meal will be simple\, the experience will be participatory\, and all ages are welcome (wine will be served). Come ready to listen\, learn\, and linger\, this is a sacred meal meant to be experienced\, not rushed. \nCost: $20/ADULTS\, $10/CHILDREN \nEVENT SOLD OUT
URL:https://stjohnscalendar.com/event/modelseder26/
LOCATION:Alfriend Hall
CATEGORIES:Adult Education,Lent 2026,Parish Life
ORGANIZER;CN="Holly Sinco":MAILTO:holly@saint-john.org
END:VEVENT
END:VCALENDAR