BEGIN:VCALENDAR
VERSION:2.0
PRODID:-//St. John&#039;s Episcopal Church - ECPv6.15.14//NONSGML v1.0//EN
CALSCALE:GREGORIAN
METHOD:PUBLISH
X-WR-CALNAME:St. John&#039;s Episcopal Church
X-ORIGINAL-URL:https://stjohnscalendar.com
X-WR-CALDESC:Events for St. John&#039;s Episcopal Church
REFRESH-INTERVAL;VALUE=DURATION:PT1H
X-Robots-Tag:noindex
X-PUBLISHED-TTL:PT1H
BEGIN:VTIMEZONE
TZID:America/New_York
BEGIN:DAYLIGHT
TZOFFSETFROM:-0500
TZOFFSETTO:-0400
TZNAME:EDT
DTSTART:20250309T070000
END:DAYLIGHT
BEGIN:STANDARD
TZOFFSETFROM:-0400
TZOFFSETTO:-0500
TZNAME:EST
DTSTART:20251102T060000
END:STANDARD
BEGIN:DAYLIGHT
TZOFFSETFROM:-0500
TZOFFSETTO:-0400
TZNAME:EDT
DTSTART:20260308T070000
END:DAYLIGHT
BEGIN:STANDARD
TZOFFSETFROM:-0400
TZOFFSETTO:-0500
TZNAME:EST
DTSTART:20261101T060000
END:STANDARD
BEGIN:DAYLIGHT
TZOFFSETFROM:-0500
TZOFFSETTO:-0400
TZNAME:EDT
DTSTART:20270314T070000
END:DAYLIGHT
BEGIN:STANDARD
TZOFFSETFROM:-0400
TZOFFSETTO:-0500
TZNAME:EST
DTSTART:20271107T060000
END:STANDARD
END:VTIMEZONE
BEGIN:VEVENT
DTSTART;TZID=America/New_York:20260620T153000
DTEND;TZID=America/New_York:20260620T210000
DTSTAMP:20260423T103604
CREATED:20260326T135647Z
LAST-MODIFIED:20260421T183757Z
UID:62921-1781969400-1781989200@stjohnscalendar.com
SUMMARY:Midsummer Sound Bath
DESCRIPTION:Join us for a special evening led by Trine\, a trio of dedicated sound healing practitioners on a mission to bring harmony and well-being through the power of sound. Together\, we will celebrate the long-awaited sun-filled days of summer. We will begin promptly at 6 p.m.\, so we recommend arriving at 5:30 p.m. to set up your space. \nDress comfortably and bring a yoga mat\, pillow\, and blanket. (We suggest cushioned mats as our wood floor is a hard surface. We also highly recommend eye masks – disposable ones will be provided if you do not have your own – as the venue has a few auxiliary lights we cannot turn off. Otherwise\, we will keep the room as dark as possible.) \nIf you are bringing your own chair in lieu of a mat\, please set up on the perimeter to not obscure sound waves. \nBeverages and snacks will be served after the sound bath concludes. Stay for fellowship and conversation. There will be a $15 registration fee to help cover our costs. (Confidential scholarships available upon request). \nClick here to read more about Sound Baths.\nClick here to meet our Sound Practitioners. \nREGISTER HERE\n\nImportant Notes: \n\nBring a *thick* yoga/exercise mat and/or blanket and wear cozy\, warm layered clothes. Bring anything that will help you enter a state of relaxation\, like an eye pillow or eye mask\, a bolster for underneath your knees\, and a neck pillow. You will be fully reclined for this. If you need an accommodation\, please let us know in advance. We will have beverages and snacks afterward.\nYou may bring your own folding chair\, but please set up around the perimeter in order to not block sight lines or sound waves.\nThis venue has auxiliary lights that cannot be turned off. We highly recommended you bring your own eye mask or use one of the disposable ones we will provide for you.
URL:https://stjohnscalendar.com/event/midsummersound2026/
LOCATION:Alfriend Hall
CATEGORIES:Contemplative Spirituality,FP - Events,Front Porch
END:VEVENT
END:VCALENDAR