BEGIN:VCALENDAR
VERSION:2.0
PRODID:-//St. John&#039;s Episcopal Church - ECPv6.15.14//NONSGML v1.0//EN
CALSCALE:GREGORIAN
METHOD:PUBLISH
X-WR-CALNAME:St. John&#039;s Episcopal Church
X-ORIGINAL-URL:https://stjohnscalendar.com
X-WR-CALDESC:Events for St. John&#039;s Episcopal Church
REFRESH-INTERVAL;VALUE=DURATION:PT1H
X-Robots-Tag:noindex
X-PUBLISHED-TTL:PT1H
BEGIN:VTIMEZONE
TZID:America/New_York
BEGIN:DAYLIGHT
TZOFFSETFROM:-0500
TZOFFSETTO:-0400
TZNAME:EDT
DTSTART:20240310T070000
END:DAYLIGHT
BEGIN:STANDARD
TZOFFSETFROM:-0400
TZOFFSETTO:-0500
TZNAME:EST
DTSTART:20241103T060000
END:STANDARD
BEGIN:DAYLIGHT
TZOFFSETFROM:-0500
TZOFFSETTO:-0400
TZNAME:EDT
DTSTART:20250309T070000
END:DAYLIGHT
BEGIN:STANDARD
TZOFFSETFROM:-0400
TZOFFSETTO:-0500
TZNAME:EST
DTSTART:20251102T060000
END:STANDARD
BEGIN:DAYLIGHT
TZOFFSETFROM:-0500
TZOFFSETTO:-0400
TZNAME:EDT
DTSTART:20260308T070000
END:DAYLIGHT
BEGIN:STANDARD
TZOFFSETFROM:-0400
TZOFFSETTO:-0500
TZNAME:EST
DTSTART:20261101T060000
END:STANDARD
END:VTIMEZONE
BEGIN:VEVENT
DTSTART;TZID=America/New_York:20251122T090000
DTEND;TZID=America/New_York:20251122T120000
DTSTAMP:20260424T181034
CREATED:20251112T185812Z
LAST-MODIFIED:20251112T185814Z
UID:51542-1763802000-1763812800@stjohnscalendar.com
SUMMARY:MASH: Munchkins & Spiritual Harmony\, A Small Group for Young Families
DESCRIPTION:We will be hosting our next MASH event on Saturday\, November 22\, from 9-11AM at the Garretson’s house! It will be a brunch potluck\, so please bring a dish to share.\n\nIn addition to food & fellowship\, we will be doing a kid-friendly service project for the Fire Station on Shamrock. The kids can make thank you cards & help make bags of trail mix for the fire fighters. Supplies will be provided for this activity – no need to bring anything! Whoever would like to join in dropping them off is welcome – we will head that way around 11.\n\nThe Garretson’s address is:\n3225 Beaumont Dr\nTallahassee\, FL 32309
URL:https://stjohnscalendar.com/event/mashnov2025/
LOCATION:The Garretsons
CATEGORIES:Children
ATTACH;FMTTYPE=image/jpeg:https://stjohnscalendar.com/wp-content/uploads/2025/11/MASH-Small-Group-1920-x-1080-px.jpg
ORGANIZER;CN="Tyree Jordan":MAILTO:tyree@saint-john.org.
END:VEVENT
END:VCALENDAR