BEGIN:VCALENDAR
VERSION:2.0
PRODID:-//St. John&#039;s Episcopal Church - ECPv6.15.14//NONSGML v1.0//EN
CALSCALE:GREGORIAN
METHOD:PUBLISH
X-WR-CALNAME:St. John&#039;s Episcopal Church
X-ORIGINAL-URL:https://stjohnscalendar.com
X-WR-CALDESC:Events for St. John&#039;s Episcopal Church
REFRESH-INTERVAL;VALUE=DURATION:PT1H
X-Robots-Tag:noindex
X-PUBLISHED-TTL:PT1H
BEGIN:VTIMEZONE
TZID:America/New_York
BEGIN:DAYLIGHT
TZOFFSETFROM:-0500
TZOFFSETTO:-0400
TZNAME:EDT
DTSTART:20250309T070000
END:DAYLIGHT
BEGIN:STANDARD
TZOFFSETFROM:-0400
TZOFFSETTO:-0500
TZNAME:EST
DTSTART:20251102T060000
END:STANDARD
BEGIN:DAYLIGHT
TZOFFSETFROM:-0500
TZOFFSETTO:-0400
TZNAME:EDT
DTSTART:20260308T070000
END:DAYLIGHT
BEGIN:STANDARD
TZOFFSETFROM:-0400
TZOFFSETTO:-0500
TZNAME:EST
DTSTART:20261101T060000
END:STANDARD
BEGIN:DAYLIGHT
TZOFFSETFROM:-0500
TZOFFSETTO:-0400
TZNAME:EDT
DTSTART:20270314T070000
END:DAYLIGHT
BEGIN:STANDARD
TZOFFSETFROM:-0400
TZOFFSETTO:-0500
TZNAME:EST
DTSTART:20271107T060000
END:STANDARD
END:VTIMEZONE
BEGIN:VEVENT
DTSTART;TZID=America/New_York:20260314T090000
DTEND;TZID=America/New_York:20260314T120000
DTSTAMP:20260419T093353
CREATED:20260209T203109Z
LAST-MODIFIED:20260209T203109Z
UID:59239-1773478800-1773489600@stjohnscalendar.com
SUMMARY:Lenten Quiet Day
DESCRIPTION:Step away from the noise of everyday life this Lent and join the St. John Chapter of the Daughters of the King for a Lenten Quiet Day—a gentle morning set apart for rest\, reflection\, and renewal. \nCome for as long as you’re able and shape the morning in the way that best meets your spirit. Offerings include an Anglican Prayer Beads workshop\, a reading room\, quiet prayer in the gardens (weather permitting)\, and silent prayer in Carter Chapel. We will close the morning with an Instructed Holy Eucharist led by Fr. Lonnie Lacy. \nWhether you stay for the whole morning or just a few quiet moments\, all are welcome. \nA full schedule will be shared soon. If you would like to attend the Anglican Prayer Beads workshop\, please register online. \nREGISTER HERE FOR THE ANGLICAN PRAYER BEADS WORKSHOP
URL:https://stjohnscalendar.com/event/lenten-quiet-day26/
LOCATION:Church campus
CATEGORIES:Adult Education,Contemplative Spirituality,Lent 2026
END:VEVENT
END:VCALENDAR