BEGIN:VCALENDAR
VERSION:2.0
PRODID:-//St. John&#039;s Episcopal Church - ECPv6.15.14//NONSGML v1.0//EN
CALSCALE:GREGORIAN
METHOD:PUBLISH
X-WR-CALNAME:St. John&#039;s Episcopal Church
X-ORIGINAL-URL:https://stjohnscalendar.com
X-WR-CALDESC:Events for St. John&#039;s Episcopal Church
REFRESH-INTERVAL;VALUE=DURATION:PT1H
X-Robots-Tag:noindex
X-PUBLISHED-TTL:PT1H
BEGIN:VTIMEZONE
TZID:America/New_York
BEGIN:DAYLIGHT
TZOFFSETFROM:-0500
TZOFFSETTO:-0400
TZNAME:EDT
DTSTART:20250309T070000
END:DAYLIGHT
BEGIN:STANDARD
TZOFFSETFROM:-0400
TZOFFSETTO:-0500
TZNAME:EST
DTSTART:20251102T060000
END:STANDARD
BEGIN:DAYLIGHT
TZOFFSETFROM:-0500
TZOFFSETTO:-0400
TZNAME:EDT
DTSTART:20260308T070000
END:DAYLIGHT
BEGIN:STANDARD
TZOFFSETFROM:-0400
TZOFFSETTO:-0500
TZNAME:EST
DTSTART:20261101T060000
END:STANDARD
BEGIN:DAYLIGHT
TZOFFSETFROM:-0500
TZOFFSETTO:-0400
TZNAME:EDT
DTSTART:20270314T070000
END:DAYLIGHT
BEGIN:STANDARD
TZOFFSETFROM:-0400
TZOFFSETTO:-0500
TZNAME:EST
DTSTART:20271107T060000
END:STANDARD
END:VTIMEZONE
BEGIN:VEVENT
DTSTART;TZID=America/New_York:20260308T101500
DTEND;TZID=America/New_York:20260308T110000
DTSTAMP:20260424T165240
CREATED:20250821T191856Z
LAST-MODIFIED:20260311T161916Z
UID:10028517-1772964900-1772967600@stjohnscalendar.com
SUMMARY:Heroes of the Faith: Adult Sunday School
DESCRIPTION:Each week\, this class highlights one “hero” of the Christian faith or the Episcopal Church. Examples include Thomas Cranmer\, Martin Luther\, John Calvin\, Julian of Norwich\, Augustine of Hippo\, Dietrich Bonhoeffer\, Absalom Jones\, Father Meninger\, and Desmond Tutu. We will explore their biographies\, their major theological or historical contributions\, and select writings that continue to shape our faith today.
URL:https://stjohnscalendar.com/event/heroes-of-the-faith-adult-sunday-school-winter/2026-03-08/
LOCATION:Rutledge Room\, FL
CATEGORIES:Adult Education,Adult Sunday School 2025-26
END:VEVENT
END:VCALENDAR