BEGIN:VCALENDAR
VERSION:2.0
PRODID:-//St. John&#039;s Episcopal Church - ECPv6.15.14//NONSGML v1.0//EN
CALSCALE:GREGORIAN
METHOD:PUBLISH
X-WR-CALNAME:St. John&#039;s Episcopal Church
X-ORIGINAL-URL:https://stjohnscalendar.com
X-WR-CALDESC:Events for St. John&#039;s Episcopal Church
REFRESH-INTERVAL;VALUE=DURATION:PT1H
X-Robots-Tag:noindex
X-PUBLISHED-TTL:PT1H
BEGIN:VTIMEZONE
TZID:America/New_York
BEGIN:DAYLIGHT
TZOFFSETFROM:-0500
TZOFFSETTO:-0400
TZNAME:EDT
DTSTART:20250309T070000
END:DAYLIGHT
BEGIN:STANDARD
TZOFFSETFROM:-0400
TZOFFSETTO:-0500
TZNAME:EST
DTSTART:20251102T060000
END:STANDARD
BEGIN:DAYLIGHT
TZOFFSETFROM:-0500
TZOFFSETTO:-0400
TZNAME:EDT
DTSTART:20260308T070000
END:DAYLIGHT
BEGIN:STANDARD
TZOFFSETFROM:-0400
TZOFFSETTO:-0500
TZNAME:EST
DTSTART:20261101T060000
END:STANDARD
BEGIN:DAYLIGHT
TZOFFSETFROM:-0500
TZOFFSETTO:-0400
TZNAME:EDT
DTSTART:20270314T070000
END:DAYLIGHT
BEGIN:STANDARD
TZOFFSETFROM:-0400
TZOFFSETTO:-0500
TZNAME:EST
DTSTART:20271107T060000
END:STANDARD
END:VTIMEZONE
BEGIN:VEVENT
DTSTART;TZID=America/New_York:20260404T183000
DTEND;TZID=America/New_York:20260404T200000
DTSTAMP:20260425T195659
CREATED:20250711T145516Z
LAST-MODIFIED:20260326T194355Z
UID:48296-1775327400-1775332800@stjohnscalendar.com
SUMMARY:The Great Vigil of Easter
DESCRIPTION:The Great Vigil of Easter is the most important and joyful service of the entire year. Steeped in traditions reaching back to the earliest days of Christianity\, we light the new Easter fire\, recount the stories of God’s saving deeds\, baptize new converts to the faith\, and celebrate the first Eucharist of Easter. \nThis is the brightest jewel of all Christian liturgy\, the climax of the Christian year\, the queen of feasts and seasons\, and the crown of all our earthly worship. You do not want to miss it. \nJoin us in Alfriend Hall following the service for a festive reception! If you would like to help supply tasty nibbles to our Easter Vigil Reception\, click here! \nIncense will be used\, and childcare will be offered\, at this special evening service. \nThis service will be live-streamed – visit our ONLINE WORSHIP page. \n 
URL:https://stjohnscalendar.com/event/greatvigil2026/
LOCATION:Church
CATEGORIES:Holy Week 2026,Online,Worship
ATTACH;FMTTYPE=image/png:https://stjohnscalendar.com/wp-content/uploads/2025/07/2026-Holy-Week-Graphic-7.png
END:VEVENT
END:VCALENDAR