BEGIN:VCALENDAR
VERSION:2.0
PRODID:-//St. John&#039;s Episcopal Church - ECPv6.15.14//NONSGML v1.0//EN
CALSCALE:GREGORIAN
METHOD:PUBLISH
X-WR-CALNAME:St. John&#039;s Episcopal Church
X-ORIGINAL-URL:https://stjohnscalendar.com
X-WR-CALDESC:Events for St. John&#039;s Episcopal Church
REFRESH-INTERVAL;VALUE=DURATION:PT1H
X-Robots-Tag:noindex
X-PUBLISHED-TTL:PT1H
BEGIN:VTIMEZONE
TZID:America/New_York
BEGIN:DAYLIGHT
TZOFFSETFROM:-0500
TZOFFSETTO:-0400
TZNAME:EDT
DTSTART:20250309T070000
END:DAYLIGHT
BEGIN:STANDARD
TZOFFSETFROM:-0400
TZOFFSETTO:-0500
TZNAME:EST
DTSTART:20251102T060000
END:STANDARD
BEGIN:DAYLIGHT
TZOFFSETFROM:-0500
TZOFFSETTO:-0400
TZNAME:EDT
DTSTART:20260308T070000
END:DAYLIGHT
BEGIN:STANDARD
TZOFFSETFROM:-0400
TZOFFSETTO:-0500
TZNAME:EST
DTSTART:20261101T060000
END:STANDARD
BEGIN:DAYLIGHT
TZOFFSETFROM:-0500
TZOFFSETTO:-0400
TZNAME:EDT
DTSTART:20270314T070000
END:DAYLIGHT
BEGIN:STANDARD
TZOFFSETFROM:-0400
TZOFFSETTO:-0500
TZNAME:EST
DTSTART:20271107T060000
END:STANDARD
END:VTIMEZONE
BEGIN:VEVENT
DTSTART;TZID=America/New_York:20260222T160000
DTEND;TZID=America/New_York:20260222T170000
DTSTAMP:20260424T150702
CREATED:20250701T145315Z
LAST-MODIFIED:20260212T175529Z
UID:48070-1771776000-1771779600@stjohnscalendar.com
SUMMARY:Club 45: Calling all 4th & 5th graders!
DESCRIPTION:Weather stopped us from our walk in January\, so we’re getting it back on track this month! On Sunday\, February 22\, we’ll go on a Civil Rights Heritage Walk through Tallahassee. Our capital is full of interesting history that happened just down the street from St. John’s! Join us as we learn more about the fight for civil rights in Tallahassee and how we can learn from our history. \nThis is always an enjoyable and enlightening experience for the children and adults. Feel free to join us! All 4th and 5th graders are invited to bring a friend \nThe 1.7 mile route is linked below. Please be sure to have your 4th or 5th grader wear comfortable walking shoes. We will be leaving shortly after 4pm\, so please arrive on time (or a little early). We are aiming to be back by 5pm (maybe 5:15) with a snack and drink available to go. Click here for the route. \nClub 45 is a monthly gathering for 4th and 5th graders. We meet on the 4th or 5th Sunday of the month to learn about God’s love for us and our neighbors! The theme varies monthly. \nCheck out the full 2025-26 Schedule below: \n\nMarch 29: Easter Eggs & Stations of the Cross\nApril 26: Celebrating Spring
URL:https://stjohnscalendar.com/event/club45feb26/
LOCATION:Eve’s Garden
CATEGORIES:Children
ORGANIZER;CN="Tyree Jordan":MAILTO:tyree@saint-john.org.
END:VEVENT
END:VCALENDAR