BEGIN:VCALENDAR
VERSION:2.0
PRODID:-//St. John&#039;s Episcopal Church - ECPv6.15.14//NONSGML v1.0//EN
CALSCALE:GREGORIAN
METHOD:PUBLISH
X-WR-CALNAME:St. John&#039;s Episcopal Church
X-ORIGINAL-URL:https://stjohnscalendar.com
X-WR-CALDESC:Events for St. John&#039;s Episcopal Church
REFRESH-INTERVAL;VALUE=DURATION:PT1H
X-Robots-Tag:noindex
X-PUBLISHED-TTL:PT1H
BEGIN:VTIMEZONE
TZID:America/New_York
BEGIN:DAYLIGHT
TZOFFSETFROM:-0500
TZOFFSETTO:-0400
TZNAME:EDT
DTSTART:20240310T070000
END:DAYLIGHT
BEGIN:STANDARD
TZOFFSETFROM:-0400
TZOFFSETTO:-0500
TZNAME:EST
DTSTART:20241103T060000
END:STANDARD
BEGIN:DAYLIGHT
TZOFFSETFROM:-0500
TZOFFSETTO:-0400
TZNAME:EDT
DTSTART:20250309T070000
END:DAYLIGHT
BEGIN:STANDARD
TZOFFSETFROM:-0400
TZOFFSETTO:-0500
TZNAME:EST
DTSTART:20251102T060000
END:STANDARD
BEGIN:DAYLIGHT
TZOFFSETFROM:-0500
TZOFFSETTO:-0400
TZNAME:EDT
DTSTART:20260308T070000
END:DAYLIGHT
BEGIN:STANDARD
TZOFFSETFROM:-0400
TZOFFSETTO:-0500
TZNAME:EST
DTSTART:20261101T060000
END:STANDARD
END:VTIMEZONE
BEGIN:VEVENT
DTSTART;TZID=America/New_York:20251221T170000
DTEND;TZID=America/New_York:20251221T190000
DTSTAMP:20260424T182718
CREATED:20251209T154244Z
LAST-MODIFIED:20251209T154246Z
UID:53363-1766336400-1766343600@stjohnscalendar.com
SUMMARY:Christmas Dinner
DESCRIPTION:You’re invited to a joyful Christmas Dinner celebrating love\, community\, and belonging! \nJoin us as we gather with our LGBTQA+ parishioners\, friends\, and allies for a festive evening filled with good food\, warm conversation\, and holiday cheer. This is a space where everyone is welcome\, affirmed\, and embraced—just as you are. \nCome share a meal\, make new connections\, and experience the spirit of Christmas in a community that celebrates Deep Roots\, True Belonging\, and Abundant Grace. We can’t wait to celebrate with you! Dinner will be at the Garretsons’ Home. Contact Jen Garretson (jenlgarretson@gmail.com) or Alison Dillehay (alisondillehay@gmail.com) for details.
URL:https://stjohnscalendar.com/event/christmasdinner2025/
LOCATION:The Garretsons
CATEGORIES:Parish Life
ATTACH;FMTTYPE=image/jpeg:https://stjohnscalendar.com/wp-content/uploads/2025/12/Modern-Illustrative-Christmas-Market-Event-Flyer-Presentation.jpg
ORGANIZER;CN="Jen Garretson":MAILTO:jenlgarretson@gmail.com
END:VEVENT
END:VCALENDAR