BEGIN:VCALENDAR
VERSION:2.0
PRODID:-//St. John&#039;s Episcopal Church - ECPv6.15.14//NONSGML v1.0//EN
CALSCALE:GREGORIAN
METHOD:PUBLISH
X-WR-CALNAME:St. John&#039;s Episcopal Church
X-ORIGINAL-URL:https://stjohnscalendar.com
X-WR-CALDESC:Events for St. John&#039;s Episcopal Church
REFRESH-INTERVAL;VALUE=DURATION:PT1H
X-Robots-Tag:noindex
X-PUBLISHED-TTL:PT1H
BEGIN:VTIMEZONE
TZID:America/New_York
BEGIN:DAYLIGHT
TZOFFSETFROM:-0500
TZOFFSETTO:-0400
TZNAME:EDT
DTSTART:20250309T070000
END:DAYLIGHT
BEGIN:STANDARD
TZOFFSETFROM:-0400
TZOFFSETTO:-0500
TZNAME:EST
DTSTART:20251102T060000
END:STANDARD
BEGIN:DAYLIGHT
TZOFFSETFROM:-0500
TZOFFSETTO:-0400
TZNAME:EDT
DTSTART:20260308T070000
END:DAYLIGHT
BEGIN:STANDARD
TZOFFSETFROM:-0400
TZOFFSETTO:-0500
TZNAME:EST
DTSTART:20261101T060000
END:STANDARD
BEGIN:DAYLIGHT
TZOFFSETFROM:-0500
TZOFFSETTO:-0400
TZNAME:EDT
DTSTART:20270314T070000
END:DAYLIGHT
BEGIN:STANDARD
TZOFFSETFROM:-0400
TZOFFSETTO:-0500
TZNAME:EST
DTSTART:20271107T060000
END:STANDARD
END:VTIMEZONE
BEGIN:VEVENT
DTSTART;TZID=America/New_York:20260215T173000
DTEND;TZID=America/New_York:20260215T183000
DTSTAMP:20260424T234413
CREATED:20250710T175742Z
LAST-MODIFIED:20260121T192850Z
UID:48240-1771176600-1771180200@stjohnscalendar.com
SUMMARY:Scripture & Song: A Choral Evensong at Epiphany's End
DESCRIPTION:Join us on Sunday\, February 15 at 5:30 pm for Choral Evensong\, a service rooted in the Anglican tradition and drawn directly from the Book of Common Prayer. Emerging in the 16th century as the sung evening office of the Church of England\, Choral Evensong weaves together scripture\, psalms\, canticles\, and prayers\, offered on behalf of the whole community. This contemplative liturgy is sung by the St. John’s Adult Choir and the choristers of the Choir School\, featuring music by Josef Rheinberger\, Martin Neary\, Cecilia McDowall\, and Charles Wood. All are welcome to experience this transcendent service at the close of the Epiphany season.
URL:https://stjohnscalendar.com/event/choral-evensong/
LOCATION:Church
CATEGORIES:Music,Worship
END:VEVENT
END:VCALENDAR