BEGIN:VCALENDAR
VERSION:2.0
PRODID:-//St. John&#039;s Episcopal Church - ECPv6.15.14//NONSGML v1.0//EN
CALSCALE:GREGORIAN
METHOD:PUBLISH
X-WR-CALNAME:St. John&#039;s Episcopal Church
X-ORIGINAL-URL:https://stjohnscalendar.com
X-WR-CALDESC:Events for St. John&#039;s Episcopal Church
REFRESH-INTERVAL;VALUE=DURATION:PT1H
X-Robots-Tag:noindex
X-PUBLISHED-TTL:PT1H
BEGIN:VTIMEZONE
TZID:America/New_York
BEGIN:DAYLIGHT
TZOFFSETFROM:-0500
TZOFFSETTO:-0400
TZNAME:EDT
DTSTART:20250309T070000
END:DAYLIGHT
BEGIN:STANDARD
TZOFFSETFROM:-0400
TZOFFSETTO:-0500
TZNAME:EST
DTSTART:20251102T060000
END:STANDARD
BEGIN:DAYLIGHT
TZOFFSETFROM:-0500
TZOFFSETTO:-0400
TZNAME:EDT
DTSTART:20260308T070000
END:DAYLIGHT
BEGIN:STANDARD
TZOFFSETFROM:-0400
TZOFFSETTO:-0500
TZNAME:EST
DTSTART:20261101T060000
END:STANDARD
BEGIN:DAYLIGHT
TZOFFSETFROM:-0500
TZOFFSETTO:-0400
TZNAME:EDT
DTSTART:20270314T070000
END:DAYLIGHT
BEGIN:STANDARD
TZOFFSETFROM:-0400
TZOFFSETTO:-0500
TZNAME:EST
DTSTART:20271107T060000
END:STANDARD
END:VTIMEZONE
BEGIN:VEVENT
DTSTART;TZID=America/New_York:20260104T113000
DTEND;TZID=America/New_York:20260104T120000
DTSTAMP:20260424T164003
CREATED:20251214T142318Z
LAST-MODIFIED:20251218T175837Z
UID:53758-1767526200-1767528000@stjohnscalendar.com
SUMMARY:Adult Formation Open House
DESCRIPTION:Curious about Adult Sunday School at St. John’s? Join us for an Adult Formation Open House and discover what’s ahead for Winter/Spring 2026. This season\, we’ll explore Sunday’s liturgy\, learn how to Speak God\, dive into the stories of Heroes of Faith\, and even take a thoughtful look at that one place we hope we never go. \nCome meet our teachers\, hear about each course\, and pick up the updated class schedule. Whether you’re new to adult formation or looking to go deeper\, this is a wonderful opportunity to find a class that speaks to your faith and curiosity.
URL:https://stjohnscalendar.com/event/adult-formation-open-house/
LOCATION:Alfriend Hall
CATEGORIES:Adult Education,Adult Sunday School 2025-26
ATTACH;FMTTYPE=image/png:https://stjohnscalendar.com/wp-content/uploads/2025/12/Adult-Formation-Open-House-2026-1.png
END:VEVENT
END:VCALENDAR